BEGIN:VCALENDAR
VERSION:2.0
PRODID:-//CROSS 中性子科学センター（2019年アーカイブ） - ECPv5.14.1//NONSGML v1.0//EN
CALSCALE:GREGORIAN
METHOD:PUBLISH
X-WR-CALNAME:CROSS 中性子科学センター（2019年アーカイブ）
X-ORIGINAL-URL:https://archive2019nt.cross.or.jp
X-WR-CALDESC:CROSS 中性子科学センター（2019年アーカイブ） のイベント
BEGIN:VTIMEZONE
TZID:Asia/Tokyo
BEGIN:STANDARD
TZOFFSETFROM:+0900
TZOFFSETTO:+0900
TZNAME:JST
DTSTART:20240101T000000
END:STANDARD
END:VTIMEZONE
BEGIN:VEVENT
DTSTART;TZID=Asia/Tokyo:20241018T090000
DTEND;TZID=Asia/Tokyo:20241018T180000
DTSTAMP:20260426T035126
CREATED:20240411T045825Z
LAST-MODIFIED:20241016T075753Z
UID:26171-1729242000-1729274400@archive2019nt.cross.or.jp
SUMMARY:J-PARC Workshop 2024\, Deuterium Science Entering an Advanced Phase
DESCRIPTION:Objective of the meeting\nDeuterium-labeled compounds are widely used in isotope-sensitive analytical methods such as neutron scattering and NMR\, and to enhance the functionality of pharmaceuticals\, liquid crystal materials\, organic ELs\, and optical fibers. In neutron scattering studies\, deuterium labeling is an important technique for controlling the scattering contrast and/or reduce the neutron incoherent scattering background of hydrogen. In this workshop\, we will present and discuss cutting-edge and pioneering research results using deuterium-labeled functional structural materials\, and also focus on the growth strategy of deuterium labeling technology for neutron science research at J-PARC Center. The goal is to stimulate more and more deuterium-related research at various institutes and to develop neutron science research led by deuterium-labeled molecules from around the world. \nDate and time\nOctober 18th\, 2024\, 9:00～18:00 \nVenue\nThe Library Hall\, Mito Campus\, Ibaraki University \nProgram (tentative)：Program and Abstract\n\n\n\n8:30-\nReception\n\n\n9:00-9:10\nOpening & Introduction of J-PARC MLF\nT. Otomo (KEK/J-PARC Center)\n\n\n9:10-9:15\nIntroduction of Quantum Beam Science at Ibaraki University\nS. Mori (Ibaraki University)\n\n\nPlenary Session 1（Zoom）\nChair：M. Sugiyama (Kyoto univ.)\n\n\n9:15-10:00\nState of the art of biological deuteration at the Institute Laue-Langevin\nFrank Gabel (ILL)\n\n\nGroup Photo & Coffee Break (10:00-10:20)\n\n\nScience Session 1 _Biology\nChair：T. Ikegami (Yokohama city univ.)\n\n\n10:20-10:50\nExploiting deuteration in BioSANS\nAnne Materl (ILL)\n\n\n10:50-11:20\nProtein deuteration in the deuteration laboratory of J-PARC MLF\nT. Oda (J-PARC Center)\n\n\nLunch (11:20-12:20) & Poster session (core time)\n\n\n11:20-12:20\nPoster-01: Yao Chen (ISIS Facility)\, Deuteration Unveils the Adsorption and Self-Assembly Mechanisms of Polymeric Surfactants\nPoster-02:  Kazuhiro Akutsu\, Misaki Ueda (CROSS)\, Chemical Deuteration Activities at CROSS Laboratory\nPoster-03:  Chie Shibazaki (J-PARC)\, Chemical Deuteration of Mono- and Di- Amino Acids for the Development of New Biopolymer Materials\n\n\n\nPlenary Session 2（Zoom）\nChair：H. Sajiki (Gifu Pharm. Univ.)\n\n\n12:20-13:05\nChasing the miracles of Science with Hydrogen Isotopes\nVolker Derdau (Sanofi Germany)\n\n\nScience Session 2 _Featured Research from Overseas\nChair: M. Tachikawa (Yokohama city univ.)\n\n\n13:20-14:00\nSynthetic Biology and Flow Chemistry- Newly funded activities at the National Deuteration Facility for expanding the range of labelled molecules and their applications\nT. A. Darwish (ANSTO-NDF)\n\n\n14:00-14:40\nISIS Deuteration Facility and its influencing to ISIS neutron science\nPeixun Li (ISIS Deuteration Facility)\n\n\n14:40-15:20\nCatalytic isotopic labeling\nWu Li (Wuhan Univ.)\n\n\nCoffee Break (15:20-15:40)\n\n\nScience Session_3_Industry (Japanese Session)\nChair： K.Akutsu (CROSS)\n\n\n15:40-15:45\n Introduction of Industry Session\n K. Akutsu (CROSS)\n\n\n15:45-16:00\nHeavy water recycling using waste power generation \nM. Yoshida (Asahi Pretec)\n\n\nScience Session_4_Chemistry\nChair：H. Sugiyama (CROSS)\n\n\n16:10-16:40\nA PIMD study of the hydrogen sulfate-formate proton-bound dimer\nT. Udagawa (Gifu university)\n\n\n16:40-17:10\nA comparison from the perspectives of coordination structures\, interfaces\, and bulk extraction phases: fluorous and organic extraction systems\nY. Ueda (JAEA)\n\n\nFree Discussion\nChair：M. Adachi (QST)\n\n\n17:15-17:45\n Recent activities of D-labeling in Japan\nT. Ikawa\,H. Sajiki (Gifu Pharm. Univ.)\n\n\nSummary\n\n\n17:45-17:55\nSummary talk & Closing\nM. Shibayama (CROSS)\n\n\nBanquet (19:00-\, @Mito)\n\n\n\nRegistration\n\n\n\n“J-PARC Workshop 2024\,Deuterium Science Entering an Advanced Phase” registration form\n\n\n  \n Deadline for the Workshop：October 16th\n Deadline for the Banqet : October 14th  \n※Registration fee is free.\nNote: Photos taken at the workshop may be used on our website for publicity purposes. Please understand this in advance.\n \nOrganizing Institution\nOrganizer \n Japan Proton Accelerator Research Complex (J-PARC) Center\, https://j-parc.jp/c/en/index.html \nCo-sponsored by \n Comprehensive Research Organization for Science and Society (CROSS)\,https://neutron.cross.or.jp/en/\n J-PARC MLF Users Society\n Institute for Integrated Radiation and Nuclear Science\, Kyoto University \nSponsored by \n Research and Education Center for Atomic Sciences\, Ibaraki University \n The Japanese Society for Process Chemistry \nThis workshop is supported by Ichimura Foundation for New Technology. \nOrganizing Committee\n＜Japan Atomic Energy Agency (JAEA)\, High Energy Accelerator Research Organization (KEK)\, J-PARC Center＞\n   T. Otomo (Chair)\, H. Aoki\, T. Oku\, T. Oda\, Y. Kawakita\, C. Shibazaki\, M. Nakamura \n＜CROSS＞\n  K. Akutsu\, M. Ueda\, K. Kusaka\, M. Shibayama\, H. Sugiyama \n＜National Institute for Quantum Science and Technology (QST)＞\n  M. Adachi \n＜Gifu Pharmaceutical University＞\n  H. Sajiki (Program Committee Chair)\, T. Ikawa \n＜Kyoto University＞\n  M. Sugiyama \n＜Yokohama City University＞\n   M. Tachikawa \n＜Ibaraki University＞\n  S. Mori \n \nLocal Organizing Committee \n \n＜Japan Atomic Energy Agency (JAEA)\, High Energy Accelerator Research Organization (KEK)\, J-PARC Center＞\n  K.Nemoto\, Y.Ohuchi \n＜Gifu Pharmaceutical University＞\n  C. Morishige \n＜CROSS＞\n  K.Ouchi \nJ-PARC Workshop 2024 Code of Conduct\nThe J-PARC Workshop 2024 is a workshop for students\, young researchers\, and full-time researchers involved in deuterium science to discuss and interact with each other.\nWe invite participants involved in deuterium science from Japan and abroad to deepen mutual exchanges and to produce new research findings.　\nWe request that all participants in this workshop be respectful and courteous to other participants in accordance with the “Code of Conduct for Scientists”  set forth by the Science Council of Japan.\nAttendance at the Workshop implies consent to abide by this code of conduct.\n \nPhotography & Video\nParticipants are required to respect the privacy of other participants.\nIt is forbidden for participants to take any photos or videos without permission.\nUnless the presenter has confirmed their express prior consent\, participants are not permitted to take photos or videos of the scientific material being shown.\n \nProtocol for dealing with violations of this policy\nBased on the nature of the violation\, the local organizer will determine the appropriate action.\nWhere a violation of the policy is deemed to have occurred\, a record will also be kept to that effect within J-PARC Workshop organizing committee.\n \nPast workshops and meetings\n1） J-PARC Workshop “Neutron Biology for Next Generation”\, March 22nd-23rd\, 2017\, Ibaraki Quantum Beam Research Center     Tokai\, Japan.\n    Summary: JAEA-Review 2017-024\, J-PARC 17-03\, DOI:10.11484/jaea-review-2017-024 \n2） J-PARC Workshop “Deuterated Materials Enhancing Neutron Science for Structure Function Applications”; October \n    19th-20th\, 2017\, Ibaraki Quantum Beam Research Center\, Tokai\, Japan.\n    Web site: https://neutron.cross.or.jp/ja/events/v17015/\n    Summary: JAEA-Review 2018-002\, J-PARC 17-06\, DOI:10.11484/jaea-review-2018-002 \n3） Meeting on Deuterium Labeled Compound for Neutron Science\, November 15th\, 2018\, Ibaraki Quantum Beam     Research Center\, Tokai\, Japan.\n    Web site: https://neutron.cross.or.jp/ja/events/v18019/ \n4） J-PARC Workshop “Deuterium Labeling Study for Neutron Science”\, January 15th-16th\, 2019\, Ibaraki Quantum Beam \n    Research Center\, Tokai\, Japan.\n    Web site: https://neutron.cross.or.jp/ja/events/190115-16/ \n5）J-PARC Workshop 2022\, ”Deuterium Science Entering a New Phase”\, January 19th-20th\, 2023\, Ibaraki Quantum Beam \n    Research Center\, Tokai\, Japan.\n    Web site: https://neutron.cross.or.jp/ja/events/20230119-20-2/ \nContact\nKazuhiro Akutsu (CROSS)\n    TEL: 029-219-5300 \n    E-mail: k_akutsu[at]cross.or.jp　＊Please replace [at] with @.
URL:https://archive2019nt.cross.or.jp/events/20241018/
LOCATION:The Library Hall\, Mito Campus\, Ibaraki University\, Bunkyo\, Mito\, Ibaraki\, 3108512\, 日本
CATEGORIES:Workshop
ATTACH;FMTTYPE=image/png:https://archive2019nt.cross.or.jp/wp/wp-content/uploads/2018/01/noimg.png
END:VEVENT
END:VCALENDAR