BEGIN:VCALENDAR
VERSION:2.0
PRODID:-//CROSS 中性子科学センター（2019年アーカイブ） - ECPv5.14.1//NONSGML v1.0//EN
CALSCALE:GREGORIAN
METHOD:PUBLISH
X-WR-CALNAME:CROSS 中性子科学センター（2019年アーカイブ）
X-ORIGINAL-URL:https://archive2019nt.cross.or.jp
X-WR-CALDESC:CROSS 中性子科学センター（2019年アーカイブ） のイベント
BEGIN:VTIMEZONE
TZID:Asia/Tokyo
BEGIN:STANDARD
TZOFFSETFROM:+0900
TZOFFSETTO:+0900
TZNAME:JST
DTSTART:20240101T000000
END:STANDARD
END:VTIMEZONE
BEGIN:VEVENT
DTSTART;TZID=Asia/Tokyo:20241119T090000
DTEND;TZID=Asia/Tokyo:20241119T200000
DTSTAMP:20260426T035154
CREATED:20240826T074240Z
LAST-MODIFIED:20241114T020204Z
UID:27347-1732006800-1732046400@archive2019nt.cross.or.jp
SUMMARY:第11回　放射光・中性子の連携利用に向けた合同研修会「小角散乱測定研修会」
DESCRIPTION:概要\n「量子ビーム」と呼ばれる放射光、中性子の共同利用実験の普及により、これらを連携的に利用した研究が産業分野でも広がってきています。この量子ビーム連携利用の産業利用成果の拡大・深化を促進するためには、量子ビームそれぞれの特徴の把握が重要です。今回、量子ビーム施設の産業利用ユーザーの方に、実習を通して放射光、中性子それぞれの測定技術の特徴を把握していただくことで、効果的な連携的利用方法の検討の一助とすることを目的とした施設横断合同研修会を開催します。\n本研修会は、施設横断的な利用促進と人材育成並びに標準化活動の一環として、総合科学研究機構（CROSS）と高輝度光科学研究センター（JASRI）が協力して実施します。\n　今回は、小角散乱測定によるメゾスコピックなサイズ領域の構造評価技術をテーマとし、SPring-8 BL19B2において「小角X線散乱（SAXS）測定」、J-PARC BL15（大観）において「小角中性子散乱（SANS）測定」の測定実習を行う予定です。これらの実習を通し、X線、中性子の散乱断面積の違いを活用した構造解析が可能となるというSAXS、SANS連携利用の利点を参加者に理解していただくことを目的としています。 \n　 ＊過去の合同研修会については、こちらをご覧ください。 \n日時・講義・実習場所\n【SPring-8】    2024年11月19日（火）9：00～20：00（実習完了次第終了）\n　　　　　　　　SPring-8中央管理棟　上坪記念講堂、蓄積リング棟 BL19B2\n　 　　　　　　   http://www.spring8.or.jp/ja/about_us/access/campus_map/\n　　　　　　　　http://www.spring8.or.jp/ja/about_us/access/ \n【J-PARC MLF】 2025年2月18日（火）9：00～（実習完了次第終了）\n　　　　　　　    AYA’S LABORATORY量子ビーム研究センター（AQBRC）\n                J-PARC MLF中性子小角・広角散乱装置「大観」（BL15）\n　　　　　　　　https://mlfinfo.jp/ja/access.html \nプログラム\n詳細は、こちらよりご確認ください。 \n参加申込　※申込を締め切りました。\n第11回放射光・中性子の連携利用に向けた合同研修会「小角散乱測定研修会」参加申込フォームよりお申込みください。 \n申込締切 \n2024年10月11日（金）12：00　＊参加費無料 \n参加対象 \n・放射光、中性子を連携的に利用した小角散乱実験を検討中の方\n・放射光・中性子の小角散乱実験の未経験者、または放射光または中性子の小角散乱実験が未経験の方\n・放射光・中性子で開催する両研修会に参加出来る方\n　なお、応募者多数の場合、実習参加をお断りする場合がありますのでご了承ください。 \n募集定員 \n最大4グループ（1グループ3名以内） \n運営組織\n主催\n公益財団法人高輝度光科学研究センター（JASRI)\n一般財団法人総合科学研究機構（CROSS）中性子科学センター \n共催\nJ-PARCセンター（JAEA＆KEK） \n後援\nSPRUC放射光・中性子連携利用研究会\nSPring-8利用推進協議会（IUSS）\n中性子産業利用推進協議会（IUSNA）
URL:https://archive2019nt.cross.or.jp/events/20241119/
ATTACH;FMTTYPE=image/png:https://archive2019nt.cross.or.jp/wp/wp-content/uploads/2018/01/noimg.png
END:VEVENT
END:VCALENDAR