BEGIN:VCALENDAR
VERSION:2.0
PRODID:-//CROSS 中性子科学センター（2019年アーカイブ） - ECPv5.14.1//NONSGML v1.0//EN
CALSCALE:GREGORIAN
METHOD:PUBLISH
X-WR-CALNAME:CROSS 中性子科学センター（2019年アーカイブ）
X-ORIGINAL-URL:https://archive2019nt.cross.or.jp
X-WR-CALDESC:CROSS 中性子科学センター（2019年アーカイブ） のイベント
BEGIN:VTIMEZONE
TZID:Asia/Tokyo
BEGIN:STANDARD
TZOFFSETFROM:+0900
TZOFFSETTO:+0900
TZNAME:JST
DTSTART:20250101T000000
END:STANDARD
END:VTIMEZONE
BEGIN:VEVENT
DTSTART;TZID=Asia/Tokyo:20250131T100000
DTEND;TZID=Asia/Tokyo:20250131T172000
DTSTAMP:20260426T035105
CREATED:20241029T233436Z
LAST-MODIFIED:20241029T233436Z
UID:28107-1738317600-1738344000@archive2019nt.cross.or.jp
SUMMARY:マテリアル戦略総合シンポジウム2025
DESCRIPTION:開催目的\n我が国全体でマテリアル革新力強化の取組が強力に一体的かつ迅速に進めることが求められていることから、本シンポジウムでは、データ駆動型マテリアル研究を促進するため、文部科学省の取り組みと成果を紹介するとともに、政府全体で取り組む「マテリアル DX プラットフォーム構想」に係わる情報発信を実施する。 \n開催日\n2025年1月31日 (金) 10：00〜17：20(予定) \n開催場所\n東京ビッグサイト 会議棟 1 階 レセプションホール A･B\n※Web 配信併用ハイブリッド開催 \nURL\n\nhttps://nanonet.mext.go.jp/page/matiss_2025.html\n\n共催\n文部科学省 マテリアル先端リサーチインフラ（ARIM）\n文部科学省 データ創出・活用型マテリアル研究開発プロジェクト（DxMT）\n国立研究開発法人 物質・材料研究機構 データ中核拠点事業（MDPF） \n後援\n内閣府
URL:https://archive2019nt.cross.or.jp/events/20250131/
LOCATION:東京ビッグサイト 会議棟 1 階 レセプションホール A･B\, 有明3-11-1\, 江東区\, 東京都\, 135-0063\, 日本
CATEGORIES:シンポジウム
ATTACH;FMTTYPE=image/png:https://archive2019nt.cross.or.jp/wp/wp-content/uploads/2018/01/noimg.png
END:VEVENT
END:VCALENDAR