BEGIN:VCALENDAR
VERSION:2.0
PRODID:-//CROSS 中性子科学センター（2019年アーカイブ） - ECPv5.14.1//NONSGML v1.0//EN
CALSCALE:GREGORIAN
METHOD:PUBLISH
X-WR-CALNAME:CROSS 中性子科学センター（2019年アーカイブ）
X-ORIGINAL-URL:https://archive2019nt.cross.or.jp
X-WR-CALDESC:CROSS 中性子科学センター（2019年アーカイブ） のイベント
BEGIN:VTIMEZONE
TZID:Asia/Tokyo
BEGIN:STANDARD
TZOFFSETFROM:+0900
TZOFFSETTO:+0900
TZNAME:JST
DTSTART:20210101T000000
END:STANDARD
END:VTIMEZONE
BEGIN:VEVENT
DTSTART;TZID=Asia/Tokyo:20210316T103000
DTEND;TZID=Asia/Tokyo:20210316T170000
DTSTAMP:20260426T034005
CREATED:20210205T010713Z
LAST-MODIFIED:20210205T010713Z
UID:15692-1615890600-1615914000@archive2019nt.cross.or.jp
SUMMARY:2020年度　液体・非晶質研究会
DESCRIPTION:テーマ\n製品の中の液体・非晶質 \n趣旨\n　2019年のノーベル化学賞は、リチウムイオン電池の開発に対して旭化成フェローの吉野彰氏に授与されました。  今年度の研究会では、電池やアモルファス材料中の液体・非晶質の研究を取り上げます。また、J-PARC MLF装置として、イメージングと反射率測定の最近の開発と性能について紹介します。 \n主催\nJ-PARC MLF利用者懇談会 \n共催\n中性子産業利用推進協議会\n茨城県中性子利用研究会\n一般財団法人 総合科学研究機構（CROSS）中性子科学センター
URL:https://archive2019nt.cross.or.jp/events/210316/
LOCATION:Web形式
CATEGORIES:研究会
ATTACH;FMTTYPE=image/png:https://archive2019nt.cross.or.jp/wp/wp-content/uploads/2018/01/noimg.png
END:VEVENT
END:VCALENDAR