BEGIN:VCALENDAR
VERSION:2.0
PRODID:-//CROSS 中性子科学センター（2019年アーカイブ） - ECPv5.14.1//NONSGML v1.0//EN
CALSCALE:GREGORIAN
METHOD:PUBLISH
X-WR-CALNAME:CROSS 中性子科学センター（2019年アーカイブ）
X-ORIGINAL-URL:https://archive2019nt.cross.or.jp
X-WR-CALDESC:CROSS 中性子科学センター（2019年アーカイブ） のイベント
BEGIN:VTIMEZONE
TZID:Asia/Tokyo
BEGIN:STANDARD
TZOFFSETFROM:+0900
TZOFFSETTO:+0900
TZNAME:JST
DTSTART:20210101T000000
END:STANDARD
END:VTIMEZONE
BEGIN:VEVENT
DTSTART;TZID=Asia/Tokyo:20211006T100000
DTEND;TZID=Asia/Tokyo:20211006T173000
DTSTAMP:20260426T034111
CREATED:20210806T062640Z
LAST-MODIFIED:20210806T073400Z
UID:17926-1633514400-1633541400@archive2019nt.cross.or.jp
SUMMARY:　第12回材料系ワークショップ　～マテリアルズインフォマティクスにおける「富岳」の活用に向けて～
DESCRIPTION:開催趣旨：\n　本ワークショップでは、企業や研究機関などの材料系分野の研究・開発者を対象に、シミュレーションを行う際に有益となる情報の提供を行っています。 \n　2021年3月9日に共用を開始したスーパーコンピュータ「富岳」は、世界のスーパーコンピュータに関するランキングの「TOP500」、「HPCG（High Performance Conjugate Gradient）」、「HPL-AI」、「Graph500」で、3期連続世界第1位を獲得し、広い分野での利用が進んでいます。\n材料系分野では、この「富岳」の優れた性能を活用し、シミュレーションだけではなく、マテリアルズインフォマティクス（MI）を活用した研究事例が増えています。　そこで今回は、「富岳」成果創出加速プログラムにおける材料系分野の研究・開発の進捗として、シミュレーションとともにMIと関連した研究の報告を行います。また、JSTプロジェクトや企業、大学でのMI研究の取り組みや成果創出の事例を紹介します。パネルディスカッションではMIを推進するための計算データのマネジメントなどについて議論します。\n　「富岳」の利用をお考えの企業の方に向け、5月より開始された「富岳」における、新しい有償利用制度、また、産業界の方の利用を加速する新しい伴走型利用支援の紹介も行います。\n併せて、企業や研究機関において、HPCIシステムをご利用頂くための申請手続きや支援サービスなどについての利用相談を行いますので、遠慮なくお申し出ください。 \n　なお、このワークショップは、スーパーコンピューティング技術産業応用協議会(産応協/ICSCP)と材料系の「富岳」成果創出加速プログラム５課題の共催、他の材料系シミュレーションに関係する各機関の協賛をいただき、各機関と連携してこの分野の振興を目指しています。 \n主催：\n一般財団法人 高度情報科学技術研究機構（RIST) \n共催：\nスーパーコンピューティング技術産業応用協議会（産応協/ICSCP）\n「富岳」成果創出加速プログラム課題\n　「量子物質の創発と機能のための基礎科学 ―「富岳」と最先端実験の密連携による革新的強相関電子科学」\n同「省エネルギー次世代半導体デバイス開発のための量子論マルチシミュレーション」\n同「次世代二次電池・燃料電池開発によるET革命に向けた計算・データ材料科学研究」\n同「環境適合型機能性化学品」\n同「大規模計算とデータ駆動手法による高性能永久磁石の開発」 \n協賛：（予定）\n国立大学法人東京工業大学物質・情報卓越教育院\n計算物質科学協議会\n元素戦略プロジェクト＜研究拠点形成型＞\n公益財団法人高輝度光科学研究センター(JASRI)\nSPring-8利用推進協議会\n一般財団法人総合科学研究機構（CROSS）\n日本材料学会\n公益財団法人計算科学振興財団(FOCUS) \nお問い合わせ先：\n高度情報科学技術研究機構 ワークショップ担当\nE-mail：hpci-workshop[-at-]hpci-office.jp （[-at-]は＠に置き換えてください。）
URL:https://archive2019nt.cross.or.jp/events/211006/
LOCATION:Web形式
CATEGORIES:ワークショップ
ATTACH;FMTTYPE=image/png:https://archive2019nt.cross.or.jp/wp/wp-content/uploads/2018/01/noimg.png
END:VEVENT
END:VCALENDAR