BEGIN:VCALENDAR
VERSION:2.0
PRODID:-//CROSS 中性子科学センター（2019年アーカイブ） - ECPv5.14.1//NONSGML v1.0//EN
CALSCALE:GREGORIAN
METHOD:PUBLISH
X-WR-CALNAME:CROSS 中性子科学センター（2019年アーカイブ）
X-ORIGINAL-URL:https://archive2019nt.cross.or.jp
X-WR-CALDESC:CROSS 中性子科学センター（2019年アーカイブ） のイベント
BEGIN:VTIMEZONE
TZID:Asia/Tokyo
BEGIN:STANDARD
TZOFFSETFROM:+0900
TZOFFSETTO:+0900
TZNAME:JST
DTSTART:20220101T000000
END:STANDARD
END:VTIMEZONE
BEGIN:VEVENT
DTSTART;VALUE=DATE:20220228
DTEND;VALUE=DATE:20220301
DTSTAMP:20260426T035252
CREATED:20211128T232526Z
LAST-MODIFIED:20220119T025350Z
UID:18693-1646006400-1646092799@archive2019nt.cross.or.jp
SUMMARY:2021年度中級者向けZ-Code講習会：12月1日（水）～2022年2月28日（月）
DESCRIPTION:　2021年度の粉末構造解析ソフトウエアZ-Codeの中級者向け講習会を開催します。中級コースは、J-PARC MLFの粉末回折装置を利用して得た回折データの解析経験がある方が対象です。\nその経験の下に、実際に測定された各種結晶構造の回折データを用いて少し高度な解析の実習を行います。　多数の皆様のご参加をお待ちしています。\n　今回も講師の先生方の講義映像を特設サイトに掲載し、それを見て学習するオンデマンド方式にて開催いたします。 \n開催日時\n　2021年12月1日（水）～2022年2月28日（月）＜特設サイト開設期間＞ \n開催方法\n　予め収録した先生方の講義の映像とテキストを特設サイトに掲載します。\n　参加の方には上記期間内に特設サイトにアクセスしていただき、各先生の講義映像をご覧いただきながら、\n自ら実習を行っていただきます。期間内は繰り返し視聴が可能です。\n　なお、質問はメールでお受けすることになります。 \n実習の目標\n　文献等の構造情報に基づき、構造パラメータを理解しながら、少し高度な構造解析を行うことができるようになることをめざします。 \n必要機材\n　Windows PC（Windows8.1、Windows10 64bit）、または Mac PC（macOS 10.14以降） \nプログラム・参加申込\nプログラム詳細につきましては、こちらよりご確認下さい。 \n参加申込は、次の参加申込フォームからご登録ください。 \n\n2021年度 中級者向けZ-Code講習会　参加申込フォーム\n\n　　※申込締切：特設サイト掲載期間中は受け付けます。 \n　 \n主催\nJ-PARCセンターMLFディビジョン\nKEK物質構造科学研究所\n茨城大学フロンティア応用原子科学研究センター\n中性子産業利用推進協議会（IUSNA)\n総合科学研究機構(CROSS)中性子科学センター \n共催\n茨城県中性子利用研究会
URL:https://archive2019nt.cross.or.jp/events/211201-220228/
LOCATION:オンデマンド形式
CATEGORIES:講習会
ATTACH;FMTTYPE=image/png:https://archive2019nt.cross.or.jp/wp/wp-content/uploads/2018/01/noimg.png
END:VEVENT
END:VCALENDAR