BEGIN:VCALENDAR
VERSION:2.0
PRODID:-//CROSS 中性子科学センター（2019年アーカイブ） - ECPv5.14.1//NONSGML v1.0//EN
CALSCALE:GREGORIAN
METHOD:PUBLISH
X-WR-CALNAME:CROSS 中性子科学センター（2019年アーカイブ）
X-ORIGINAL-URL:https://archive2019nt.cross.or.jp
X-WR-CALDESC:CROSS 中性子科学センター（2019年アーカイブ） のイベント
BEGIN:VTIMEZONE
TZID:Asia/Tokyo
BEGIN:STANDARD
TZOFFSETFROM:+0900
TZOFFSETTO:+0900
TZNAME:JST
DTSTART:20220101T000000
END:STANDARD
END:VTIMEZONE
BEGIN:VEVENT
DTSTART;TZID=Asia/Tokyo:20220125T100000
DTEND;TZID=Asia/Tokyo:20220125T120000
DTSTAMP:20260426T033955
CREATED:20211209T025049Z
LAST-MODIFIED:20220119T020941Z
UID:18826-1643104800-1643112000@archive2019nt.cross.or.jp
SUMMARY:有機・高分子材料研究会
DESCRIPTION:テーマ\n「有機・高分子材料への小角散乱解析法の展開」（第3回） \n開催趣旨\n　東日本大震災以降停止していた定常炉型原子炉JRR-3が再稼働し、JRR-3でSANS実験が再開されました。JRR-3にはSANS-JとSANS-Uの２台のSANS装置、および１台のBonse-Hart型USANS装置（3G-PNO）が設置されており、国内においてSANS実験を行う機会が増えました。一方、選択肢が増えると、どの装置を利用したら良いのか迷うこともあるかと思います。\n　本講演では、演者が現在関わっているJ-PARC MLFのBL15大観（TAIKAN）について説明し、TAIKANとSANS-Jで得られた有機・高分子試料の結果についても示したいと思います。\nさらに、SANS実験を行う場合、どの装置を利用したら良いか、誰に相談をしたら良いか、などについても紹介します。 \nプログラム・参加申込\nプログラム詳細につきましては、こちらよりご確認下さい。 \n参加申込は、次の参加申込フォームからご登録ください。 \n\n有機・高分子材料研究会　参加申込フォーム\n\n　　※申込締切：2022年1月21日(金) \n　 \n主催\n中性子産業利用推進協議会（IUSNA） \n総合科学研究機構（CROSS）中性子科学センター \n共催\n茨城県中性子利用研究会 \n協賛\nJ-PARC MLF利用者懇談会
URL:https://archive2019nt.cross.or.jp/events/220125/
LOCATION:オンライン
CATEGORIES:研究会
ATTACH;FMTTYPE=image/png:https://archive2019nt.cross.or.jp/wp/wp-content/uploads/2018/01/noimg.png
END:VEVENT
END:VCALENDAR