BEGIN:VCALENDAR
VERSION:2.0
PRODID:-//CROSS 中性子科学センター（2019年アーカイブ） - ECPv5.14.1//NONSGML v1.0//EN
CALSCALE:GREGORIAN
METHOD:PUBLISH
X-WR-CALNAME:CROSS 中性子科学センター（2019年アーカイブ）
X-ORIGINAL-URL:https://archive2019nt.cross.or.jp
X-WR-CALDESC:CROSS 中性子科学センター（2019年アーカイブ） のイベント
BEGIN:VTIMEZONE
TZID:Asia/Tokyo
BEGIN:STANDARD
TZOFFSETFROM:+0900
TZOFFSETTO:+0900
TZNAME:JST
DTSTART:20220101T000000
END:STANDARD
END:VTIMEZONE
BEGIN:VEVENT
DTSTART;TZID=Asia/Tokyo:20220216T140000
DTEND;TZID=Asia/Tokyo:20220216T163000
DTSTAMP:20260426T035001
CREATED:20211209T072435Z
LAST-MODIFIED:20220119T025836Z
UID:18709-1645020000-1645029000@archive2019nt.cross.or.jp
SUMMARY:2021年度　磁性材料研究会
DESCRIPTION:開催趣旨\n　中性子産業利用推進協議会では、磁性と中性子に関する「磁性材料研究会」を開催します。　本研究会では、最新の研究動向、測定手法などについてのご講演をいただき、議論を通じて本分野における理解を深めていくことを目的としています。\n　初回となる今回は、最近の動向について包括的な観点からもお二方の先生にご講演をお願いすることにいたしました。\n　※本研究会は東北大学金属材料研究所中性子物質材料研究センター主催のワークショップ（2022年2月15～16日開催）と連続して　　開催いたします。　 \n開催場所\n東北大学金属材料研究所講堂（片平キャンパス）＜リモート併用＞ \nプログラム・参加申込\nプログラム詳細につきましては、こちらよりご確認下さい。 \n参加申込は、次の参加申込フォームからご登録ください。 \n\n2021年度 磁性材料研究会　参加申込フォーム\n\n　　※申込締切：現地参加 1月28日（金）、リモート参加 2月10日（木） \n　 \n主催\n中性子産業利用推進協議会 （IUSNA)\n総合科学研究機構（CROSS）中性子科学センター\n東北大学金属材料研究所中性子物質材料研究センター\n東北大学金属材料研究所先端放射光利用材料研究センター \n共催\n茨城県中性子利用研究会 \n協賛\nJ-PARC MLF 利用者懇談会
URL:https://archive2019nt.cross.or.jp/events/220216/
CATEGORIES:研究会
ATTACH;FMTTYPE=image/png:https://archive2019nt.cross.or.jp/wp/wp-content/uploads/2018/01/noimg.png
END:VEVENT
END:VCALENDAR