BEGIN:VCALENDAR
VERSION:2.0
PRODID:-//CROSS 中性子科学センター（2019年アーカイブ） - ECPv5.14.1//NONSGML v1.0//EN
CALSCALE:GREGORIAN
METHOD:PUBLISH
X-WR-CALNAME:CROSS 中性子科学センター（2019年アーカイブ）
X-ORIGINAL-URL:https://archive2019nt.cross.or.jp
X-WR-CALDESC:CROSS 中性子科学センター（2019年アーカイブ） のイベント
BEGIN:VTIMEZONE
TZID:Asia/Tokyo
BEGIN:STANDARD
TZOFFSETFROM:+0900
TZOFFSETTO:+0900
TZNAME:JST
DTSTART:20220101T000000
END:STANDARD
END:VTIMEZONE
BEGIN:VEVENT
DTSTART;TZID=Asia/Tokyo:20220311T104000
DTEND;TZID=Asia/Tokyo:20220311T165500
DTSTAMP:20260426T035026
CREATED:20220114T075741Z
LAST-MODIFIED:20220215T024645Z
UID:19299-1646995200-1647017700@archive2019nt.cross.or.jp
SUMMARY:2021年度　液体・非晶質研究会
DESCRIPTION:開催趣旨\n水をはじめとする液体はバルクでのみ存在しているのではなく、制限空間中にも多様な形で存在しています。例えば、合成高分子膜、生体膜、非晶質材料中の液体はバルク状態と異なる性質を示し、機能性の観点から学術面と産業面の両方から注目されています。制限空間を利用した種々の技術の深化のためには、制限空間液体の機能発現原理を構造と分子運動の観点から明らかにしていくことが求められています。 \nまた、近年発達が目覚ましい計算科学により、高度な機能性材料の理論設計が可能となっております。今後は理論計算と実際の測定をいかに融合させて、新規材料開発に活かすが問われることになります。 \n今回の研究会では、制限空間内の液体の構造やダイナミクス、および分子動力学法など計算科学と実験の融合について、それぞれの第一線でご活躍されておられる専門家の方々にご講演いただきます。 \n本研究会では、毎回中性子分光装置を紹介しておりますが、今回は分子のダイナミクスを観測することができる準弾性散乱装置を2 台取り上げます。MLF 装置群から中性子共鳴スピンエコー分光器群VIN-ROSE、および昨年に再稼働したJRR-3 に設置されている高分解能パルス冷中性子分光装置AGNES ついて、概要と最近の研究成果についてご紹介いただきます。\n \n開催方法\n Zoom によるオンライン \nプログラム・参加申込\nプログラム詳細につきましては、こちらよりご確認下さい。 \n参加申込は、次の参加申込フォームからご登録ください。 \n\n2021年度 液体・非晶質研究会　参加申込フォーム\n\n　　※申込締切：3月4日（金） \n　 \n主催\nJ-PARC MLF 利用者懇談会 \n共催\n中性子産業利用推進協議会 （IUSNA)\n茨城県中性子利用研究会\n総合科学研究機構（CROSS）中性子科学センター
URL:https://archive2019nt.cross.or.jp/events/220311/
LOCATION:オンライン
CATEGORIES:研究会
ATTACH;FMTTYPE=image/png:https://archive2019nt.cross.or.jp/wp/wp-content/uploads/2018/01/noimg.png
END:VEVENT
END:VCALENDAR