BEGIN:VCALENDAR
VERSION:2.0
PRODID:-//CROSS 中性子科学センター（2019年アーカイブ） - ECPv5.14.1//NONSGML v1.0//EN
CALSCALE:GREGORIAN
METHOD:PUBLISH
X-WR-CALNAME:CROSS 中性子科学センター（2019年アーカイブ）
X-ORIGINAL-URL:https://archive2019nt.cross.or.jp
X-WR-CALDESC:CROSS 中性子科学センター（2019年アーカイブ） のイベント
BEGIN:VTIMEZONE
TZID:Asia/Tokyo
BEGIN:STANDARD
TZOFFSETFROM:+0900
TZOFFSETTO:+0900
TZNAME:JST
DTSTART:20220101T000000
END:STANDARD
END:VTIMEZONE
BEGIN:VEVENT
DTSTART;VALUE=DATE:20220908
DTEND;VALUE=DATE:20220909
DTSTAMP:20260426T035207
CREATED:20220804T004459Z
LAST-MODIFIED:20221121T025131Z
UID:21430-1662595200-1662681599@archive2019nt.cross.or.jp
SUMMARY:2022年度初級者向けZ-Code講習会：8月8日（月）～9月8日（木）
DESCRIPTION:　\n2022年度の粉末構造解析ソフトウエアZ-Codeの初級者向け講習会を開催します。本年は事前に収録した映像を見て学習いただく、オンデマンド方式での開催です。\n中性子回折の基礎講義に加えて、Z-Rietveld、Z-3D、Conographの使い方について講義と実習を通して学びます。Z-Rietveldを用いてマキシマムエントロピー法を用いた解析についてもご紹介します。\n　J-PARC MLFの粉末回折装置を利用される多くの皆様に是非ご参加いただき、これらの解析ツールを構造解析に活用していただきますようご案内致します。\nなお、今回はWindows版の実習を行いますが、Mac版（10.14以降）をご利用の方もご参加ください。\nWindows OSはWindows 8.1，10です（64bit）。※映像には2021年度の収録内容を含んでおります。 \n開催期間\n　2022年8月8日（月）～9月8日（木）＜講義映像視聴期間＞ \n開催方法\n　事前に収録した先生方の講義の映像を各自で見て学習いただきます。\n　※特設サイトへのURLは参加申込の方に別途お知らせします。 \n主催\nJ-PARCセンターMLFディビジョン\nKEK物質構造科学研究所\n茨城大学フロンティア応用原子科学研究センター\n中性子産業利用推進協議会（IUSNA)\n総合科学研究機構(CROSS)中性子科学センター \n共催\n茨城県中性子利用研究会
URL:https://archive2019nt.cross.or.jp/events/220808-0908/
LOCATION:オンデマンド形式
CATEGORIES:講習会
ATTACH;FMTTYPE=image/png:https://archive2019nt.cross.or.jp/wp/wp-content/uploads/2018/01/noimg.png
END:VEVENT
END:VCALENDAR