BEGIN:VCALENDAR
VERSION:2.0
PRODID:-//CROSS 中性子科学センター（2019年アーカイブ） - ECPv5.14.1//NONSGML v1.0//EN
CALSCALE:GREGORIAN
METHOD:PUBLISH
X-WR-CALNAME:CROSS 中性子科学センター（2019年アーカイブ）
X-ORIGINAL-URL:https://archive2019nt.cross.or.jp
X-WR-CALDESC:CROSS 中性子科学センター（2019年アーカイブ） のイベント
BEGIN:VTIMEZONE
TZID:Asia/Tokyo
BEGIN:STANDARD
TZOFFSETFROM:+0900
TZOFFSETTO:+0900
TZNAME:JST
DTSTART:20220101T000000
END:STANDARD
END:VTIMEZONE
BEGIN:VEVENT
DTSTART;TZID=Asia/Tokyo:20221026T100000
DTEND;TZID=Asia/Tokyo:20221026T173000
DTSTAMP:20260426T034931
CREATED:20220810T011025Z
LAST-MODIFIED:20220810T011025Z
UID:21448-1666778400-1666805400@archive2019nt.cross.or.jp
SUMMARY:第14回材料系ワークショップ　～「富岳」での成果を生かした計算物質科学の未来～
DESCRIPTION:開催概要：\n　本ワークショップでは、企業や研究機関などの材料系分野の研究・開発者を対象に、シミュレーションを行う際に有益となる情報の提供を行っています。\n スーパーコンピュータ「富岳」は、2021年3月に共用が開始され、さまざまな成果が生まれています。一方で、今年度からポスト「富岳」に向けた調査研究のプロジェクト「次世代計算基盤に係る調査研究」も始まります。\n そこで今回は、「富岳」成果創出加速プログラムなどの「富岳」における成果を発表するとともに、今までのHPC関係のプロジェクトを振り返り、実験と計算の連携、産官学連携推進を念頭に、今後の計算物質科学の発展のためにより良い研究・開発環境について議論します。\n 企業の方をはじめ多くの方々にとって、「富岳」を利用する研究課題の申請がよりしやすく、また、「富岳」がより利用しやすくなるよう取り組んでいる利用制度の改善や利用支援についても紹介します。併せて、企業や研究機関において、HPCIシステムをご利用頂くための申請手続きや支援サービスなどについての利用相談を行いますので、遠慮なくお申し出ください。 \n なお、このワークショップは、スーパーコンピューティング技術産業応用協議会(産応協/ICSCP)と材料系の「富岳」成果創出加速プログラム７課題の共催、他の材料系シミュレーションに関係する各機関の協賛をいただき、各機関と連携してこの分野の振興を目指しています。 \n開催場所・方法：\nオンサイト（秋葉原UDX）とオンライン（Zoom）両方のハイブリッド開催 \n　　〇秋葉原UDX　4階　NEXT-1（東京都千代田区）　*JR秋葉原駅電気街口徒歩2分\n　　〇Web会議システムZoomを使用したオンライン\n　　　※新型コロナウィルス感染症の拡大状況によってはオンラインのみの可能性があります。 \n主催：\n一般財団法人 高度情報科学技術研究機構（RIST) \n共催：\nスーパーコンピューティング技術産業応用協議会（産応協/ICSCP）\n「富岳」成果創出加速プログラム課題\n　　「量子物質の創発と機能のための基礎科学－「富岳」と最先端実験の密連携による革新的強相関電子科学」\n　同「省エネルギー次世代半導体デバイス開発のための量子論マルチシミュレーション」\n　同「次世代二次電池・燃料電池開発によるET革命に向けた計算・データ材料科学研究」\n　同「環境適合型機能性化学品」\n　同「大規模計算とデータ駆動手法による高性能永久磁石の開発」\n　同「データ駆動型高分子材料研究を変革するデータ基盤創出」\n　同「「富岳」を活用した革新的光エネルギー変換材料の実現」 \n協賛：\n国立大学法人東京工業大学物質・情報卓越教育院\n計算物質科学協議会\n公益財団法人高輝度光科学研究センター(JASRI)\nSPring-8利用推進協議会\n一般財団法人総合科学研究機構（CROSS）\n公益財団法人日本材料学会\n公益財団法人計算科学振興財団(FOCUS)
URL:https://archive2019nt.cross.or.jp/events/221026/
LOCATION:東京・秋葉原UDX 4階 NEXT-1\, 外神田4-14-1\, 千代田区\, 東京都\, 101-0021
CATEGORIES:ワークショップ
ATTACH;FMTTYPE=image/png:https://archive2019nt.cross.or.jp/wp/wp-content/uploads/2018/01/noimg.png
END:VEVENT
END:VCALENDAR