BEGIN:VCALENDAR
VERSION:2.0
PRODID:-//CROSS 中性子科学センター（2019年アーカイブ） - ECPv5.14.1//NONSGML v1.0//EN
CALSCALE:GREGORIAN
METHOD:PUBLISH
X-WR-CALNAME:CROSS 中性子科学センター（2019年アーカイブ）
X-ORIGINAL-URL:https://archive2019nt.cross.or.jp
X-WR-CALDESC:CROSS 中性子科学センター（2019年アーカイブ） のイベント
BEGIN:VTIMEZONE
TZID:Asia/Tokyo
BEGIN:STANDARD
TZOFFSETFROM:+0900
TZOFFSETTO:+0900
TZNAME:JST
DTSTART:20230101T000000
END:STANDARD
END:VTIMEZONE
BEGIN:VEVENT
DTSTART;TZID=Asia/Tokyo:20230626T093500
DTEND;TZID=Asia/Tokyo:20230626T170000
DTSTAMP:20260426T035042
CREATED:20230530T042443Z
LAST-MODIFIED:20230530T042443Z
UID:23770-1687772100-1687798800@archive2019nt.cross.or.jp
SUMMARY:2023年度中性子実験技術基礎講習会（レベル1講習会）
DESCRIPTION:開催趣旨\n　中性子実験技術の初心者の方を対象に中性子実験技術の基礎的事項を紹介し、中性子実験施設（ J PARC MLF、JRR 3等）での実験計画立案や課題申請 に役立てていただくことを目的として、中性子実験技術基礎講習会(レベル１講習会)を開催します。\n本年度もZoomによるリモートでの開催となります。皆様のご参加をお待ちしております。 \n　講習会終了後、復習を行うことができるよう、当日の講師の先生方のご講演を録画し、特設サイトにて期間限定で視聴いただくことができるようにする予定です。 \nプログラム・参加申込\nプログラム詳細、参加申込はこちらよりご確認ください。 \n運営組織\n主催\n日本中性子科学会（JSNS）\n中性子産業利用推進協議会（IUSNA）\n（一財）総合科学研究機構（CROSS）中性子科学センター\n（一財）総合科学研究機構 (CROSS) 中性子産業利用推進センター \n共催\n茨城県中性子利用研究会
URL:https://archive2019nt.cross.or.jp/events/230626/
LOCATION:Web形式
CATEGORIES:講習会
ATTACH;FMTTYPE=image/png:https://archive2019nt.cross.or.jp/wp/wp-content/uploads/2018/01/noimg.png
END:VEVENT
END:VCALENDAR