BEGIN:VCALENDAR
VERSION:2.0
PRODID:-//CROSS 中性子科学センター（2019年アーカイブ） - ECPv5.14.1//NONSGML v1.0//EN
CALSCALE:GREGORIAN
METHOD:PUBLISH
X-WR-CALNAME:CROSS 中性子科学センター（2019年アーカイブ）
X-ORIGINAL-URL:https://archive2019nt.cross.or.jp
X-WR-CALDESC:CROSS 中性子科学センター（2019年アーカイブ） のイベント
BEGIN:VTIMEZONE
TZID:Asia/Tokyo
BEGIN:STANDARD
TZOFFSETFROM:+0900
TZOFFSETTO:+0900
TZNAME:JST
DTSTART:20230101T000000
END:STANDARD
END:VTIMEZONE
BEGIN:VEVENT
DTSTART;TZID=Asia/Tokyo:20230803T131500
DTEND;TZID=Asia/Tokyo:20230803T143000
DTSTAMP:20260426T050634
CREATED:20230622T234425Z
LAST-MODIFIED:20230803T090803Z
UID:23874-1691068500-1691073000@archive2019nt.cross.or.jp
SUMMARY:【事前講習会＠オンライン開催】第9回　放射光・中性子の連携利用に向けた合同研修会「小角散乱測定研修会」
DESCRIPTION:概要\n2019年度より高輝度光科学研究センター(JASRI)と総合科学研究機構(CROSS)では、量子ビーム施設の実習を通して、放射光・中性子それぞれの測定技術特徴を知っていただくための合同研修会を開催しております。\n　※2022年度開催済 第6回　放射光・中性子の連携利用に向けた合同研修会「小角散乱測定研修会」\n合同研修会に先立ち、小角散乱測定に関する事前講習会（オンライン）を以下の要領にて開催します。 \n－事前講習会（オンライン開催）－ \n（1）日時：2023年8月3日（木） 13:15～14:30\n（2）開催形式：オンライン開催（Zoom）\n（3）プログラム：\n　　　13:15～14:15　「小角散乱測定による構造解析技術 ：散乱理論の基礎とSAXS/SANSの特徴を活かした解析例を概説」\n　　　　　　　　 　　　　　（講師：CROSS中性子科学センター　柴山 充弘センター長）\n　　　14:15～14:30　 合同研修会に関する案内 \n \n－－－－－－－－－－－－－－－－－－－－－－－－－－－－－－－－－－－－－－－－－－－－－－－－－－－－ \n \n※第9回放射光・中性子の連携利用に向けた合同研修会「小角散乱測定研修会」への参加申込はこちらからご登録ください。 \n \n－合同研修会 －\n日時：\n【SPring-8】\n2023年10月13日（金）\n【JRR-3】\n2023年11月21日（火）\n　　　　\n \n講義・実習場所：\n【SPring-8】SPring-8中央管理棟　上坪記念講堂、蓄積リング棟 BL19B2\n【JRR-3】AYA’S LABORATORY量子ビーム研究センター（AQBRC）（予定）、JRR-3「SANS-J」　\n \n実習担当：\n【SPring-8】\nJASRI　産業利用・産学連携推進室　佐藤 眞直（E-mail：msato〔at〕spring8.or.jp）\nJASRI　回折・散乱推進室　筒井 智嗣（E-mail：satoshi〔at〕spring8.or.jp）\n（事務担当）JASRI　利用推進部 普及情報課　濱本 美和子（E-mail：jasri-event〔at〕spring8.or.jp）\n【JRR-3】\nJAEA 物質科学センター　熊田 高之（E-mail：kumada.takayuki〔at〕jaea.go.jp）\nJAEA 物質科学センター　元川 竜平（E-mail：motokawa.ryuhei〔at〕jaea.go.jp）\nCROSS中性子科学センター　産学連携推進室　岩瀬 裕希（E-mail：h_iwase〔at〕cross.or.jp）\n（事務担当） CROSS中性子科学センター　利用推進部　石川 知子（E-mail：suishin-event〔at〕cross.or.jp）\n　※〔at〕を@に置き換えてください。\n \n\n \n \n運営組織\n主催\n（公財）高輝度光科学研究センター（JASRI）\n（一財）総合科学研究機構（CROSS） \n共催\n（国研）日本原子力研究開発機構（JAEA）物質科学研究センター \n後援\nSPring-8利用推進協議会(IUSS)\n中性子産業利用推進協議会（IUSNA）
URL:https://archive2019nt.cross.or.jp/events/230803/
LOCATION:Web形式
CATEGORIES:セミナー
ATTACH;FMTTYPE=image/png:https://archive2019nt.cross.or.jp/wp/wp-content/uploads/2018/01/noimg.png
END:VEVENT
END:VCALENDAR