BEGIN:VCALENDAR
VERSION:2.0
PRODID:-//CROSS 中性子科学センター（2019年アーカイブ） - ECPv5.14.1//NONSGML v1.0//EN
CALSCALE:GREGORIAN
METHOD:PUBLISH
X-WR-CALNAME:CROSS 中性子科学センター（2019年アーカイブ）
X-ORIGINAL-URL:https://archive2019nt.cross.or.jp
X-WR-CALDESC:CROSS 中性子科学センター（2019年アーカイブ） のイベント
BEGIN:VTIMEZONE
TZID:Asia/Tokyo
BEGIN:STANDARD
TZOFFSETFROM:+0900
TZOFFSETTO:+0900
TZNAME:JST
DTSTART:20230101T000000
END:STANDARD
END:VTIMEZONE
BEGIN:VEVENT
DTSTART;TZID=Asia/Tokyo:20230904T093000
DTEND;TZID=Asia/Tokyo:20230904T173000
DTSTAMP:20260426T050911
CREATED:20230703T083530Z
LAST-MODIFIED:20230830T095650Z
UID:23988-1693819800-1693848600@archive2019nt.cross.or.jp
SUMMARY:「第９回 大型実験施設とスーパーコンピュータとの連携利用シンポジウム」―　マテリアルデータサイエンスに向けた自動測定と自動解析の展開　―
DESCRIPTION:開催趣旨\n「大型実験施設とスーパーコンピュータとの連携利用シンポジウム」は、大型実験施設であるSPring-8、J-PARC MLFと「富岳/京」をはじめとするスーパーコンピュータとの連携利用による新たな研究成果の創出を目指し、2014年から実験計測の研究者と計算科学の研究者が一堂に会するシンポジウムとして開催してきました。第9回を迎える本シンポジウムでは、SPring-8及びJ-PARC MLFで進んでいる自動測定、リモートコントロールの高度化に加え、「京」の後継機である「富岳」が本格利用の段階を迎えたことを受け、SDGsへの貢献を目指し、近年注目を集めているマテリアルデータサイエンスにフォーカスして開催いたします。 \n先端研究施設では、実験と計算の両面から日々多くのデータが生み出されています。それぞれ価値のあるデータの集合体であるビッグデータは、さらに高い価値を持つことが期待されています。先端研究施設で進みつつある自動測定に機械学習と数値シミュレーションを組み合わせることで、物質研究・開発のさらなる高効率化が可能になります。本シンポジウムではこれらマテリアルデータサイエンスの先端的な研究成果の現状を相互に共有し、ポスターセッションを通して意見や情報を交換しながら、今後のさらなる研究の進展と連携利用の拡大を目指します。\n \n日時\n2023年9月4日（月）9:30 ～ 17:30 （開場: 9:00 ～ 18:00） \n会場\n 秋葉原UDX カンファレンス6階  (東京都千代田区外神田4-14-1) \n※6階カンファレンスフロアーまでの道のりが少々複雑なため、道案内をご参照ください。 \n参加費\n無料 \n参加定員\n・オンサイト（秋葉原UDX） 100名程度（定員になりしだい、オンサイト参加の申し込みは締め切らせていただきます） \n・オンライン（ZOOM）　ZOOMへのアクセス上限人数に達しましたら参加申し込みを締め切らせていただきます。 \n参加申し込み\nWebでの参加申込は、終了しました。 \n※会場にて当日受付もいたしております。 \n \n次の参加申込みフォームからご登録ください。 \n\n「第9回大型実験施設とスーパーコンピュータとの連携利用シンポジウム」\n\n申込締切：2023年8月30日（水） 17:00まで \n\n \n参加時の注意事項\n＊広報活動のため、報告会当日の写真（会場スクリーンや参加者の姿が写っているものを含みます）をホームページ等に使用させていただく場合がございます。あらかじめご了承下さい。\n \nプログラム\n\n\n9:00　　　　\n受付開始\n\n\n9:30-10:15\n第1セッション：施設と登録機関の現状　　　　　　　　　　　\n座長：野間 敬(CROSS)\n\n\n9:30-9:45\n開会挨拶（5分×3）\n雨宮 慶幸(JASRI)柴山 充弘(CROSS)林 周平（文部科学省）\n\n\n 9:45-10:15\n施設と登録機関の紹介 10分x3\n\n\n\nSPring-8／JASRI　\n木村 滋(JASRI)\n\n\nJ-PARC／CROSS　\n松浦 直人(CROSS)\n\n\nHPCI、富岳／RIST　\n齊藤 哲(RIST)\n\n\n10:15-10:30\n休憩（Coffee Break）\n\n\n10:30-12:00\n第2セッション（データ駆動型研究Ⅰ）\n座長： 吉澤 香奈子(RIST)\n\n\n10:30-11:15\n「大型実験施設を活用したデータ駆動型マテリアルサイエンス」　　\n小野 寛太（大阪大学）\n\n\n11:15-12:00\n「第一原理計算データを活用したデータ駆動型 物質・材料研究」　　\n安藤 康伸（産業技術総合研究所 ）\n\n\n12:00-13:20\nランチ\n\n\n13:20-15:05\n 第3セッション(自動測定と自動計算) \n座長：岡崎 伸生(CROSS)\n\n\n13:20-14:05\n「大型実験施設×スパコン×デジタルが切り拓く新しい研究開発環境」　　\n一杉 太郎（東京大学）\n\n\n14:05-14:35\n「SPring-8構造生物学ビームライン　自動測定システム（ZOO）の現状」　　\n平田 邦生（RIKEN/SPring-8）\n\n\n14:35-15:05\n「高分子物性自動計算システムRadonPyの開発と産学連携によるデータプラットフォームの共創」\n林 慶浩（統計数理研究所）\n\n\n15:05-15:20\n休憩（Coffee Break）\n\n\n15:20-16:35\n 第4セッション(データ駆動型研究Ⅱ) \n座長：筒井 智嗣(JASRI)\n\n\n15:20-15:50\n「富岳におけるベイズ推定を用いた全反射高速陽電子回折(TRHEPD)のデータ解析 」　　\n星 健夫（核融合科学研究所）\n\n\n15:50-16:35\n「大型実験施設とスーパーコンピュータをハブとしたビッグデータ駆動型高分子材料設計」　　\n沼田 圭司（京都大学）\n\n\n16:35-16:40\n講演終了時の挨拶（オンライン参加者はここで終了）\n田島 保英(RIST・理事長)\n\n\n16:40-17:30\n第5セッション（講演者との意見交換・利用相談・情報交換・ポスター展示）\n\n\n\n16:40-17:30\nポスター発表\n・JASRI　・CROSS　・RIST 　・DxMT　・NanoTerasu（会場のみ）\n　\n\n\n\n17:20-17:30\n閉会挨拶\n社本 真一(CROSS)\n\n\n17:30\n閉会\n\n\n＊プログラムは予告なく変更する場合があります。 \n運営組織\n主　催\n（公財）高輝度光科学研究センター（JASRI）\n（一財）総合科学研究機構（CROSS）\n（一財）高度情報科学技術研究機構（RIST） \n協　力\nデータ創出・活用型マテリアル研究開発プロジェクト（DxMT）、（国研）量子科学技術研究開発機構（QST）（ナノテラス） \n協　賛\n\n理化学研究所、J-PARCセンター（JAEA＆KEK)、日本物理学会、応用物理学会、日本化学会、日本放射光学会、日本中性子科学会、スーパーコンピューティング技術産業応用協議会、J-PARC MLF利用者懇談会、中性子産業利用推進協議会、SPring-8ユーザー協同体、SPring-8利用推進協議会 \n後　援\n文部科学省、茨城県、兵庫県 \n問合せ先\nシンポジウム事務局\n一般財団法人総合科学研究機構 中性子科学センター\n野間 敬・大内 薫\n　　e-mail：suishin-event[at]cross.or.jp（[at]を”@”に置き換えてください）\n　　TEL：029-219-5300\n　　FAX：029-219-5311
URL:https://archive2019nt.cross.or.jp/events/230904/
LOCATION:東京・秋葉原UDX 6階カンファレンス\, 外神田4-14-1\, 千代田区\, 東京都\, 101-0021
CATEGORIES:シンポジウム
ATTACH;FMTTYPE=image/png:https://archive2019nt.cross.or.jp/wp/wp-content/uploads/2018/01/noimg.png
END:VEVENT
END:VCALENDAR