BEGIN:VCALENDAR
VERSION:2.0
PRODID:-//CROSS 中性子科学センター（2019年アーカイブ） - ECPv5.14.1//NONSGML v1.0//EN
CALSCALE:GREGORIAN
METHOD:PUBLISH
X-WR-CALNAME:CROSS 中性子科学センター（2019年アーカイブ）
X-ORIGINAL-URL:https://archive2019nt.cross.or.jp
X-WR-CALDESC:CROSS 中性子科学センター（2019年アーカイブ） のイベント
BEGIN:VTIMEZONE
TZID:Asia/Tokyo
BEGIN:STANDARD
TZOFFSETFROM:+0900
TZOFFSETTO:+0900
TZNAME:JST
DTSTART:20230101T000000
END:STANDARD
END:VTIMEZONE
BEGIN:VEVENT
DTSTART;VALUE=DATE:20230907
DTEND;VALUE=DATE:20230909
DTSTAMP:20260426T035152
CREATED:20230612T024046Z
LAST-MODIFIED:20230626T021452Z
UID:23847-1694044800-1694217599@archive2019nt.cross.or.jp
SUMMARY:第20回 SPring-8産業利用報告会
DESCRIPTION:概要\n　最先端の学術研究とその成果の産業応用の推進による産業発展への貢献はSPring-8の重要なミッションであり、現在、広い産業分野で活用されています。\n　本報告会は、SPring-8の産業利用成果の情報発信による産業界における放射光の有用性の広報および産業界ユーザーの相互交流を目的として、JASRI、サンビーム、兵庫県、豊田中研が合同で開催しています。開催形態は各団体の年次成果報告会のジョイント構成で行っています。\n　今回は、従来の口頭発表形式およびポスターセッションの成果報告に加え、主催機関および参加者でSPring-8の産業利用の今までを振り返りさらにその将来について議論するパネルディスカッションを設けます。\n　また兵庫県が主体となり実施する「ひょうごSPring-8賞」の受賞講演もあわせて行う予定です。 \n主催\n産業用専用ビームライン建設利用共同体（サンビーム）\n兵庫県\n（株）豊田中央研究所\n高輝度光科学研究センター（JASRI)\nSPring-8利用推進協議会 \n後援\n理化学研究所 放射光科学研究センター\nSPring-8ユーザー協同体（SPRUC）\nフロンティアソフトマター開発専用ビームライン産学連合体（FSBL）\n（一財）総合科学研究機構（CROSS）\n（一財）高度情報科学技術研究機構（RIST）\n中性子産業利用推進協議会（IUSNA)\nあいちシンクロトロン光センター\n佐賀県立九州シンクロトロン光研究センター
URL:https://archive2019nt.cross.or.jp/events/230907-08/
LOCATION:神戸国際会議場\, 兵庫県神戸市中央区港島中町6-9-1
CATEGORIES:報告会
ATTACH;FMTTYPE=image/png:https://archive2019nt.cross.or.jp/wp/wp-content/uploads/2018/01/noimg.png
END:VEVENT
END:VCALENDAR