BEGIN:VCALENDAR
VERSION:2.0
PRODID:-//CROSS 中性子科学センター（2019年アーカイブ） - ECPv5.14.1//NONSGML v1.0//EN
CALSCALE:GREGORIAN
METHOD:PUBLISH
X-WR-CALNAME:CROSS 中性子科学センター（2019年アーカイブ）
X-ORIGINAL-URL:https://archive2019nt.cross.or.jp
X-WR-CALDESC:CROSS 中性子科学センター（2019年アーカイブ） のイベント
BEGIN:VTIMEZONE
TZID:Asia/Tokyo
BEGIN:STANDARD
TZOFFSETFROM:+0900
TZOFFSETTO:+0900
TZNAME:JST
DTSTART:20230101T000000
END:STANDARD
END:VTIMEZONE
BEGIN:VEVENT
DTSTART;TZID=Asia/Tokyo:20230911T100000
DTEND;TZID=Asia/Tokyo:20230911T160000
DTSTAMP:20260426T034928
CREATED:20230721T040501Z
LAST-MODIFIED:20230721T040501Z
UID:24078-1694426400-1694448000@archive2019nt.cross.or.jp
SUMMARY:ＣＢＩ研究機構 量子構造生命科学研究所 中性子産業利用推進協議会  生物・生体材料研究会 合同シンポジウム 「Beyond Academic Drug Discovery ～若手研究者による牽引～」
DESCRIPTION:開催趣旨\n製薬企業が自前で創薬が難しくなってきている現状において、アカデミア創薬はまずます重要性を増しています。専門としての手法の高度化を含めたintegrationが必須です。それらの技術をコアとしてスタートアップのベンチャーを企業する動きも加速しており、わが国としても支援体制も含めやっと政策にもいかされるようになってきています。建前だけの産学連携ではなく、本当に連携していく時代にしなければ、我が国が競争力をもって世界にはでていくことはできないでしょう。今回は、２０代から３０代の若手研究者のうちでもメンターの先生方からご推薦のあった将来我が国の中核となるべくライジングサンの先生方にご講をお願いし、今後のアカデミア創薬の方向性を予見できるプログラム構成としました。産業界、学界それぞれで、ぜひ今後のご研究に役立てていただきたいと思います。 \n主催\n　CBI研究機構量子構造生命科学研究所　中性子産業利用推進協議会（IUSNA)　総合科学研究機構(CROSS) \n共催\n　茨城県中性子利用研究会 \n協賛\n　J-PARC MLF利用者懇談会
URL:https://archive2019nt.cross.or.jp/events/230911/
LOCATION:オンライン
CATEGORIES:シンポジウム
ATTACH;FMTTYPE=image/png:https://archive2019nt.cross.or.jp/wp/wp-content/uploads/2018/01/noimg.png
END:VEVENT
END:VCALENDAR