BEGIN:VCALENDAR
VERSION:2.0
PRODID:-//CROSS 中性子科学センター（2019年アーカイブ） - ECPv5.14.1//NONSGML v1.0//EN
CALSCALE:GREGORIAN
METHOD:PUBLISH
X-WR-CALNAME:CROSS 中性子科学センター（2019年アーカイブ）
X-ORIGINAL-URL:https://archive2019nt.cross.or.jp
X-WR-CALDESC:CROSS 中性子科学センター（2019年アーカイブ） のイベント
BEGIN:VTIMEZONE
TZID:Asia/Tokyo
BEGIN:STANDARD
TZOFFSETFROM:+0900
TZOFFSETTO:+0900
TZNAME:JST
DTSTART:20230101T000000
END:STANDARD
END:VTIMEZONE
BEGIN:VEVENT
DTSTART;TZID=Asia/Tokyo:20230915T093000
DTEND;TZID=Asia/Tokyo:20230915T170000
DTSTAMP:20260426T035030
CREATED:20230721T040608Z
LAST-MODIFIED:20230721T040608Z
UID:24081-1694770200-1694797200@archive2019nt.cross.or.jp
SUMMARY:第1回　小角散乱＜実験デザイン解析＞研究会
DESCRIPTION:開催趣旨\n　金属、セラミックス、高分子からなるさまざまな「製品」について、原子炉、加速器の中性子施設で小角散乱の測定を行うためには、申請書の作成、試料環境などの準備が必要です。また、実験後に待ち受ける「データリダクション」、「データアナリシス」に必要な小角散乱の基礎知識が必要です。\n　本研究会では、“手軽に”そして“おおらかに”中性子が利用できるように、「実験準備」と「データ解析」の双方に力点を置き、ユーザーの皆さんと共に議論、情報交換をして行きたいと思います。相補的な計測技術が一つの研究会で勉強できるように、X線との共通点、中性子線の特殊性などに触れながら、最新の電子顕微鏡の観察技術も学びます。\n \n日時\n2023年9月15日（金）9：30～17：00 \n開催場所\n北海道大学工学部（ハイブリッド配信） \n主催\n中性子産業利用推進協議会（IUSNA)茨城県（一財）総合科学研究機構（CROSS)
URL:https://archive2019nt.cross.or.jp/events/230915/
LOCATION:ハイブリッド形式
CATEGORIES:研究会
ATTACH;FMTTYPE=image/png:https://archive2019nt.cross.or.jp/wp/wp-content/uploads/2018/01/noimg.png
END:VEVENT
END:VCALENDAR