BEGIN:VCALENDAR
VERSION:2.0
PRODID:-//CROSS 中性子科学センター（2019年アーカイブ） - ECPv5.14.1//NONSGML v1.0//EN
CALSCALE:GREGORIAN
METHOD:PUBLISH
X-WR-CALNAME:CROSS 中性子科学センター（2019年アーカイブ）
X-ORIGINAL-URL:https://archive2019nt.cross.or.jp
X-WR-CALDESC:CROSS 中性子科学センター（2019年アーカイブ） のイベント
BEGIN:VTIMEZONE
TZID:Asia/Tokyo
BEGIN:STANDARD
TZOFFSETFROM:+0900
TZOFFSETTO:+0900
TZNAME:JST
DTSTART:20230101T000000
END:STANDARD
END:VTIMEZONE
BEGIN:VEVENT
DTSTART;TZID=Asia/Tokyo:20231003T100000
DTEND;TZID=Asia/Tokyo:20231003T173000
DTSTAMP:20260426T034008
CREATED:20230801T021537Z
LAST-MODIFIED:20230801T021537Z
UID:24146-1696327200-1696354200@archive2019nt.cross.or.jp
SUMMARY:第16回材料系ワークショップ　～アカデミアと社会を結ぶ「富岳」の利用に向けて～
DESCRIPTION:開催概要：\n　本ワークショップでは、企業や研究機関などの材料系分野の研究・開発者を対象に、シミュレーションを行う際に有益となる情報の提供を行っています。\n　今回は、「富岳」において今年度開始された新たな材料系分野の成果創出加速プログラム４課題の活動を紹介します。また、アカデミックの活動で創出された高度なソフトウェアを「富岳」などのハイエンドなスパコンにおいて利用するための環境を産業界などの幅広い方々に提供するための「富岳」Open OnDemandのようなツールを紹介し、その使い勝手の向上に関して参加者の皆様と議論を深めます。\n企業の方をはじめ多くの⽅々にとって「富岳」がより利⽤し易くなるような研究課題申請の簡素化などの利⽤制度の改善や利⽤⽀援についても紹介します。\n併せて、会場で参加される⽅からのHPCI利⽤に関するご相談はもちろんのこと、情報交換等も歓迎しますので、是⾮、RISTメンバにお声掛けください。オンラインで参加される⽅からは、オンラインでのご相談を受け付けております。打合せ⽇程を調整した上で対応いたします(急ぎの⽅へは当⽇も対応いたします)。 \n なお、このワークショップは、スーパーコンピューティング技術産業応用協議会(産応協/ICSCP)、材料系の「富岳」成果創出加速プログラム６課題、データ創出活用型マテリアル研究開発プロジェクトの共催と共に、他の材料系シミュレーションに関係する各機関の協賛をいただき、各機関と連携してこの分野の振興を目指しています。 \n開催場所・方法：\nオンサイト（秋葉原UDX）とオンライン（Zoom）両方のハイブリッド開催 \n　　〇秋葉原UDX　4階　NEXT-1（東京都千代田区）　*JR秋葉原駅電気街口徒歩2分\n　　〇Web会議システムZoomを使用したオンライン \n主催：\n一般財団法人 高度情報科学技術研究機構（RIST) \n共催：\nスーパーコンピューティング技術産業応用協議会(産応協/ICSCP)\n「富岳」成果創出加速プログラム課題\n   「データ駆動型高分子材料研究を変革するデータ基盤創出」\n 同「「富岳」を活用した革新的光エネルギー変換材料の実現」\n 同「物理-化学連携による持続的成長に向けた高機能・長寿命材料の探索・制御」\n 同「燃料電池触媒層の物質輸送機構解明に向けた、マルチスケール計算技術構築とその活用」\n 同「計算材料科学が主導するデータ駆動型研究手法の開発とマテリアル革新」\n 同「量子凝縮系のためのAI数値分光学で挑む量子縺れ構造の解明 」\nデータ創出活用型マテリアル研究開発プロジェクト \n協賛：\n国立大学法人東京工業大学物質・情報卓越教育院\n計算物質科学協議会\n公益財団法人高輝度光科学研究センター\nSPring-8利用推進協議会\n一般財団法人総合科学研究機構\n公益財団法人日本材料学会\n公益財団法人計算科学振興財団
URL:https://archive2019nt.cross.or.jp/events/231003/
LOCATION:東京・秋葉原UDX 4階 NEXT-1\, 外神田4-14-1\, 千代田区\, 東京都\, 101-0021
CATEGORIES:ワークショップ
ATTACH;FMTTYPE=image/png:https://archive2019nt.cross.or.jp/wp/wp-content/uploads/2018/01/noimg.png
END:VEVENT
END:VCALENDAR