BEGIN:VCALENDAR
VERSION:2.0
PRODID:-//CROSS 中性子科学センター（2019年アーカイブ） - ECPv5.14.1//NONSGML v1.0//EN
CALSCALE:GREGORIAN
METHOD:PUBLISH
X-WR-CALNAME:CROSS 中性子科学センター（2019年アーカイブ）
X-ORIGINAL-URL:https://archive2019nt.cross.or.jp
X-WR-CALDESC:CROSS 中性子科学センター（2019年アーカイブ） のイベント
BEGIN:VTIMEZONE
TZID:Asia/Tokyo
BEGIN:STANDARD
TZOFFSETFROM:+0900
TZOFFSETTO:+0900
TZNAME:JST
DTSTART:20240101T000000
END:STANDARD
END:VTIMEZONE
BEGIN:VEVENT
DTSTART;TZID=Asia/Tokyo:20240124T130000
DTEND;TZID=Asia/Tokyo:20240124T161000
DTSTAMP:20260426T034844
CREATED:20231201T021223Z
LAST-MODIFIED:20231201T021532Z
UID:25365-1706101200-1706112600@archive2019nt.cross.or.jp
SUMMARY:2023年度　磁性材料研究会
DESCRIPTION:概要説明\n中性子産業利用推進協議会では、量子ビーム計測と磁気物性に関する「磁性材料研究会」を開催します。本研究会では、可視化計測と材料開発に注目しました。可視化計測では、イメージング法を用いた磁性材料の評価解析、材料開発では軟磁性アモルファスを取り上げました。中性子イメージング法ならびに放射光磁気イメージング法の計測・解析、アモルファスの低鉄損化に関して講演をいただきます。議論を通じて本分野における理解を深めていくとともに、磁性材料とその応用品の開発に量子ビームの活用を期待します。 \n日　時\n2024年1月24日（水）13:00～16:10  \n開催場所\n東北大学金属材料研究所２号館講堂 \n開催方式\n対面とZoomによるハイブリッド開催 \n  \n運営組織\n主催：\n中性子産業利用推進協議会（IUSNA）\n総合科学研究機構（CROSS） \n共催：\n東北大学金属材料研究所中性子物質材料研究センター\n東北大学金属材料研究所先端放射光利用材料研究センター\n東北大学金属材料研究所人文科学と材料科学が紡ぐ新知創造学際ハブ\n茨城県中性子利用研究会 \n協賛：\nJ-PARC MLF利用者懇談会
URL:https://archive2019nt.cross.or.jp/events/240124/
LOCATION:東北大学金属材料研究所2号館1階講堂\, 青葉区片平2-1-1\, 仙台市\, 宮城県\, 980-8577\, Japan
ATTACH;FMTTYPE=image/png:https://archive2019nt.cross.or.jp/wp/wp-content/uploads/2018/01/noimg.png
END:VEVENT
END:VCALENDAR