BEGIN:VCALENDAR
VERSION:2.0
PRODID:-//CROSS 中性子科学センター（2019年アーカイブ） - ECPv5.14.1//NONSGML v1.0//EN
CALSCALE:GREGORIAN
METHOD:PUBLISH
X-WR-CALNAME:CROSS 中性子科学センター（2019年アーカイブ）
X-ORIGINAL-URL:https://archive2019nt.cross.or.jp
X-WR-CALDESC:CROSS 中性子科学センター（2019年アーカイブ） のイベント
BEGIN:VTIMEZONE
TZID:Asia/Tokyo
BEGIN:STANDARD
TZOFFSETFROM:+0900
TZOFFSETTO:+0900
TZNAME:JST
DTSTART:20240101T000000
END:STANDARD
END:VTIMEZONE
BEGIN:VEVENT
DTSTART;TZID=Asia/Tokyo:20240201T131000
DTEND;TZID=Asia/Tokyo:20240201T161000
DTSTAMP:20260426T034005
CREATED:20231227T054503Z
LAST-MODIFIED:20231227T054503Z
UID:25481-1706793000-1706803800@archive2019nt.cross.or.jp
SUMMARY:有機・高分子材料研究会  「中性子と軟X線を用いた有機・高分子材料解析」
DESCRIPTION:開催趣旨\n中性子産業利用推進協議会の各研究会では、今後15年の将来ビジョンについて5年ごとのマイルストーンを定めました。\n有機・高分子材料研究会では「水素原子を検出可能な中性子計測により、高い国際競争力を持つ有機・高分子材料を開発。持続可能な世界を実現」というビジョンを掲げ、今後5年間で、「中性子と放射光X線（特に軟X線とテンダーX線）を相補的に利用した研究を推進する」ことを目標にしました。\n今年度の研究会では、中性子と軟X線それぞれの特徴を活かした研究例についての発表を企画しました。\n中性子と軟X線の相補利用に関する議論が深まることを期待します。
URL:https://archive2019nt.cross.or.jp/events/240201/
LOCATION:オンライン
CATEGORIES:イベント,研究会
ATTACH;FMTTYPE=image/png:https://archive2019nt.cross.or.jp/wp/wp-content/uploads/2018/01/noimg.png
END:VEVENT
END:VCALENDAR