BEGIN:VCALENDAR
VERSION:2.0
PRODID:-//CROSS 中性子科学センター（2019年アーカイブ） - ECPv5.14.1//NONSGML v1.0//EN
CALSCALE:GREGORIAN
METHOD:PUBLISH
X-WR-CALNAME:CROSS 中性子科学センター（2019年アーカイブ）
X-ORIGINAL-URL:https://archive2019nt.cross.or.jp
X-WR-CALDESC:CROSS 中性子科学センター（2019年アーカイブ） のイベント
BEGIN:VTIMEZONE
TZID:Asia/Tokyo
BEGIN:STANDARD
TZOFFSETFROM:+0900
TZOFFSETTO:+0900
TZNAME:JST
DTSTART:20240101T000000
END:STANDARD
END:VTIMEZONE
BEGIN:VEVENT
DTSTART;TZID=Asia/Tokyo:20240216T130000
DTEND;TZID=Asia/Tokyo:20240216T170000
DTSTAMP:20260426T045617
CREATED:20231227T054652Z
LAST-MODIFIED:20231227T054652Z
UID:25471-1708088400-1708102800@archive2019nt.cross.or.jp
SUMMARY:ＣＢＩ研究機構 量子構造生命科学研究所 中性子産業利用推進協議会 生物・生体材料研究会 合同シンポジウム “Synergies between Cryo-EM and other technologies in Pharma”
DESCRIPTION:開催趣旨\n2017年にノーベル化学賞がCryo-EMの発展に貢献されたJacques Dubochet\, Joachim Frank and Richard Henderson三氏に対して授与されてから、Cryo-EMはライフサイエンスにおいては完全にgame changer の役割の一翼を担うことになり、PDB(Protein Data Bank)への登録数でも、ここ数年以内にX線を追い抜く勢いであり、この波は製薬企業にもいやおうなく、押し寄せています。\n生体内に存在する状態の分子の構造をとらえることと、それに対してのSBDD（Structure Based Drug Design）が求められる時代となります。総合科学である創薬において、Cryo-EMとほかの技術の連携は必須であり、特に、同じデータを取得できても、それらの技術により、より正確な構造へと格上げされていく時代です。\n今回はその見地より、講演会を企画しました。皆様のお役にたてれば幸いです。
URL:https://archive2019nt.cross.or.jp/events/240216/
LOCATION:オンライン
CATEGORIES:イベント,研究会
ATTACH;FMTTYPE=image/png:https://archive2019nt.cross.or.jp/wp/wp-content/uploads/2018/01/noimg.png
END:VEVENT
END:VCALENDAR