BEGIN:VCALENDAR
VERSION:2.0
PRODID:-//CROSS 中性子科学センター（2019年アーカイブ） - ECPv5.14.1//NONSGML v1.0//EN
CALSCALE:GREGORIAN
METHOD:PUBLISH
X-WR-CALNAME:CROSS 中性子科学センター（2019年アーカイブ）
X-ORIGINAL-URL:https://archive2019nt.cross.or.jp
X-WR-CALDESC:CROSS 中性子科学センター（2019年アーカイブ） のイベント
BEGIN:VTIMEZONE
TZID:Asia/Tokyo
BEGIN:STANDARD
TZOFFSETFROM:+0900
TZOFFSETTO:+0900
TZNAME:JST
DTSTART:20240101T000000
END:STANDARD
END:VTIMEZONE
BEGIN:VEVENT
DTSTART;TZID=Asia/Tokyo:20240319T133000
DTEND;TZID=Asia/Tokyo:20240319T170000
DTSTAMP:20260426T035044
CREATED:20240220T003524Z
LAST-MODIFIED:20240220T003524Z
UID:25637-1710855000-1710867600@archive2019nt.cross.or.jp
SUMMARY:電池材料研究会
DESCRIPTION:開催趣旨\n電池分野については、これまでLiイオン電池をはじめとして、燃料電池など幅広く研究され、紹介されています。\n本研究会は、それらを背景に、改めて二次電池に注目し、その動向、量子ビームを用いた解析の成果について報告し、議論を行う場とします。今回は、オペランド計測の最前線について、講師の皆様にご紹介をいただきます。
URL:https://archive2019nt.cross.or.jp/events/240319/
LOCATION:航空会館\, 東京都\, 港区新橋 1-18-1\, 105-0004
ATTACH;FMTTYPE=image/png:https://archive2019nt.cross.or.jp/wp/wp-content/uploads/2018/01/noimg.png
END:VEVENT
END:VCALENDAR