BEGIN:VCALENDAR
VERSION:2.0
PRODID:-//CROSS 中性子科学センター（2019年アーカイブ） - ECPv5.14.1//NONSGML v1.0//EN
CALSCALE:GREGORIAN
METHOD:PUBLISH
X-WR-CALNAME:CROSS 中性子科学センター（2019年アーカイブ）
X-ORIGINAL-URL:https://archive2019nt.cross.or.jp
X-WR-CALDESC:CROSS 中性子科学センター（2019年アーカイブ） のイベント
BEGIN:VTIMEZONE
TZID:Asia/Tokyo
BEGIN:STANDARD
TZOFFSETFROM:+0900
TZOFFSETTO:+0900
TZNAME:JST
DTSTART:20240101T000000
END:STANDARD
END:VTIMEZONE
BEGIN:VEVENT
DTSTART;TZID=Asia/Tokyo:20240822T130000
DTEND;TZID=Asia/Tokyo:20240823T153000
DTSTAMP:20260426T034111
CREATED:20240703T045253Z
LAST-MODIFIED:20240703T052326Z
UID:26710-1724331600-1724427000@archive2019nt.cross.or.jp
SUMMARY:令和 6 年度 中性子イメージング研究会
DESCRIPTION:開催趣旨\n中性子イメージングは、中性子の持つ高い物質透過能力を活用した非破壊での物質内部観察・分析手法として、幅広く利用されている実験技術です。近年の中性子線源の大強度化・高性能化、測定・解析技術の進歩により、物質の形状情報だけでなく、観測対象内部の構成元素の情報、結晶組織の情報の画像化、さらには温度や磁場の空間分布の画像化も、中性子イメージングの対象となりつつあります。 \n本研究会は、中性子イメージングに関連する研究の最新の状況を共有するとともに、さらなる技術開発と応用研究の発展に向けた議論の場を提供することを目的としています。今回の研究会では、中性子イメージング実験施設の最新情報や利用事例ならびに、ラジオグラフィ全般および中性子共鳴吸収法の研究事例に関する報告に続いて、今後の産業利用推進について議論いたします。 \nなお、研究会の二日目には中性子イメージング活用に関する相談会を現地にて開催いたしますので、中性子イメージングに興味をお持ちの多くの方々の参加を期待しております。
URL:https://archive2019nt.cross.or.jp/events/240822/
LOCATION:新橋ビジネスフォーラム\, 東京都港区新橋1-18-21　第一日比谷ビル8F\, 105-0004
CATEGORIES:イベント,研究会
ATTACH;FMTTYPE=image/png:https://archive2019nt.cross.or.jp/wp/wp-content/uploads/2018/01/noimg.png
END:VEVENT
END:VCALENDAR