BEGIN:VCALENDAR
VERSION:2.0
PRODID:-//CROSS 中性子科学センター（2019年アーカイブ） - ECPv5.14.1//NONSGML v1.0//EN
CALSCALE:GREGORIAN
METHOD:PUBLISH
X-WR-CALNAME:CROSS 中性子科学センター（2019年アーカイブ）
X-ORIGINAL-URL:https://archive2019nt.cross.or.jp
X-WR-CALDESC:CROSS 中性子科学センター（2019年アーカイブ） のイベント
BEGIN:VTIMEZONE
TZID:Asia/Tokyo
BEGIN:STANDARD
TZOFFSETFROM:+0900
TZOFFSETTO:+0900
TZNAME:JST
DTSTART:20240101T000000
END:STANDARD
END:VTIMEZONE
BEGIN:VEVENT
DTSTART;TZID=Asia/Tokyo:20240912T093000
DTEND;TZID=Asia/Tokyo:20240912T173000
DTSTAMP:20260426T034749
CREATED:20240725T042635Z
LAST-MODIFIED:20240725T042635Z
UID:27018-1726133400-1726162200@archive2019nt.cross.or.jp
SUMMARY:第10回 大型実験施設とスーパーコンピュータとの連携利用シンポジウム
DESCRIPTION:主題/内容\n― 高圧下量子ビーム計測と計算科学の融合で拡がる高圧科学の新展開 ― \n開催日時\n2024年09月12日 (木) 09時30分から17時30分まで \n開催方式\nオンサイト(秋葉原UDX)とオンライン(ZOOMによる一方向型配信)のハイブリッド開催 \nURL\nhttps://www.hpci-office.jp/events/symposia/renkei_sympo_240912
URL:https://archive2019nt.cross.or.jp/events/240912/
LOCATION:秋葉原UDX\, 外神田4-14-1\, 千代田区\, 東京都
CATEGORIES:シンポジウム
ATTACH;FMTTYPE=image/png:https://archive2019nt.cross.or.jp/wp/wp-content/uploads/2018/01/noimg.png
END:VEVENT
END:VCALENDAR