BEGIN:VCALENDAR
VERSION:2.0
PRODID:-//CROSS 中性子科学センター（2019年アーカイブ） - ECPv5.14.1//NONSGML v1.0//EN
CALSCALE:GREGORIAN
METHOD:PUBLISH
X-WR-CALNAME:CROSS 中性子科学センター（2019年アーカイブ）
X-ORIGINAL-URL:https://archive2019nt.cross.or.jp
X-WR-CALDESC:CROSS 中性子科学センター（2019年アーカイブ） のイベント
BEGIN:VTIMEZONE
TZID:Asia/Tokyo
BEGIN:STANDARD
TZOFFSETFROM:+0900
TZOFFSETTO:+0900
TZNAME:JST
DTSTART:20240101T000000
END:STANDARD
END:VTIMEZONE
BEGIN:VEVENT
DTSTART;VALUE=DATE:20241001
DTEND;VALUE=DATE:20241002
DTSTAMP:20260426T034951
CREATED:20240809T004454Z
LAST-MODIFIED:20240809T004454Z
UID:27366-1727740800-1727827199@archive2019nt.cross.or.jp
SUMMARY:第1回金属材料研究会
DESCRIPTION:開催趣旨\n主査：古河電工・佐々木宏和 \n金属材料の構造解析への中性子利用は、回折や小角散乱などの方法が多く用いられています。\nこの研究会では、実験参加企業より試料を準備頂いた上で中性子測定を行い、目的に応じた測定方法やデータ解析方法を検討します。\n昨年度は、iMATERIA トライアルユースを利用した測定を実施しました。\n今年度の第1回研究会では、各社の計測結果について紹介頂きます。\n尚、一定の成果が見通すことができるまでは、中性子産業利用推進協議会加入企業と関連する大学および施設関係者だけで、研究会を構成します。\nまた、中性子産業利用推進協議会加入企業であれば、途中からでも本実験に加わることは可能です。\n詳細は当日説明しますので、実験に興味のある方は本研究会にご参加ください。\n午後には中性子・X線小角散乱のデータ解析方法について、北海道大学 大沼正人教授による講義・実習を企画しました。\n実験室系X線や放射光の小角散乱利用者の方でもご参加頂けます。\nこちらは、中性子産業利用推進協議会加入企業以外の方も含めて、どなたでも参加可能です。
URL:https://archive2019nt.cross.or.jp/events/241001/
LOCATION:航空会館\, 東京都\, 港区新橋 1-18-1\, 105-0004
ATTACH;FMTTYPE=image/png:https://archive2019nt.cross.or.jp/wp/wp-content/uploads/2018/01/noimg.png
END:VEVENT
END:VCALENDAR