BEGIN:VCALENDAR
VERSION:2.0
PRODID:-//CROSS 中性子科学センター（2019年アーカイブ） - ECPv5.14.1//NONSGML v1.0//EN
CALSCALE:GREGORIAN
METHOD:PUBLISH
X-WR-CALNAME:CROSS 中性子科学センター（2019年アーカイブ）
X-ORIGINAL-URL:https://archive2019nt.cross.or.jp
X-WR-CALDESC:CROSS 中性子科学センター（2019年アーカイブ） のイベント
BEGIN:VTIMEZONE
TZID:Asia/Tokyo
BEGIN:STANDARD
TZOFFSETFROM:+0900
TZOFFSETTO:+0900
TZNAME:JST
DTSTART:20240101T000000
END:STANDARD
END:VTIMEZONE
BEGIN:VEVENT
DTSTART;TZID=Asia/Tokyo:20241013T093000
DTEND;TZID=Asia/Tokyo:20241013T190000
DTSTAMP:20260426T034719
CREATED:20240919T024023Z
LAST-MODIFIED:20241023T232159Z
UID:27494-1728811800-1728846000@archive2019nt.cross.or.jp
SUMMARY:第19回 日韓中性子科学研究会（The 19th Korea-Japan Meeting on Neutron Science）
DESCRIPTION:開催趣旨\n新しい中性子実験施設の建設など世界的な技術革新が起こっている中、J-PARC MLF・研究用原子炉JRR-3の連携ならびに国際連携が重要視されている。本研究会は2000年に「日韓中性子散乱研究交流会」としてKEKつくばキャンパスでの開催を機に、その後毎年、日韓でホストを交代しながら開催してきた。COVID-19で対面開催が中止されてきたが、韓国側からの要請を受けて再開すべく本年、日本中性子科学会が主催となり、日本で開催する運びとなった。JRR-3の再開後の開催ということで、日本と韓国の研究者により、固体物性・ソフトマター・液体・装置開発・産業利用など幅広い分野における最新の中性子散乱研究についての講演と議論を行う。また、J-PARC MLF、JRR-3、韓国の研究用原子炉HANAROの施設報告も合わせて行う。 \n開催期間\n2024年10月13日（日）9:30～19:00 \n場所\nAYA’S LABORATORY  量子ビーム研究センター  2 階  大会議室 \n申込\n\n終了しました\n\n参加費\n13\,000円（税込み）\nバンケット代3\,000円を含む \n\n終了しました\n\n申込と参加費支払いの締切\n2024年9月27日 \nプログラム\n\n\n\n9:00-\nRegistration\n\n\nOpening\nChair: Yukinobu Kawakita\n\n\n9:30-9:40\nWelcome address from JSNS\nYoshie Otake (RIKEN)\n\n\n9:40-9:50\nWelcome address from KNBUA\nSungyun Park (Pusan Nat’l Univ.)\n\n\n9:50-10:10\nThe history of Korea-Japan meeting\nHideki Seto (KEK)\n\n\nSession 1 – Facility Reports\nChair: Sungyun Park\n\n\n10:10-10:25\nCurrent status of HANARO Neutron Beam Facility\nYoung-Soo Han (KAERI)\n\n\n10:25-10:40\nCurrent status of MLF at J-PARC\nToshiya Otomo (KEK)\n\n\n10:40-10:55\nCurrent status of JRR-3 at JAEA\nKenji Nakajima (JAEA)\n\n\n10:55-11:10\nCoffee Break\n\n\nSession 2 – Hard Matter&Instrumentation\nChair: Takatsugu Masuda and Jae-Ho Chung\n\n\n11:10-11:35\nInelastic neutron scattering of in van der Waals honeycomb magnets\nJae-Ho Chung (Korea Univ)\n\n\n11:35-12:00\nMagnetic order and excitations in quasicrystal approximants\nKazuhiro Nawa (Tohoku Univ)\n\n\n12:00-12:25\nNeutron imaging system using Cyclotron\nMyungkook Moon (KAERI)\n\n\n12:25-12:50\nLocal magnetic structural analysis on frustrated magnets using magnetic pair distribution function\nKatsuaki Kodama (JAEA)\n\n\n \nPhotosession\n\n\n12:50-13:50\nLunch (& Business Meeting @AQBRC or Tokai Bld. No1)\n\n\n13:50-15:05\nPoster Session (and Coffee)\n\n\nSession 3 – Soft & Bio Matter\nChair: Hiroyuki Aoki and Sungmin Choi\n\n\n15:05-15:30\nQuantitative pore analysis using small angle scattering for secondary battery electrode materials\nHyeong Min Jin (Chungnam Nat’l Univ)\n\n\n15:30-15:55\nNeutron reflectometry at electrochemical liquid/liquid interfaces and single-step deuteration of ionic liquids\nKosuke Ishii (Kyoto Univ)\n\n\n15:55-16:20\nNeutron reflectometry for Langmuir monolayers of surface-active polymer nanoparticles\nSeyoung Kim (Dankook Univ)\n\n\n16:20-16:45\nNeutron crystallography of bacterial copper amine oxidase: Real active-site structures based on the positions of hydrogen atoms\nToshihide Okajima (Osaka Univ)\n\n\n16:45-17:00\nCoffee Break\n\n\nSession 4 – Enginnering and Material Science\nChair: Takahisa Shobu and Jongyul Kim\n\n\n17:00-17:25\nDeep penetration capability and microstructure analyses in metals\nWan Chuk Woo (KAERI)\n\n\n17:25-17:50\nMeasurements of residual stress and crystallographic texture of engineering materials\nPingguang Xu (JAEA)\n\n\n17:50-18:15\nNeutron imaging and grating interferometry for material science\nSeung Wook Lee (Pusan Nat’l Univ)\n\n\n18:15-18:40\nAtomic arrangement in hydrogen storage materials using neutron total scattering and reverse Monte Carlo method\nKazutaka Ikeda (CROSS)\n\n\n18:40-19:00\nClosing\n\n\n \nAnnounce for Next Conference\nTakashi Honda and Seung Wook Lee\n\n\n \nClosing address\n\n\n19:00-\nBanquet (Uoyasu)\n\n\n\n主催\n日本中性子科学会\n共催\nJ-PARC MLF\nCROSS\n茨城県\n東京大学 物性研究所\nJAEA物質科学研究センター\n韓国原子力研究所(KAERI)\n韓国核物理学会 (KNS)\n韓国中性子線利用懇談会 (KNBUA)\n \n\n組織委員会\nTakashi Honda (KEK\, chair)\nYukinobu Kawakita (JAEA)\nRyoji Kiyanagi (JAEA)\nKazuki Ohishi (CROSS)\nSeung Wook Lee (Pusan Nat’l Univ.) \n\n\nプログラム委員会\nKenji Nakajima (JAEA\, chair)\nHiroyuki Aoki (JAEA)\nKoji Kaneko (JAEA)\nTakahisa Shobu (JAEA)\nTakatsugu Masuda (Univ. of Tokyo)\nJongyul Kim (KAERI)\nSeung Wook Lee (Pusan Nat’l Univ.) \n\n\n問い合わせ先\nE-mail: 19th_KJ-meeting[at]cross.or.jp　＊ [at] を@に置き換えてください
URL:https://archive2019nt.cross.or.jp/events/241013/
LOCATION:AYA’S LABORATORY  Quantum Beam Research Center 2F  Conference Room\, AQBRC Bldg\, 162-1 Shirakata\, Tokai\, Naka\, Ibaraki JAPAN 319-1106\, 日本
ATTACH;FMTTYPE=image/png:https://archive2019nt.cross.or.jp/wp/wp-content/uploads/2018/01/noimg.png
END:VEVENT
END:VCALENDAR