BEGIN:VCALENDAR
VERSION:2.0
PRODID:-//CROSS 中性子科学センター（2019年アーカイブ） - ECPv5.14.1//NONSGML v1.0//EN
CALSCALE:GREGORIAN
METHOD:PUBLISH
X-WR-CALNAME:CROSS 中性子科学センター（2019年アーカイブ）
X-ORIGINAL-URL:https://archive2019nt.cross.or.jp
X-WR-CALDESC:CROSS 中性子科学センター（2019年アーカイブ） のイベント
BEGIN:VTIMEZONE
TZID:Asia/Tokyo
BEGIN:STANDARD
TZOFFSETFROM:+0900
TZOFFSETTO:+0900
TZNAME:JST
DTSTART:20240101T000000
END:STANDARD
END:VTIMEZONE
BEGIN:VEVENT
DTSTART;VALUE=DATE:20241019
DTEND;VALUE=DATE:20241023
DTSTAMP:20260426T035151
CREATED:20240924T052654Z
LAST-MODIFIED:20240924T053151Z
UID:27617-1729296000-1729641599@archive2019nt.cross.or.jp
SUMMARY:第9回量子ビームサイエンス国際シンポジウム (ISQBS2024)
DESCRIPTION:概要\n量⼦線科学専攻主催 第9回国際シンポジウム（対面）を開催します。\nサブタイトルは、”For world-leading quantum beam applications and next-generation facilities”です。\nなお、本シンポジウムは、第4回J-PARCシンポジウムのサテライトミーティングとなる予定です。 \n日時\n 2024年10月19日(土) ～ 2024年10月22日(火) \n会場\n茨城大学水戸キャンパス図書館本館ライブラリーホール 等 \nURL\n\nhttps://sites.google.com/g.ibaraki.ac.jp/isqbs2024/
URL:https://archive2019nt.cross.or.jp/events/241019-22/
LOCATION:茨城大学水戸キャンパス図書館本館ライブラリーホール\, 水戸市\, 茨城県\, 3108512\, 日本
CATEGORIES:シンポジウム
ATTACH;FMTTYPE=image/png:https://archive2019nt.cross.or.jp/wp/wp-content/uploads/2018/01/noimg.png
END:VEVENT
END:VCALENDAR