BEGIN:VCALENDAR
VERSION:2.0
PRODID:-//CROSS 中性子科学センター（2019年アーカイブ） - ECPv5.14.1//NONSGML v1.0//EN
CALSCALE:GREGORIAN
METHOD:PUBLISH
X-WR-CALNAME:CROSS 中性子科学センター（2019年アーカイブ）
X-ORIGINAL-URL:https://archive2019nt.cross.or.jp
X-WR-CALDESC:CROSS 中性子科学センター（2019年アーカイブ） のイベント
BEGIN:VTIMEZONE
TZID:Asia/Tokyo
BEGIN:STANDARD
TZOFFSETFROM:+0900
TZOFFSETTO:+0900
TZNAME:JST
DTSTART:20240101T000000
END:STANDARD
END:VTIMEZONE
BEGIN:VEVENT
DTSTART;VALUE=DATE:20241106
DTEND;VALUE=DATE:20241108
DTSTAMP:20260426T034300
CREATED:20240521T075041Z
LAST-MODIFIED:20240617T023002Z
UID:26418-1730851200-1731023999@archive2019nt.cross.or.jp
SUMMARY:NIMS AWARDシンポジウム2024
DESCRIPTION:開催趣旨：\n国立研究開発法人 物質・材料研究機構では2007年度より、物質・材料に関わる科学技術分野において飛躍的な進歩をもたらした個人、もしくはグループにNIMS AWARDを授与してきた。2024年度は「マテリアル革新力強化がもたらす最先端計測」と題し世界的に著名な研究者を選考し、NIMS AWARDを授与するとともに、関連する技術分野についてのシンポジウムを開催する。
URL:https://archive2019nt.cross.or.jp/events/24110607/
LOCATION:つくば国際会議場（エポカルつくば）\, 竹園2-20-3\, つくば市\, 茨城県\, 305-0032\, Japan
CATEGORIES:シンポジウム
ATTACH;FMTTYPE=image/png:https://archive2019nt.cross.or.jp/wp/wp-content/uploads/2018/01/noimg.png
END:VEVENT
END:VCALENDAR