BEGIN:VCALENDAR
VERSION:2.0
PRODID:-//CROSS 中性子科学センター（2019年アーカイブ） - ECPv5.14.1//NONSGML v1.0//EN
CALSCALE:GREGORIAN
METHOD:PUBLISH
X-WR-CALNAME:CROSS 中性子科学センター（2019年アーカイブ）
X-ORIGINAL-URL:https://archive2019nt.cross.or.jp
X-WR-CALDESC:CROSS 中性子科学センター（2019年アーカイブ） のイベント
BEGIN:VTIMEZONE
TZID:Asia/Tokyo
BEGIN:STANDARD
TZOFFSETFROM:+0900
TZOFFSETTO:+0900
TZNAME:JST
DTSTART:20240101T000000
END:STANDARD
END:VTIMEZONE
BEGIN:VEVENT
DTSTART;TZID=Asia/Tokyo:20241119T090000
DTEND;TZID=Asia/Tokyo:20241119T171000
DTSTAMP:20260426T035032
CREATED:20240924T052622Z
LAST-MODIFIED:20240924T052622Z
UID:27612-1732006800-1732036200@archive2019nt.cross.or.jp
SUMMARY:2024年度　理研小型中性子源システムRANSプロジェクト　シンポジウム
DESCRIPTION:タイトル\n小型中性子源は現場へ！〜新しい非破壊計測の夜明け〜\n小型中性子源の拓く世界ースマートインフラ、ものづくり、宇宙へむけてー \n日時\n2024年11月19日 (火) 9：00〜17：10 \n場所\n理化学研究所　和光キャンパス　鈴木梅太郎ホール \nURL\n\nhttps://rans.riken.jp/RANS_sympo2024.html
URL:https://archive2019nt.cross.or.jp/events/241119/
LOCATION:理化学研究所　和光キャンパス　鈴木梅太郎ホール\, 広沢 2-1\, 和光市\, 埼玉県
CATEGORIES:シンポジウム
ATTACH;FMTTYPE=image/png:https://archive2019nt.cross.or.jp/wp/wp-content/uploads/2018/01/noimg.png
END:VEVENT
END:VCALENDAR