BEGIN:VCALENDAR
VERSION:2.0
PRODID:-//CROSS 中性子科学センター（2019年アーカイブ） - ECPv5.14.1//NONSGML v1.0//EN
CALSCALE:GREGORIAN
METHOD:PUBLISH
X-WR-CALNAME:CROSS 中性子科学センター（2019年アーカイブ）
X-ORIGINAL-URL:https://archive2019nt.cross.or.jp
X-WR-CALDESC:CROSS 中性子科学センター（2019年アーカイブ） のイベント
BEGIN:VTIMEZONE
TZID:Asia/Tokyo
BEGIN:STANDARD
TZOFFSETFROM:+0900
TZOFFSETTO:+0900
TZNAME:JST
DTSTART:20110101T000000
END:STANDARD
END:VTIMEZONE
BEGIN:VEVENT
DTSTART;TZID=Asia/Tokyo:20110809T130000
DTEND;TZID=Asia/Tokyo:20110809T170000
DTSTAMP:20260426T035112
CREATED:20110801T150010Z
LAST-MODIFIED:20180122T065846Z
UID:448-1312894800-1312909200@archive2019nt.cross.or.jp
SUMMARY:「中性子粉末回折データの磁気構造解析」研究会
DESCRIPTION:「中性子粉末回折データの磁気構造解析」研究会\nJ-PARC/MLFに設置された 茨城県材料構造解析装置（iMATERIA） などの粉末回折装置を使って得た回折データの磁気構造解析を実施することを目標に、利用者のニーズ紹介、これまでの研究例の紹介などを題材として、必要とする装置や解析ソフトウエア、解決すべき課題などを基礎的なレベルから検討する。 \n平成23年度第1回電池材料研究会\n\n\n主催\n中性子産業利用推進協議会 「磁性材料研究会」 （主査：武田 全康（原子力機構））\n      MLF利用者懇談会「磁性・強相関分科会」 （代表者：小池洋二（東北大））\n      一般財団法人 総合科学研究機構 （CROSS）\n\n\n協賛\nSPring-8利用推進協議会 研究開発委員会\n\n\n日時\n2011年8月9日（火）13：00 ～ 17：00\n\n\n場所\n銀座会議室三丁目 7階D会議室 （下記参照）\n\n\n申し込み先\n中性子産業利用推進協議会　事務局　桐原由美子Email ： j-neutron@chorus.ocn.ne.jp（1）お名前、（2）ご所属先、（3）ご連絡先（電話番号、メールアドレス）をご記入の上、メールにてお申し込みください。\n\n\n申し込み締切\n2011年7月25日（月）\n\n\n参加費\n無料\n\n\nプログラム\n\n\n13：00-13：05\n開会挨拶武田 全康　/　桑原 慶太郎\n\n\n（前半司会：武田 全康、講演30分、質疑10分）\n\n\n13:05 – 13:45\n「Sr-La-Co系M型フェライトの局所構造解析」尾田 悦志 （日立金属（株）磁性材料研究所）\n\n\n13:45 – 14:25\n「Nd-Fe-B系磁石の保磁力と界面構造」杉本 諭 （東北大学大学院工学研究科）\n\n\n14:25 – 15:05\n「FullProfを用いた多結晶/単結晶試料の磁気構造解析」（FullProfの特徴、使い勝手、解析結果を含めて）南部 雄亮 （東京大学物性研究所）\n\n\n15:05 – 15:20\n（休憩）\n\n\n（後半司会：桑原 慶太郎、講演30分、質疑10分）\n\n\n15:20 – 16:00\n「粉末中性子回折による磁気構造解析研究」（Rietanの特徴、使い勝手、解析結果を含めて）中川 貴 （大阪大学大学院工学研究科）\n\n\n16:00 – 16:40\n「Structure refinement of TOF neutron powder diffraction data using Z-Rietveld\, GSAS and FullProf」Junrong Zhang （KEK物質構造科学研究所）\n\n\n16:40 – 17:00\n現状の纏め、今後の方向性についての討論桑原 慶太郎　/　森井 幸生\n\n\n会場までの交通アクセス\n【住所/連絡先】〒104-0061東京都中央区銀座3-7-10 松屋アネックスビル7階 D会議室TEL:03-3544-0611　　FAX：03-3544-0612 \n【交通アクセス】JR有楽町駅より徒歩10分地下鉄丸の内線・日比谷線・銀座線「銀座」駅A12の出口より徒歩2分浅草線「東銀座」駅A7・A8（進行方向により変わります）の出口より徒歩1分有楽町線「銀座一丁目」駅10・11出口より徒歩3分 \n\n【交通アクセスPDFダウンロード】銀座会議室三丁目 地図（PDFファイル）
URL:https://archive2019nt.cross.or.jp/events/v11001/
LOCATION:銀座会議室\, 銀座3-7-10 松屋アネックスビル7階 D会議室\, 中央区\, 東京都\, 104-0061\, Japan
CATEGORIES:研究会
END:VEVENT
END:VCALENDAR