BEGIN:VCALENDAR
VERSION:2.0
PRODID:-//CROSS 中性子科学センター（2019年アーカイブ） - ECPv5.14.1//NONSGML v1.0//EN
CALSCALE:GREGORIAN
METHOD:PUBLISH
X-WR-CALNAME:CROSS 中性子科学センター（2019年アーカイブ）
X-ORIGINAL-URL:https://archive2019nt.cross.or.jp
X-WR-CALDESC:CROSS 中性子科学センター（2019年アーカイブ） のイベント
BEGIN:VTIMEZONE
TZID:Asia/Tokyo
BEGIN:STANDARD
TZOFFSETFROM:+0900
TZOFFSETTO:+0900
TZNAME:JST
DTSTART:20110101T000000
END:STANDARD
END:VTIMEZONE
BEGIN:VEVENT
DTSTART;TZID=Asia/Tokyo:20111117T130000
DTEND;TZID=Asia/Tokyo:20111117T170000
DTSTAMP:20260426T034746
CREATED:20111109T150003Z
LAST-MODIFIED:20180131T110851Z
UID:569-1321534800-1321549200@archive2019nt.cross.or.jp
SUMMARY:平成23年度 第1回電池材料研究会
DESCRIPTION:平成23年度 第1回電池材料研究会\n\n\n主催\n中性子産業利用推進協議会 「電池材料研究会」 （主査：菅野了次（東京工業大学））\n\n\n共催\nJ-PARC/MLF利用者懇談会 「電池材料分科会」 （代表者：菅野了次（東京工業大学））一般財団法人 総合科学研究機構 （CROSS） （予定）\n\n\n協賛\nSPring-8利用推進協議会 研究開発委員会 （予定）\n\n\n概要\nJ-PARC/MLFに設置された、茨城県材料構造解析装置（iMATERIA） や超高分解能粉末回折装置（SuperHRPD）などを利用して行われた電池材料構造研究の中から、いくつかの実験において得られた電池材料の結晶構造と電池特性との関連を議論します。また、それらと関連する今後の研究展開について検討、議論します。\n\n\n日時\n2011年11月17日 （木） 13:00 ～ 17:00\n\n\n場所\n研究社英語センター会議室 大会議室〒162-0825 新宿区神楽坂1‐2\n\n\n\n\n13:00 – 13:05\n開会挨拶菅野了次主査\n\n\n \n司会：森 一広 （京都大学）\n\n\n13:05 – 13:45\n「リチウム2次電池の正極材劣化機構の評価」平野 辰巳 （日立製作所）\n\n\n13:45 – 14:25\n「リチウムイオン電池用電極を用いた微少電極材料の構造解析への挑戦」井手本 康 （東京理科大学）\n\n\n14:25 – 15:05\n「世界最高のリチウムイオン伝導率を示す超イオン伝導体の開発」菅野 了次 （東京工業大学） / 米村雅雄 （KEK） / 三井昭男 （トヨタ自動車）\n\n\n15:05 – 15:20\n（休憩）\n\n\n \n司会：井手本 康 （東京理科大学）\n\n\n15:20 – 16:00\n「新規マンガン酸リチウム正極物質の結晶構造と電池特性」茂筑 高士  （NIMS）\n\n\n16:00 – 16:40\n「特殊環境中性子粉末回折計(SPICA)の概要」米村 雅雄、神山 崇 （KEK） / 森 一広 （京都大学）\n\n\n16:40 – 16:55\n主査纏め菅野了次主査\n\n\n16:55\n閉会挨拶林 眞琴技監\n\n\n研究社英語センタービルへのアクセス\n\n\n          研究社英語センタービル \n        \n        所在地： 〒162-0825 東京都新宿区神楽坂1-2Tel： 03-3269-4331 / 03-3260-9856JR中央・総武線飯田橋駅西口 徒歩約3分東京メトロ南北線・有楽町線飯田橋駅B2a、B3出口 徒歩約7分\n      \n研究社英語センタービルへのアクセス
URL:https://archive2019nt.cross.or.jp/events/v11003/
LOCATION:研究社英語センター大会議室\, 神楽坂1-2\, 新宿区\, 東京都\, 162-0825\, Japan
CATEGORIES:研究会
ATTACH;FMTTYPE=image/png:https://archive2019nt.cross.or.jp/wp/wp-content/uploads/2018/01/noimg.png
END:VEVENT
END:VCALENDAR