BEGIN:VCALENDAR
VERSION:2.0
PRODID:-//CROSS 中性子科学センター（2019年アーカイブ） - ECPv5.14.1//NONSGML v1.0//EN
CALSCALE:GREGORIAN
METHOD:PUBLISH
X-WR-CALNAME:CROSS 中性子科学センター（2019年アーカイブ）
X-ORIGINAL-URL:https://archive2019nt.cross.or.jp
X-WR-CALDESC:CROSS 中性子科学センター（2019年アーカイブ） のイベント
BEGIN:VTIMEZONE
TZID:Asia/Tokyo
BEGIN:STANDARD
TZOFFSETFROM:+0900
TZOFFSETTO:+0900
TZNAME:JST
DTSTART:20110101T000000
END:STANDARD
END:VTIMEZONE
BEGIN:VEVENT
DTSTART;TZID=Asia/Tokyo:20111129T130000
DTEND;TZID=Asia/Tokyo:20111130T160000
DTSTAMP:20260426T034007
CREATED:20180117T072725Z
LAST-MODIFIED:20180307T080813Z
UID:576-1322571600-1322668800@archive2019nt.cross.or.jp
SUMMARY:材料の異方性と強度・変形特性および中性子研究の新しい動き
DESCRIPTION:研究会：「材料の異方性と強度・変形特性および中性子研究の新しい動き」\n茨城県材料構造解析装置iMATERIA には4つの検出器バンクに合わせて1\,600本の3He検出器が設けられています。また、環境下での材料評価を可能にするために各種の周辺装置の整備も進めています。その1つとして、高温ひずみ変形状態での集合組織測定装置があります。多数の検出器を備えているため、非常に短時間での集合組織の測定が可能となります。2012年度中に整備するに当たり、ユーザーの皆さまの装置に対するご意見を聞くことも含めて、集合組織に関係する材料の異方性や強度・変形特性に関する研究会を開催するものです。 \n主催\n中性子産業利用推進協議会 金属組織研究会日本鉄鋼協会「新世代中性子源を利用した鉄鋼元素機能の解明」研究会 \n共催\n茨城県J-PARC/MLF利用者懇談会一般財団法人 総合科学研究機構 （CROSS） \n協賛\nSPring-8利用推進協議会 \n日時\n2011年11月29日 （火） 13:00 ～ 30日 （水） 16:00 \n場所\n銀座会議室 （〒104-0061 東京都中央区銀座3-7-10 松屋アネックスビル） \n\n東京メトロ 銀座線・丸の内線・日比谷線「銀座駅」（A12番出口）より徒歩 2分\n都営浅草線「東銀座駅」（A7・8番出口）より徒歩 2分\nJR山手線「有楽町駅」（中央口）より徒歩 7分\n\nプログラム\n第1部 「材料の異方性と強度・変形特性」\n11月29日 \n司会： 茨城大学 鈴木徹也 \n\n\n13:00 – 13:05\n開会挨拶茨城大学 友田陽\n\n\n13:05 – 13:15\nJ-PARCの概要とiMATERIAの現状茨城県 林眞琴\n\n\n13:15 – 13:45\n等速・異周速複合圧延による軽金属板材の集合組織制御大阪府立大学 井上博史\n\n\n13:45 – 14:15\nＯＤＦの基礎、種類とその利用法リガク 山田義行\n\n\n14:15 – 14:40\nマグネシウムの塑性変形と集合組織工業技術センター 行武栄太郎\n\n\n14:40 – 15:00\n実用材料のプレス成形性に及ぼす異方性の影響茨城大学 西野創一郎\n\n\n15:00 – 15:10\n休憩\n\n\n15:10 – 15:30\n変態集合組織の記憶効果とその予測計算住友金属 富田俊郎 / 脇田昌幸\n\n\n15:30 – 16:00\n高温変形下での再結晶と集合組織横浜国大 長谷川誠\n\n\n16:00 – 16:20\nHIPPO(LANSCE)による集合組織測定とiMATERIAへの期待原子力機構 徐平光\n\n\n16:20 – 16:40\n中性子透過法（ブラッグエッジ法）による相観察茨城大学 岩瀬謙二\n\n\n16:40 – 17:00\niMATERIAの集合組織測定装置茨城大学 鈴木徹也\n\n\n17:00 – 17:20\nIn-situ中性子実験によるナノベイナイト鋼の挙動茨城大学 GONG_WU / 友田陽\n\n\n18:00～\n懇親会\n\n\n11月30日 \n\n\n9:20 – 10:00\n匠における集合組織測定の現状総合科学研究機構 伊藤崇芳\n\n\n10:00 – 10:40\n高温変形下での転位組織と析出物による強化について新日鐵 長谷川泰士\n\n\n第2部 「中性子研究の新しい動きと鉄鋼研究者からの期待」\n司会： NIMS 大沼正人 \n\n\n10:50 – 11:50\n高エネルギー中性子を用いたイメージング技術北海道大学 加美山隆\n\n\n11:50 – 13:00\n昼休み\n\n\n13:00 – 14:00\n「材料の変形・破壊特性への転位論的アプローチとその問題点」九州大学 東田賢二\n\n\n14:00 – 15:00\n偏極中性子を用いた磁場のイメージングJ-PARC 篠原武尚\n\n\n15:00 – 16:00\n中性子干渉イメージング理研 大竹淑恵\n\n\n16:00 – 16:40\n中性子回折による高強度拘束溶接継手の残留応力解析および水素低温割れ限界JFEスチール 末吉仁\n\n\n16:40\n閉会挨拶
URL:https://archive2019nt.cross.or.jp/events/v11005/
LOCATION:銀座会議室\, 銀座3-7-10 松屋アネックスビル7階 D会議室\, 中央区\, 東京都\, 104-0061\, Japan
CATEGORIES:研究会
ATTACH;FMTTYPE=image/png:https://archive2019nt.cross.or.jp/wp/wp-content/uploads/2018/01/noimg.png
END:VEVENT
END:VCALENDAR