BEGIN:VCALENDAR
VERSION:2.0
PRODID:-//CROSS 中性子科学センター（2019年アーカイブ） - ECPv5.14.1//NONSGML v1.0//EN
CALSCALE:GREGORIAN
METHOD:PUBLISH
X-WR-CALNAME:CROSS 中性子科学センター（2019年アーカイブ）
X-ORIGINAL-URL:https://archive2019nt.cross.or.jp
X-WR-CALDESC:CROSS 中性子科学センター（2019年アーカイブ） のイベント
BEGIN:VTIMEZONE
TZID:Asia/Tokyo
BEGIN:STANDARD
TZOFFSETFROM:+0900
TZOFFSETTO:+0900
TZNAME:JST
DTSTART:20120101T000000
END:STANDARD
END:VTIMEZONE
BEGIN:VEVENT
DTSTART;TZID=Asia/Tokyo:20120116T130000
DTEND;TZID=Asia/Tokyo:20120116T163000
DTSTAMP:20260426T035109
CREATED:20210225T083343Z
LAST-MODIFIED:20210304T095539Z
UID:16020-1326718800-1326731400@archive2019nt.cross.or.jp
SUMMARY:第1回 CROSS・JASRI研究会 ～中性子・放射光を利用した太陽電池解析の可能性～
DESCRIPTION:趣旨\n世界を代表する研究施設であるSPring-8及びJ-PARCは、これらの持てる最高水準の性能を活かし、放射光とパルス中性子を相補的に活用した材料の機能・構造に関する高精度な解析、評価等によって、我が国が直面している環境・エネルギー問題等の諸課題の解決にも資する画期的な利用成果がもたらされると期待されています。 \nSPring-8、J-PARCの登録施設利用促進機関（＊）であるJASRI及びCROSSは、この度、研究対象として『太陽電池』にターゲットを絞り、先行している施設利用者や、参加者からの意見を交えながら、両施設の活用方法や連携方策について、議論を行う「第1回CROSS・JASRI研究会」を開催いたします。 \n（＊）「特定先端大型研究施設の共用の促進に関する法律」の定めに基づき、SPring-8やJ-PARCにおいて、公平・公正な立場で利用促進業務を実施する機関 \n日時\n2012年1月16日 （月） 午後1時～4時15分 \n場所\n研究社英語センタービル地下1階 中会議室（〒162-0825 東京都新宿区神楽坂1-2） \n主催\n一般財団法人 総合科学研究機構 （CROSS）財団法人 高輝度光科学研究センター （JASRI） \n協賛\nSPring-8利用推進協議会中性子産業利用推進協議会MLF利用者懇談会 \n定員\n25名 （先着順受付） \n参加費\n無料 \nスケジュール\n\n\n13:00-\n開会挨拶 CROSS\n\n\n13:10-\n多層膜系太陽電池開発の現状と課題＜仮題＞豊田工業大学工学部教授　大下祥雄氏\n\n\n13:50-\n太陽電池の開発・普及の現状と課題＜仮題＞シャープ（株）ソーラーシステム開発本部副参事 中村京太郎氏\n\n\n \n（休憩 15分）\n\n\n14:45-\n中性子を利用した薄膜・界面の解析とJ-PARCの現状＜仮題＞CROSS東海事業センター 利用研究促進部 吉田登氏\n\n\n15:15-\n放射光による太陽電池等薄膜材料評価と中性子への期待JASRI産業利用推進室長 廣沢一郎氏\n\n\n15:45-\n意見交換（CROSS、JASRI、講演者、参加者）\n\n\n16:00-\n閉会挨拶 JASRI\n\n\n問い合わせ先\n\n\n垣口伸二（JASRI）skakigu＠spring8.or.jpTel: 0791-58-0987\n福嶋喜章（CROSS）y_fukushima＠cross.or.jpTel: 029-219-5300\n山口真市（CROSS）s_yamaguchi＠cross.or.jpTel: 029-219-5300\n\n\n関連ページ\n\n第1回 CROSS-JASRI研究会 「中性子・放射光を利用した太陽電池解析の可能性」開催\nフォトギャラリー
URL:https://archive2019nt.cross.or.jp/events/v12001/
LOCATION:研究社英語センタービル地下1階 中会議室\, 神楽坂1-2\, 新宿区\, 東京都\, 162-0825\, Japan
ATTACH;FMTTYPE=image/png:https://archive2019nt.cross.or.jp/wp/wp-content/uploads/2018/01/noimg.png
END:VEVENT
END:VCALENDAR