BEGIN:VCALENDAR
VERSION:2.0
PRODID:-//CROSS 中性子科学センター（2019年アーカイブ） - ECPv5.14.1//NONSGML v1.0//EN
CALSCALE:GREGORIAN
METHOD:PUBLISH
X-WR-CALNAME:CROSS 中性子科学センター（2019年アーカイブ）
X-ORIGINAL-URL:https://archive2019nt.cross.or.jp
X-WR-CALDESC:CROSS 中性子科学センター（2019年アーカイブ） のイベント
BEGIN:VTIMEZONE
TZID:Asia/Tokyo
BEGIN:STANDARD
TZOFFSETFROM:+0900
TZOFFSETTO:+0900
TZNAME:JST
DTSTART:20120101T000000
END:STANDARD
END:VTIMEZONE
BEGIN:VEVENT
DTSTART;TZID=Asia/Tokyo:20120808T130000
DTEND;TZID=Asia/Tokyo:20120808T170000
DTSTAMP:20260426T035027
CREATED:20210225T083628Z
LAST-MODIFIED:20210303T091131Z
UID:16033-1344430800-1344445200@archive2019nt.cross.or.jp
SUMMARY:平成24年度中性子産業応用セミナーin大阪
DESCRIPTION:趣旨\n茨城県東海村の大強度陽子加速器実験施設J-PARC の物質生命科学実験施設MLF が供用運転を開始して3年半が経過しました。この間、500件を超える実験課題を実施しました。そのなかで、産業界の利用は予想を大きく超え、課題件数では全体の40%近くを占めています。これは、中性子が新製品に必須の新しい材料開発にとって非常に有効であることを産業界の皆さまが認識されていることに尽きると考えます。本セミナーでは、J-PARC/MLFに整備されている、産業利用に適した実験装置の概要と、利用成果の一部を紹介します。 \n開催日時\n2012年8月8日 （水） 13:00～17:20 \n場所\n大阪科学技術センター 小ホール （8階）http://www.ostec.or.jp/access.html \n参加費\n無料 \n主催\n茨城県中性子産業利用推進協議会総合科学研究機構 東海事業センター （CROSS東海） \n共催\n日本原子力研究開発機構J-PARCセンター （JAEA/KEK）茨城大学フロンティア応用原子科学研究センター兵庫県 \n協賛\nSPring-8 利用推進協議会公益財団法人ひょうご科学技術協会 \n参加申し込み\n\n\n締切：\n2012年8月3日 （金）\n\n\n申込み先：\nいばらき量子ビーム研究センター茨城県事務室Email： info-neutron@pref.ibaraki.lg.jp＊所属、氏名、連絡先（電話番号及びメールアドレス）を明記の上、メールにてお申し込みください。\n\n\nプログラム\n\n\n13:00 – 13:15\n開会挨拶と中性子の産業利用\n茨城県企画部林 眞琴\n\n\n13:15 – 13:40\nJ-PARCの概要\nJ-PARCセンター加藤 崇\n\n\n13:40 – 14:05\n共用法と共用法装置について\nCROSS東海福嶋 喜章\n\n\n14:05 – 14:30\n茨城県材料構造解析装置BL20「iMATERIA」の概要\n茨城大学石垣 徹\n\n\n14:30 – 14:55\n茨城県生命物質構造解析装置BL03「iBIX」の概要\n茨城大学田中 伊知朗\n\n\n14:55 – 15:10\n休憩\n \n\n\n15:10 – 15:35\n工学材料回折装置BL19「匠」の概要\nJ-PARCセンターステファヌス ハルヨ\n\n\n15:35 – 16:00\n大強度型中性子小中角散乱装置BL15「TAIKAN」の概要\nCROSS東海鈴木 淳市\n\n\n16:00 – 16:25\n中性子反射率計とは何か– J-PARCで動き出した大強度偏極中性子反射率計BL17「写楽」 –\n原子力機構武田 全康\n\n\n16:25 – 16:50\nBi 系高温超電導線材の解析– 放射光及び中性子の活用 –\n住友電工 （株）山口 浩司\n\n\n16:50 – 17:15\n中性子イメージングによる高速撮影技術開発– エンジンオイルの動作状態の観測例 –\n原子力機構瀬川 麻里子\n\n\n17:15 – 17:20\n閉会挨拶\n \n\n\n会場までの交通アクセス\n〒550-0004 大阪市西区靱本町1-8-4四ツ橋線本町下車 四つ橋筋を北へ うつぼ公園北側 \n問い合わせ先\n茨城県企画部科学技術振興課いばらき量子ビーム研究センター茨城県事務室担当 嘉成（かなり）〒319-1106茨城県那珂郡東海村白方162－1Tel: 029-352-3301Fax: 029-352-3309Email: info-neutron＠pref.ibaraki.lg.jp
URL:https://archive2019nt.cross.or.jp/events/v12009/
LOCATION:大阪科学技術センター 小ホール\, 西区靱本町1丁目8-4\, 大阪市\, 大阪府\, 550-0004\, Japan
ATTACH;FMTTYPE=image/png:https://archive2019nt.cross.or.jp/wp/wp-content/uploads/2018/01/noimg.png
END:VEVENT
END:VCALENDAR