BEGIN:VCALENDAR
VERSION:2.0
PRODID:-//CROSS 中性子科学センター（2019年アーカイブ） - ECPv5.14.1//NONSGML v1.0//EN
CALSCALE:GREGORIAN
METHOD:PUBLISH
X-WR-CALNAME:CROSS 中性子科学センター（2019年アーカイブ）
X-ORIGINAL-URL:https://archive2019nt.cross.or.jp
X-WR-CALDESC:CROSS 中性子科学センター（2019年アーカイブ） のイベント
BEGIN:VTIMEZONE
TZID:Asia/Tokyo
BEGIN:STANDARD
TZOFFSETFROM:+0900
TZOFFSETTO:+0900
TZNAME:JST
DTSTART:20120101T000000
END:STANDARD
END:VTIMEZONE
BEGIN:VEVENT
DTSTART;TZID=Asia/Tokyo:20120928T130000
DTEND;TZID=Asia/Tokyo:20120928T173000
DTSTAMP:20260426T034739
CREATED:20210225T083744Z
LAST-MODIFIED:20210225T083811Z
UID:16038-1348837200-1348853400@archive2019nt.cross.or.jp
SUMMARY:文化財科学講演会 －放射光・中性子で文化財を探る－
DESCRIPTION:趣旨\n放射光や中性子ビームは、物質の様々な特性を非破壊で評価できるプローブ（探索子）であることから、文化財科学研究においても極めて重要な分析手段として期待されています。放射光につきましては、兵庫県播磨科学公園都市に設置されている大型放射光施設SPring-8（スプリング・エイト）をはじめ、茨城県つくば市のPhoton Factory（フォトンファクトリー）、佐賀県のSAGA-LSや立命館大学SRセンターなど多くの施設で研究が行われ、学術・産業の広範な分野でめざましい成果が得られています。 一方、中性子ビームにつきましても、従来の原子炉を利用した分析に加えて、茨城県東海村に建設されました大強度陽子加速器J-PARC（ジェイ・パーク）による利用も可能となったところです。しかし、わが国におきましては、文化財科学研究分野における放射光や中性子ビームの利用は依然として少ない状況にあります。そこで、文化財科学研究の一層の発展を期して、SPring-8、Photon Factory、J-PARCの三施設が連携して、これまでの研究成果を紹介する講演会を開催致します。 \n開催日\n2012年9月28日 （金） 13:00～17:30 \n場所\n研究社英語センタービル 地下2階 大会議室〒162-0825 東京都新宿区神楽坂1-2 （JR 飯田橋駅西口より徒歩 3分） \n主催\n（独）理化学研究所 播磨研究所（公財）高輝度光科学研究センター（共）高エネルギー加速器研究機構 物質構造科学研究所（一財）総合科学研究機構 東海事業センター \n共催\n日本放射光学会（公社）日本化学会（公社）日本分析化学会SPring-8利用推進協議会中性子産業利用推進協議会 \n協賛\n応用物理学会 \n定員\n100名 \n申込期間\n7月2日（月）10:00 ～9月24日 （火）17:00まで （予定）（定員に達し次第、締め切らせていただきます。） \n詳細\nhttp://www.spring8.or.jp/ja/science/meetings/2012/120928 \n申込方法\n詳細ページ からお申込みください。 \nプログラム\n\n\n開会挨拶\n \n\n\n講演1\n「放射光マイクロビームを用いた古代ガラス中の赤色・黄色顔料の状態分析」\n阿部 善也、中井 泉（東京理科大学理学部）\n\n\n講演2\n「放射光による古代ビーズの着色機構解明」\n沼子 千弥（千葉大学大学院理学研究科）\n\n\n講演3\n「放射光マイクロCTによる樹種識別」\n杉山 淳司（京都大学生存圏研究所）\n\n\n講演4\n「SPring-8を利用した古代青銅鏡の蛍光X線分析」\n廣川 守（泉屋博古館）\n\n\n講演5\n「中性子イメージングによる出土品の内部観察」\n増澤 文武（元興寺文化財研究所）\n\n\n講演6\n「中性子を用いた縄文式土器の研究」\n神山 崇（高エネルギー加速器研究機構 物構研 / J-PARC）\n\n\n閉会挨拶\n \n\n\n問い合わせ先\n公益財団法人高輝度光科学研究センター 研究調整部研究業務課 垣口伸二、吉川史津〒679-5198 兵庫県佐用郡佐用町光都1-1-1Tel： 0791-58-0949Fax： 0791-58-0830Email： sp8ws1＠spring8.or.jp
URL:https://archive2019nt.cross.or.jp/events/v12010/
LOCATION:研究社英語センタービル 地下2階大会議室\, 神楽坂1-2\, 新宿区\, 東京都\, 1620825\, Japan
ATTACH;FMTTYPE=image/png:https://archive2019nt.cross.or.jp/wp/wp-content/uploads/2018/01/noimg.png
END:VEVENT
END:VCALENDAR