BEGIN:VCALENDAR
VERSION:2.0
PRODID:-//CROSS 中性子科学センター（2019年アーカイブ） - ECPv5.14.1//NONSGML v1.0//EN
CALSCALE:GREGORIAN
METHOD:PUBLISH
X-WR-CALNAME:CROSS 中性子科学センター（2019年アーカイブ）
X-ORIGINAL-URL:https://archive2019nt.cross.or.jp
X-WR-CALDESC:CROSS 中性子科学センター（2019年アーカイブ） のイベント
BEGIN:VTIMEZONE
TZID:Asia/Tokyo
BEGIN:STANDARD
TZOFFSETFROM:+0900
TZOFFSETTO:+0900
TZNAME:JST
DTSTART:20120101T000000
END:STANDARD
END:VTIMEZONE
BEGIN:VEVENT
DTSTART;VALUE=DATE:20121218
DTEND;VALUE=DATE:20121222
DTSTAMP:20260426T034112
CREATED:20210225T083951Z
LAST-MODIFIED:20210225T083951Z
UID:16049-1355788800-1356134399@archive2019nt.cross.or.jp
SUMMARY:MLF school
DESCRIPTION:大強度陽子加速器施設J-PARCの物質・生命科学実験施設（MLF）では、世界トップクラスのパルス中性子/ミュオン実験装置群を用いて最先端の物質科学、生命科学を日夜行っています。一方、将来にわたって日本発の優れた研究成果を残していくためにも、次世代の研究者を育成し、サイエンスの質を向上させることはMLFの使命だと考えています。MLF schoolは、中性子/ミュオンを用いた実験に興味を持ちながらまだ足を踏み入れていない若手研究者を対象に、中性子/ミュオンを用いた物性実験に関する講義、演習を行い、J-PARC、ひいては日本全体の研究を盛り上げていくことを目的とした短期スクールです。 \n主催\nJ-PARCセンター（JAEA & KEK）一般財団法人総合科学研究機構 東海事業センター茨城県 \n共催\nKEK物質構造科学研究所J-PARC/MLF利用者懇談会中性子産業利用推進協議会 \n後援\n日本中性子科学会日本中間子科学会東京大学物性研究所 \n開催日時\n2012年12月18日～21日（3泊4日） \n場所\n\nいばらき量子ビーム研究センター\nJ-PARC/MLF\n\n対象者\nこれから中性子散乱、ミュオン実験を始めようとする、あるいは、中性子散乱、ミュオン実験初心者の大学院生、若手研究者（原則として放射線業務従事者である必要があります） \n定員\n20名程度 \n宿泊\n東海ドミトリー \n選考方法\n志望動機等を選考基準とする。 \n参加費\n一般 ￥12\,000 / 学生 ￥6\,000（参加者は東海ドミトリーに宿泊していただきますので、宿泊費として別途￥6\,000が必要となります） \n申込期間\n2012年9月1日～10月12日 \nプログラム\n\n\n \n1日目12月18日（火）\n2日目12月19日（水）\n3日目12月20日（木）\n4日目12月21日（金）\n\n\n午前\n \n講義 \n\nJ-PARCについて\n3号炉の説明\n中性子科学の概要\nミュオン科学の概要\n\n\n演習（継続）\n発表・報告会\n\n\n昼\n昼食\n昼食\n\n\n午後\n演習 \n\n装置のインストラクション、測定原理、演習課題についてのレクチャーも同時に行う\n\n\nデータ解析発表資料作り\n \n\n\n入校式ガイダンスJ-PARCの放射線安全教育訓練\n\n\n夜\nレセプション\n \nバンケット\n\n\nお問合せ / お申込み / 詳細情報\nMLF school ホームページ を参照ください。
URL:https://archive2019nt.cross.or.jp/events/v12014/
LOCATION:いばらき量子ビーム研究センター\, 白方162-1\, 那珂郡東海村\, 茨城県\, Japan
ATTACH;FMTTYPE=image/png:https://archive2019nt.cross.or.jp/wp/wp-content/uploads/2018/01/noimg.png
END:VEVENT
END:VCALENDAR