BEGIN:VCALENDAR
VERSION:2.0
PRODID:-//CROSS 中性子科学センター（2019年アーカイブ） - ECPv5.14.1//NONSGML v1.0//EN
CALSCALE:GREGORIAN
METHOD:PUBLISH
X-WR-CALNAME:CROSS 中性子科学センター（2019年アーカイブ）
X-ORIGINAL-URL:https://archive2019nt.cross.or.jp
X-WR-CALDESC:CROSS 中性子科学センター（2019年アーカイブ） のイベント
BEGIN:VTIMEZONE
TZID:Asia/Tokyo
BEGIN:STANDARD
TZOFFSETFROM:+0900
TZOFFSETTO:+0900
TZNAME:JST
DTSTART:20120101T000000
END:STANDARD
END:VTIMEZONE
BEGIN:VEVENT
DTSTART;TZID=Asia/Tokyo:20121210T093000
DTEND;TZID=Asia/Tokyo:20121211T164500
DTSTAMP:20260426T034746
CREATED:20210225T084010Z
LAST-MODIFIED:20210303T090735Z
UID:16050-1355131800-1355244300@archive2019nt.cross.or.jp
SUMMARY:日本中性子科学会 第12回年会 JSNS2012 in Kyoto
DESCRIPTION:会期\n2012年12月10日（月）9:30 ～ 12月11日（火）16:45 （予定）12月9日（日）14:30～16:30は市民講座の開催を予定しています。 \n場所\n京都大学 吉田キャンパス 百周年時計台記念館 （京都市左京区吉田本町）詳細は、京都大学ホームページ をご覧下さい。 \n主催\n日本中性子科学会 \n共催\n京都大学大学院工学研究科京都大学化学研究所京都大学原子炉実験所東京大学物性研究所高エネルギー加速器研究機構物質構造科学研究所J-PARC 物質・生命科学実験施設一般財団法人 総合科学研究機構中性子産業利用推進協議会茨城県 \n協賛\n日本放射光学会J-PARC/MLF利用者懇談会 \n参加登録\n発表及び概要集：  10月12日（金） 締切事前参加登録：     11月9日（金） 締切 \n詳細\nJSNS2012 in Kyoto ホームページ をご覧ください。 \nその他\n付帯事業として「産業利用相談デスク」と「産業利用セミナー」が同時開催されます。
URL:https://archive2019nt.cross.or.jp/events/v12015/
ATTACH;FMTTYPE=image/png:https://archive2019nt.cross.or.jp/wp/wp-content/uploads/2018/01/noimg.png
END:VEVENT
END:VCALENDAR