BEGIN:VCALENDAR
VERSION:2.0
PRODID:-//CROSS 中性子科学センター（2019年アーカイブ） - ECPv5.14.1//NONSGML v1.0//EN
CALSCALE:GREGORIAN
METHOD:PUBLISH
X-WR-CALNAME:CROSS 中性子科学センター（2019年アーカイブ）
X-ORIGINAL-URL:https://archive2019nt.cross.or.jp
X-WR-CALDESC:CROSS 中性子科学センター（2019年アーカイブ） のイベント
BEGIN:VTIMEZONE
TZID:Asia/Tokyo
BEGIN:STANDARD
TZOFFSETFROM:+0900
TZOFFSETTO:+0900
TZNAME:JST
DTSTART:20120101T000000
END:STANDARD
END:VTIMEZONE
BEGIN:VEVENT
DTSTART;TZID=Asia/Tokyo:20120927T133000
DTEND;TZID=Asia/Tokyo:20120927T170000
DTSTAMP:20260426T034737
CREATED:20210225T084137Z
LAST-MODIFIED:20210303T095330Z
UID:16051-1348752600-1348765200@archive2019nt.cross.or.jp
SUMMARY:平成24年度 金属組織研究会 第1回研究会
DESCRIPTION:趣旨\n金属組織研究会が平成24年度第1回研究会として、小角散乱を使った金属組織解析技術に関するセミナーを開催します。 \n今回は「米国における小角散乱研究の動向」として、オークリッジ国立研究所とアルゴンヌ国立研究所からそれぞれ講師をお招きし、中性子小角散乱を利用した「高温酸化と水素」の研究をLittrell博士から、Ilavalsky博士には広いq領域、特に、極小角散乱領域の観測による大きな構造を見ることの重要性をお話しいただきます。 \n両博士はそれぞれ、ユーザーフレンドリーな解析システムの構築にも熱心に取り組んでおられますので、その内容についても第2部でお話しいただきます。 \nこの研究会は小角散乱の第一人者の御講演を同時に聞けるまたとない機会であるとともに、実務的な御講演であることが期待できますので、実際に小角散乱を利用する上で非常に有用なお話がたくさん聞けると思います。 \nお時間のある方はこの貴重な機会を利用されることを強くお勧めします。 \n特別セミナー\n「米国における小角散乱研究の動向～中性子、極小角散乱、解析法」“Research activity on small-angle scattering in United States\, Ultra-small angle scattering\, Neutron scattering and user friendly analysis” \n共催\n中性子産業利用推進協議会茨城県中性子利用促進研究会J-PARC/MLF 利用者懇談会CROSS東海 \n協賛\nSPring-8 利用推進協議会 （予定） \n開催日時\n2012年9月27日（木） 13:30～17:00 \n場所\n物材機構 千現サイト 第1会議室 \n講師\nDr Kenneth C. LittrellLead Instrument Scientist\, CG2 General Purpose SANS Chemistry and Engineering Materials Division /High Flux Isotope ReactorOak Ridge National Laboratory \nDr Jan IlavskyPhysicist\, X-Ray Science Division\, Advanced Photon Source Argonne National Laboratory \nプログラム\n\n\n13:30 – 13:35\nOpening remark\nDr Makoto Hayashi(Ibaraki Pref. Gov.)\n\n\n13:35 – 14:30\n“Small-angle neutron scattering study of the wet and dry high-temperature oxidation of alumina- and chromia-forming stainless steels”\nDr Kenneth C. Littrell\n\n\n14:30 – 15:15\n“Combining USAXS and USAXS imaging techniques for advanced materials”\nDr Jan Ilavsky\n\n\n15:15 – 15:35\nbreak\n\n\n15:35 – 16:10\n“Analysis of Small-angle scattering in ORNL”\nDr Kenneth C. Littrell\n\n\n16:10 – 16:45\n“Analysis of Small-angle scattering in ANL”\nDr Jan. Ilavsky\n\n\n16:45 – 16:55\nDiscussion\n \n\n\n16:55 – 17:00\n Closing and Adjarn\n \n\n\nお申込み先\n中性子産業利用推進協議会事務局　担当：桐原Email: info@j-neutron.com下記の内容をご記入の上、メールにてお申し込みください。——————————————– (1) お名前 (2) ご所属 (3) ご連絡先電話番号 (4) メールアドレス——————————————–
URL:https://archive2019nt.cross.or.jp/events/v12017/
ATTACH;FMTTYPE=image/png:https://archive2019nt.cross.or.jp/wp/wp-content/uploads/2018/01/noimg.png
END:VEVENT
END:VCALENDAR