BEGIN:VCALENDAR
VERSION:2.0
PRODID:-//CROSS 中性子科学センター（2019年アーカイブ） - ECPv5.14.1//NONSGML v1.0//EN
CALSCALE:GREGORIAN
METHOD:PUBLISH
X-WR-CALNAME:CROSS 中性子科学センター（2019年アーカイブ）
X-ORIGINAL-URL:https://archive2019nt.cross.or.jp
X-WR-CALDESC:CROSS 中性子科学センター（2019年アーカイブ） のイベント
BEGIN:VTIMEZONE
TZID:Asia/Tokyo
BEGIN:STANDARD
TZOFFSETFROM:+0900
TZOFFSETTO:+0900
TZNAME:JST
DTSTART:20120101T000000
END:STANDARD
END:VTIMEZONE
BEGIN:VEVENT
DTSTART;TZID=Asia/Tokyo:20121221T130000
DTEND;TZID=Asia/Tokyo:20121221T173000
DTSTAMP:20260426T035106
CREATED:20210226T073051Z
LAST-MODIFIED:20210226T073051Z
UID:16081-1356094800-1356111000@archive2019nt.cross.or.jp
SUMMARY:第6回ソフトマター中性子散乱研究会 ―高分子を中心としたソフトマテリアルの構造研究におけるJ-PARC積極的有効利用法を探る―
DESCRIPTION:概要\n高輝度中性子線を利用した新しいソフトマテリアルの科学がJ-PARCにおいて始まりつつあります。その流れの中で、特に高分子材料の構造研究においてJ-PARC施設の積極的利用がいかに有効であるのか、また、どのような利用方法が可能であるのかを深く、広く探るために下記のようなディスカッションを行うことにしました。皆様方の積極的なご参加とご意見をお願いいたします。 \n共催\n中性子産業利用推進協議会茨城県中性子利用促進研究会J-PARC/MLF 利用者懇談会総合科学研究機構 （CROSS） \n協賛\nSPring-8 利用推進協議会 \n開催日時\n2012年12月21日（金） 13:00～17:30 \n場所\n研究社英語センター大会議室〒162-0825 新宿区神楽坂1-2Tel: 03-3269-4331 \nプログラム\n\n\n13:00 – 13:05\n開会挨拶\n田代孝二主査\n\n\n13:05 – 13:20\nJ-PARCの現状と中性子の産業利用\n茨城県  林眞琴\n\n\n13:20 – 13:55\n高分子結晶構造解析の立場から：J-PARC利用についての実感\n豊田工業大学  田代孝二\n\n\n13:55 – 14:30\n小角中性子散乱： J-PARCに期待すること\n茨城大学  小泉智\n\n\n14:30 – 15:05\n微小角入射散乱法による高分子界面・薄膜研究の展開\n三重大学  鳥飼直也\n\n\n15:05 – 15:15\n休憩\n\n\n15:15 – 17:00\n高分子としてのタンパク質構造解析：様々の手法のシンクロナイゼーション\n\n\n（A） 質量分析の立場から\n横浜市立大  明石知子\n\n\n（B） 広角X線、中性子回折の立場から\n茨城大学  田中伊知朗\n\n\n（C） 小角X線、中性子散乱の立場から\n横浜市立大学  佐藤衛\n\n\n17:00 – 17:30\n高分子とJ-PARCの関わりについて （パネルディスカッション）\n\n\n17:30\n閉会\n\n\n懇親会\n近くの地ビールダイニング「ラ・カシェット」で懇親会を開催します。施設あるいは大学とユーザーのざっくばらんな意見の交換の場になります。是非ご参加ください。 \n\n\n会費:\n￥2\,000\n\n\n時間:\n17:40～19:40\n\n\n会場:\n会場: 神楽坂 ラ・カシェット美味しい地ビールを楽しめるところです。〒162-0825 東京都新宿区神楽坂1-10 三経第22 ビル3FTel: 03-3513-0823モスバーガーの西隣りです。\n\n\n\n      \n       \n参加申込み先\n中性子産業利用推進協議会事務局　担当：桐原Email: info@j-neutron.com下記の内容をご記入の上、メールでご連絡ください。——————————————– (1) お名前 (2) ご所属 (3) ご連絡先電話番号 (4) メールアドレス (5) 懇親会に　参加する・参加しない （どちらか消してください）——————————————– \n研究社英語センタービルへのアクセス\n\n        〒162-0825 東京都新宿区神楽坂1-2Tel: 03-3269-4331 / 03-3260-9856JR中央・総武線飯田橋駅西口 徒歩約3分東京メトロ南北線・有楽町線飯田橋駅B2a、B3出口 徒歩約7分\n      \nみなさまのご参加をお待ちしています。
URL:https://archive2019nt.cross.or.jp/events/v12022/
LOCATION:研究社英語センター大会議室\, 神楽坂1-2\, 新宿区\, 東京都\, 162-0825\, Japan
ATTACH;FMTTYPE=image/png:https://archive2019nt.cross.or.jp/wp/wp-content/uploads/2018/01/noimg.png
END:VEVENT
END:VCALENDAR