BEGIN:VCALENDAR
VERSION:2.0
PRODID:-//CROSS 中性子科学センター（2019年アーカイブ） - ECPv5.14.1//NONSGML v1.0//EN
CALSCALE:GREGORIAN
METHOD:PUBLISH
X-WR-CALNAME:CROSS 中性子科学センター（2019年アーカイブ）
X-ORIGINAL-URL:https://archive2019nt.cross.or.jp
X-WR-CALDESC:CROSS 中性子科学センター（2019年アーカイブ） のイベント
BEGIN:VTIMEZONE
TZID:Asia/Tokyo
BEGIN:STANDARD
TZOFFSETFROM:+0900
TZOFFSETTO:+0900
TZNAME:JST
DTSTART:20130101T000000
END:STANDARD
END:VTIMEZONE
BEGIN:VEVENT
DTSTART;VALUE=DATE:20130311
DTEND;VALUE=DATE:20130313
DTSTAMP:20260426T034848
CREATED:20210226T085945Z
LAST-MODIFIED:20210303T104357Z
UID:16115-1362960000-1363132799@archive2019nt.cross.or.jp
SUMMARY:平成24年度 Z-Code講習会
DESCRIPTION:概要\n2009年以降、BL08、BL20ユーザーの要望を受けて、粉末回折装置用解析ツール Z-Rietveld の講習会を何度か行って来ましたが、Z-Rietveld の利用者はBL19、BL21、BL11ユーザーにも広がっています。 Z-Rietveld の利用者数は順調に増え、Mac版とWindows版で250本を超える登録数になっていますが、2011年11月以降講習会を開催していません。使い方の問合せがメールで連日寄せられていて対応に追われています。一方で、マキシマム・エントロピー法（MEM）による解析ツールZ-MEMや、解析結果を3次元表示するツールZ-3D、結晶模型表示ツールZ-ATOM、指数付けツールConographを開発し、粉末回折装置利用者向けに配布を検討しています。そこで、全てのMLF粉末回折装置向けのZ-Code講習会を3月11日（月）～12日（火）に開催することにしました。 \n主催\nJ-PARCセンター MLFディビジョン茨城県KEK物質構造科学研究所 \n共催\n中性子産業利用推進協議会CROSS東海 \n開催日時\n2013年3月11日（月） 13:00～17:00            3月12日（火） 10:00～17:00 \n場所\nLMJ東京研修センター〒113-0033 東京都文京区本郷1-11-14 小倉ビル3階Tel: 03-5842-6690 \n内容\nリートベルト法の基礎回折結晶学の基礎回折装置の説明Z-MEM、Z-3D等の説明と実習 \n募集人数\n100名程度 （実習を含む） \nプログラム\n\nJ-PARC/MLFの紹介KEK 神山崇教授\nMLF粉末回折装置の紹介 （装置パラメータ、データ構造等）iMATERIA / SuperHRPD / NOVA / Takumi / PLANET / SPICA\n回折結晶学の基礎東北大学 木村宏之准教授\n4結晶構造と空間群・TOF回折法の特徴東北大学 木村宏之准教授\nZ-Code\n            ・リートベルト法基礎 （Z-Rietveld で用いている関数等、P(tof) = AEd4F2h(tof)\,\,\,）\n            ・Z-MEMの原理 （内部の処理）\n            ・Z-Rietveld の使い方とノウハウ ： Mac版\n            ・Z-Rietveld の使い方とノウハウ ： Windows版\n            ・Z-MEMの原理、使い方とノウハウ\n            ・Z-3D、Z-ATOMの使い方\n            ・（Conographの原理と使い方）\n        \n\nお詫び\nPCについてはできる限りMacをご持参ください。開催元では、2人にMac1台を使って受講していただくことで15台程度準備する予定でしたが、Mac貸与希望者が非常に多く費用負担が困難となりました。大変申し訳ありませんが、協議会会員以外の方につきましては実費￥7\,000（2日分）の負担をお願いします。 \n申込み先\n中性子産業利用推進協議会事務局　担当：桐原Email: info@j-neutron.com下記の内容をご記入の上、メールでご連絡ください。——————————————– (1) お名前 (2) ご所属 (3) ご連絡先電話番号 (4) メールアドレス (5) 持参するPC : Mac ・ Windows （どちらか消してください）——————————————– \nLMJ東京研修センターへのアクセス\n〒113-0033 東京都文京区本郷1-11-14 小倉ビル3階Tel: 03-5842-6690 \nJR総武線 水道橋駅 東口より徒歩6分都営地下鉄三田線 水道橋駅 A6出口より徒歩3分地下鉄丸の内線・南北線 後楽園駅 出口3より徒歩5分東京メトロ丸の内線 本郷三丁目駅 出口2より徒歩5分都営地下鉄大江戸線 本郷三丁目駅 出口3より徒歩5分
URL:https://archive2019nt.cross.or.jp/events/v13002/
ATTACH;FMTTYPE=image/png:https://archive2019nt.cross.or.jp/wp/wp-content/uploads/2018/01/noimg.png
END:VEVENT
END:VCALENDAR