BEGIN:VCALENDAR
VERSION:2.0
PRODID:-//CROSS 中性子科学センター（2019年アーカイブ） - ECPv5.14.1//NONSGML v1.0//EN
CALSCALE:GREGORIAN
METHOD:PUBLISH
X-WR-CALNAME:CROSS 中性子科学センター（2019年アーカイブ）
X-ORIGINAL-URL:https://archive2019nt.cross.or.jp
X-WR-CALDESC:CROSS 中性子科学センター（2019年アーカイブ） のイベント
BEGIN:VTIMEZONE
TZID:Asia/Tokyo
BEGIN:STANDARD
TZOFFSETFROM:+0900
TZOFFSETTO:+0900
TZNAME:JST
DTSTART:20130101T000000
END:STANDARD
END:VTIMEZONE
BEGIN:VEVENT
DTSTART;TZID=Asia/Tokyo:20130318T130000
DTEND;TZID=Asia/Tokyo:20130318T170000
DTSTAMP:20260426T034750
CREATED:20210226T085947Z
LAST-MODIFIED:20210302T024209Z
UID:16114-1363611600-1363626000@archive2019nt.cross.or.jp
SUMMARY:平成24年度 第2回残留ひずみ・応力解析研究会
DESCRIPTION:共催\n中性子産業利用推進協議会茨城県中性子利用促進研究会J-PARC/MLF 利用者懇談会総合科学研究機構（CROSS）SPring-8 ユーザー協同体 \n協賛\nSPring-8 利用推進協議会 \n開催日時\n2013年3月18日（月） 13:00～17:00 \n場所\n研究社英語センタービル 大会議室〒162-0825 新宿区神楽坂1-2Tel: 03-3269-4331 \nテーマ\n各種構造物の残留応力測定と FEM による解析 \nプログラム\n\n\n13:00 – 13:05\n開会挨拶\n秋庭義明主査\n\n\n13:05 – 13:25\nJ-PARCの状況と産業利用J-PARC/MLFと茨城県BLの現状と中性子の産業利用の状況、ならびに2013Aにおける課題採択結果などを紹介する。\n林眞琴（茨城県）\n\n\n13:25 – 13:55\nレーザー誘起応力波とアルミニウム合金の相互作用のSACLAによる実時間観察溶体化処理したアルミニウム合金の薄片にパルスレーザーを照射して衝撃を加え、試験片裏面にXFELを照射して回折X線を測定した。XFELのエネルギーは10keV とし、回折X線は2次元検出器（MPCCD）で測定した。その結果、衝撃が試験片裏面に到達する時間に対応してX線の回折パターンが変化し、結晶が細粒化していく様子が明らかになった。また、析出物に対応する回折や結晶の回転を示唆するようなデータも得られた。\n佐野雄二（東芝）\n\n\n13:55 – 14:25\n浸炭焼入したクロムモリブデン鋼の残留応力と硬化層の評価輸送機械に用いるクロムモリブデン鋼部品は、表面改質目的で浸炭焼入することが多いが、焼入変形を制御するには残留応力や硬化層を定量評価する必要がある。本研究では、モデル試験片を作製し、中性子ひずみスキャニング等により浸炭焼入後の試験片内部の残留ひずみ分布を非破壊測定した結果と、残留応力の元となる硬化層生成との関係について検討した結果について報告する。\n坂井田喜久（静岡大学）\n\n\n14:25 – 14:55\n中性子回折による原子力配管の溶接残留応力測定原子力発電プラントにおいて、応力腐食割れが多数報告されているステンレス鋼配管溶接継手を対象に実施した中性子回折法による残留応力測定結果を報告し、合わせて有限要素法解析結果との比較を示す。また、測定と解析の比較結果等をもとに、中性子回折法による残留応力測定精度向上のための合理的な測定条件や測定信頼性に大きな影響を及ぼす無ひずみ状態の格子面間隔do値の精度向上について考察する。\n前川晃（INSS）\n\n\n14:55 – 15:10\n休憩\n\n\n15:10 – 15:50\n原子力機器における残留応力の評価原子力配管や機器においては、製作時に加工や溶接などにより残留応力が形成される。それらのいくつかの測定および解析事例を紹介する。また、疲労強度を向上させ、応力腐食割れを防止するためにさまざまな表面処理が施される。それらの測定結果や、き裂進展に伴う残留応力の再分布挙動の評価結果などを紹介する。\n林眞琴（茨城県）\n\n\n15:50 – 16:20\n赤外線応力測定による鋼橋の疲労き裂の非破壊評価近年、経年劣化した鋼橋の維持管理が問題になっている。特に、鋼橋の疲労き裂の進展は都市部の高速道路をはじめ、過酷な車両重量を受け持つ鋼床板に多く認められ、これらに対する非破壊検査法および構造健全性評価法の開発が急務である。本講演では、赤外線カメラによる熱弾性応力計測に基づき、橋梁の疲労き裂を遠隔から高効率に検出するとともに、き裂先端近傍の応力を評価することにより構造健全性を評価する手法について示す。\n阪上隆英（神戸大学）\n\n\n16:20 – 17:00\n最近の溶接残留応力計測あれこれ望月研究室（プロセスメカニックス研究室）で研究を進めている最近の溶接残留応力計測について報告する。具体的には、古典的な切断法（弛緩法）の応用、逐次切削法の意味、溶接部特有の材料組織形態を意識したX線回折法の再検討、準非破壊計測法としてのインデンテーション法への取り組み、極厚板内部の応力分布を計測可能な深穴穿孔法の開発状況、などについて、数値シミュレーション結果との比較などを通じて紹介する。\n望月正人（大阪大学）\n\n\n17:00\n閉会挨拶\n \n\n\n懇親会\n近くの地ビールダイニング「ラ・カシェット」で懇親会を開催します。施設側とユーザーのざっくばらんな意見の交換の場になります。是非ご参加ください。参加希望者は事前に登録してください。当日も受け付けます。会費は当日受け付けます。 \n\n\n会費:\n￥2\,000\n\n\n時間:\n17:20～19:00\n\n\n会場:\n神楽坂 ラ・カシェット美味しい地ビールを楽しめるところです。〒162-0825 東京都新宿区神楽坂1-10 三経第22 ビル3FTel: 03-3513-0823モスバーガーの西隣りです。\n\n\n\n       \n       \n参加申込み先\n中性子産業利用推進協議会事務局　担当：桐原Email: info@j-neutron.com下記の内容をご記入の上、メールでご連絡ください。——————————————– (1) お名前 (2) ご所属 (3) ご連絡先 （電話番号、メールアドレス） (4) 懇親会に　参加する・参加しない （どちらか消してください）——————————————– \n研究社英語センタービルへのアクセス\n〒162-0825 東京都新宿区神楽坂1-2Tel: 03-3269-4331 / 03-3260-9856JR中央・総武線飯田橋駅西口 徒歩約3分東京メトロ南北線・有楽町線飯田橋駅B2a、B3出口 徒歩約7分
URL:https://archive2019nt.cross.or.jp/events/v13003/
ATTACH;FMTTYPE=image/png:https://archive2019nt.cross.or.jp/wp/wp-content/uploads/2018/01/noimg.png
END:VEVENT
END:VCALENDAR