BEGIN:VCALENDAR
VERSION:2.0
PRODID:-//CROSS 中性子科学センター（2019年アーカイブ） - ECPv5.14.1//NONSGML v1.0//EN
CALSCALE:GREGORIAN
METHOD:PUBLISH
X-WR-CALNAME:CROSS 中性子科学センター（2019年アーカイブ）
X-ORIGINAL-URL:https://archive2019nt.cross.or.jp
X-WR-CALDESC:CROSS 中性子科学センター（2019年アーカイブ） のイベント
BEGIN:VTIMEZONE
TZID:Asia/Tokyo
BEGIN:STANDARD
TZOFFSETFROM:+0900
TZOFFSETTO:+0900
TZNAME:JST
DTSTART:20130101T000000
END:STANDARD
END:VTIMEZONE
BEGIN:VEVENT
DTSTART;TZID=Asia/Tokyo:20130301T130000
DTEND;TZID=Asia/Tokyo:20130301T170000
DTSTAMP:20260426T034909
CREATED:20210226T085949Z
LAST-MODIFIED:20210226T085949Z
UID:16116-1362142800-1362157200@archive2019nt.cross.or.jp
SUMMARY:平成24年度 磁性材料研究会
DESCRIPTION:概要\nここ数年、希少金属の供給問題が大きな注目を集めています。Nd-Fe-B 磁石に代表される、希土類元素との関連が深い永久磁石は、電気自動車、ハイブリッド自動車や大型産業機器用モータなどでの省エネに対する関心の高まりで需要が伸び続け、希少金属代替材料開発は喫緊の問題です。本研究会では、この問題に対して、J-PARC および JRR-3 の中性子がどのように貢献できるのかを、これまでの研究の中からその可能性を探るとともに、放射光で行われている最新の研究をご紹介いただき、中性子と放射光の相補利用の方向性について議論します。 \n共催\n中性子産業利用推進協議会茨城県中性子利用促進研究会J-PARC/MLF 利用者懇談会総合科学研究機構（CROSS） \n協賛\nSPring-8 利用推進協議会 \n開催日時\n2013年3月1日（金） 13:00～17:00 \n場所\n連合会館 402会議室〒101-0062 東京都千代田区神田駿河台3-2-11Tel: 03-3253-1771 （代） \nプログラム\n\n\n13:00 – 13:05\n開会挨拶\n主査　武田全康 （JAEA）\n\n\n13:05 – 13:25\nJ-PARC の概要と産業利用\n林眞琴 （茨城県）\n\n\n13:25 – 14:05\nL1o型FeNi薄膜および微粒子の作製と放射光・中性子による特性解析\n水口将輝 （東北大学）\n\n\n14:05 – 14:45\nシンクロトロン放射光と走査型トンネル顕微鏡によるナノスケール磁性材料の研究\n上野哲朗 （広島大学）\n\n\n14:45 – 15:00\n休憩\n\n\n15:00 – 15:40\n中性子小角散乱によるNd-Fe-B磁石の磁区構造観察\n矢野正雄 （トヨタ）\n\n\n15:40 – 16:20\n中性子・X線小角散乱法によるナノグラニュラー軟磁性体の解析\n大場洋次郎 （京都大学）\n\n\n16:20 – 17:00\nJ-PARCパルス中性子小角・広角散乱装置 "大観" の現状\n鈴木淳市 （CROSS）\n\n\n17:20 – 19:20\n懇親会\n\n\n懇親会\n研究会終了後、懇親会を「ナポリの下町食堂 お茶の水店」にて開催します。参加費は￥2\,000です。是非ご参加ください。参加については前日までにご連絡をお願い致します。 \n\n\n会費:\n￥2\,000\n\n\n時間:\n17:20～19:20\n\n\n会場:\nナポリの下町食堂 お茶の水店東京都千代田区神田駿河台2-1-45 ニュー駿河台ビル B1FTel: 050-5831-6334＊連合会館から徒歩7分 （御茶ノ水駅から徒歩2分）\n\n\n\n      \n       \n申込み先\n中性子産業利用推進協議会 事務局　桐原由美子Email: info@j-neutron.com下記の内容をご記入の上、メールでご連絡ください。——————————————– (1) お名前 (2) ご所属 (3) ご連絡先電話番号 (4) メールアドレス (5) 懇親会に、参加する・参加しない （どちらか消してください）——————————————– \n連合会館へのアクセス\n〒101-0062 東京都千代田区神田駿河台3-2-11Tel: 03-3253-1771 （代） \n丸ノ内線、新宿線をご利用の方は地下道を通り、千代田線方面へ東京メトロ千代田線 新御茶ノ水駅 B3出口 （徒歩0分）東京メトロ丸ノ内線 淡路町駅 B3出口 （B3出口まで徒歩5分）都営地下鉄新宿線 小川町駅 B3出口 （B3出口まで徒歩3分）＊B3a出口は違う方向へ出ますのでご注意くださいJR 中央線・総武線 御茶ノ水駅 聖橋口 （徒歩5分）
URL:https://archive2019nt.cross.or.jp/events/v13004/
ATTACH;FMTTYPE=image/png:https://archive2019nt.cross.or.jp/wp/wp-content/uploads/2018/01/noimg.png
END:VEVENT
END:VCALENDAR