BEGIN:VCALENDAR
VERSION:2.0
PRODID:-//CROSS 中性子科学センター（2019年アーカイブ） - ECPv5.14.1//NONSGML v1.0//EN
CALSCALE:GREGORIAN
METHOD:PUBLISH
X-WR-CALNAME:CROSS 中性子科学センター（2019年アーカイブ）
X-ORIGINAL-URL:https://archive2019nt.cross.or.jp
X-WR-CALDESC:CROSS 中性子科学センター（2019年アーカイブ） のイベント
BEGIN:VTIMEZONE
TZID:Asia/Tokyo
BEGIN:STANDARD
TZOFFSETFROM:+0900
TZOFFSETTO:+0900
TZNAME:JST
DTSTART:20130101T000000
END:STANDARD
END:VTIMEZONE
BEGIN:VEVENT
DTSTART;TZID=Asia/Tokyo:20130726T130000
DTEND;TZID=Asia/Tokyo:20130726T170000
DTSTAMP:20260426T034114
CREATED:20210303T022632Z
LAST-MODIFIED:20210303T022632Z
UID:16144-1374843600-1374858000@archive2019nt.cross.or.jp
SUMMARY:第8回 SPring-8金属材料評価研究会―X線と中性子との相補活用およびその他新技術トピックス―
DESCRIPTION:概要\n大型放射光施設SPring-8の放射光は一般の実験室X線に比し、高輝度、高平行性、高エネルギーなどの特徴を有す。今回は第一部でX線と中性子の相補利用拡大のため、J-PARCの概要とSPring-8ユーザーによる構造用材料の中性子実験例をご紹介する。中性子線はH、N、O、などの軽元素の分析が可能、試料のバルクでの評価が容易などの特徴がある。放射光X線の特徴と組み合わせる事で、さらなる研究の進化が可能となろう。第2部では最近の研究の中から新しい測定手法を取り込んだSPring-8での応用研究例を紹介する。放射光、中性子の両技術の金属材料分野での一層の活用につながることを期待する。 \n開催日時\n\n\n2013年7月26日（金）\n13:00～17:00（研究会）17:00～18:30（技術交流会）\n\n\n場所\n研究社英語センター 地下2階 大会議室 （技術交流会：地下1階 中会議室）〒162-0825 新宿区神楽坂1-2Tel: 03-3269-4331JR中央線飯田橋駅 西口、または地下鉄飯田橋駅 B3出口より徒歩3分 \n参加申込み\n金属材料評価研究会 参加申込ページ よりお申し込みください。Emailでお申し込みされる場合は、以下の必要事項をご記入のうえ、申込み先Emailアドレス宛へお送りください。——————————————– (1) 参加者氏名 (2) フリガナ (3) 所属機関名 (4) 所属部署、職位（学年） (5) 所属先住所 (6) 連絡先（電話番号、メールアドレス） (7) 技術交流会に　参加する・参加しない （どちらか消してください）——————————————– \n【申込み先】Email: kinzoku@spring8.or.jpFax: 0791-58-0830 \n申込締切\n2013年7月19日（金） \n技術交流会\n参加費 （1\,000円）名刺交換、講師、JASRI職員との対話の場としてお気軽にご参加ください。 \n定員\n70名 （聴講無料、定員になり次第締め切ります。） \n問い合わせ先\n（公財）高輝度光科学研究センター産業利用推進室 橋本保 （hashimot@spring8.or.jp）事務局代表 （suishin@spring8.or.jp）〒679-5198 兵庫県佐用郡佐用町光都1丁目1-1Tel: 0791-58-0924Fax: 0791-58-0830 \nSPring-8利用推進協議会ホームページ （活動状況など） \nプログラム\n\n第1部 X線と中性子との相補活用のために\n\n\n13:00 – 13:10\nはじめに\n主査 鈴木謙爾（東北大学名誉教授）\n\n\n13:10 – 13:50\nJ-PARCにおける構造材料解析ビームラインと利用例J-PARCの大強度パルス中性子ビームを利用した、工学材料回折装置"匠"では、直交二方向以上の歪み成分やマルチピークの同時測定のほかに、微小組織変化、集合組織、相変態の観測が可能である。小角散乱装置"大観"では、サブナノからミクロンスケールの幅広い空間スケールでの析出物や組織変化の観察が可能。講演では、これら実験装置の特徴、引張試験機や高温炉などのアクセサリー、その利用方法と利用例を紹介する。\n鈴木淳市（CROSS東海）\n\n\n13:50 – 14:25\n放射光・中性子を用いた高温超伝導線材の評価当社のBi系高温超伝導線材は、原料粉末をAgシースに充填し、加工と熱処理を繰返して製造している。臨界電流など線材性能を左右すると考えているシース内での結晶の変化を、中性子や放射光を用いて解析した結果を紹介する。\n山口浩司（住友電気工業株式会社）\n\n\n14:25 – 14:50\n放射光・中性子を用いた耐候性鋼のさびの構造解析耐候性鋼さびの保護性機能究明を目的に、人工合成さびを用いて、合金元素や水濡れ影響などとの関連にて、放射光XAFSと中性子小角散乱測定した結果を中心に、金属腐食分野におけるX線と中性子線の相補利用事例を紹介する。\n中山武典（株式会社神戸製鋼所）\n\n\n14:50 – 15:00\n休憩\n\n\n第2部 その他分野の技術トピックス紹介\n\n\n15:00 – 15:35\n鉄スケールの高温相変態過程のその場観察Cを0.048％含む純鉄を大気中675℃で3min加熱して生成させた鉄スケ－ルを、大気中400、450、500℃でそれぞれ等温加熱し、大型2次元ピクセル検出器を用いてFe、Fe3O4、FeO各相からの回折リングの時系列変化をin situに測定した結果について紹介する。\n大塚伸夫（新日鐵住金株式会社）\n\n\n15:35 – 16:10\nレーザー溶接中の溶融池内流動場のリアルタイム観察及び過渡特性評価レーザー溶接での残留応力の精密な評価と制御法の確立には、溶接時の温度場の高精度評価が重要であり、温度分布と強連結過程にある溶融池内の対流現象に着目し研究を行なっている。SPring-8の高輝度単色X線を利用して、試験片にファイバーレーザーを照射した際に形成した溶融池内部の過渡特性を評価した結果を紹介する。\n山田知典（（独）原子力研究開発機構）\n\n\n16:10 – 16:45\n白色X線マイクロビームによるステンレス鋼SUS316の結晶粒界近傍での局所応力測定白色X線マイクロビーム回折を利用した、多結晶粒界の現出と、任意の結晶粒内の弾性ひずみ測定手法（EXDM）を開発した。今回は、最近の成果として、応力腐食割れメカニズム検討を目的に実施したステンレス鋼SUS316の応力分布測定において、結晶粒界近傍の応力集中の検出に成功した事例を紹介する。\n宮澤知孝（（公財）高輝度光科学研究センター）\n\n\n16:45 – 16:55\n閉会挨拶\n山川晃（（公財）高輝度光科学研究センター）\n\n\n17:00 – 18:30\n技術交流会\n\n\n主催\nSPring-8利用推進協議会 研究開発委員会 \n共催\n（公財）高輝度光科学研究センター \n協賛\n（一財）総合科学研究機構（CROSS東海）中性子産業利用推進協議会（一社）日本鉄鋼協会（公社）日本金属学会（公社）日本材料学会（一社）日本機械学会（一社）軽金属学会（公社）応用物理学会 \n詳細は、SPring-8 金属材料評価研究会（第8回）\n のホームページ をご覧ください。
URL:https://archive2019nt.cross.or.jp/events/v13014/
LOCATION:研究社英語センタービル 地下2階大会議室\, 神楽坂1-2\, 新宿区\, 東京都\, 1620825\, Japan
ATTACH;FMTTYPE=image/png:https://archive2019nt.cross.or.jp/wp/wp-content/uploads/2018/01/noimg.png
END:VEVENT
END:VCALENDAR