BEGIN:VCALENDAR
VERSION:2.0
PRODID:-//CROSS 中性子科学センター（2019年アーカイブ） - ECPv5.14.1//NONSGML v1.0//EN
CALSCALE:GREGORIAN
METHOD:PUBLISH
X-WR-CALNAME:CROSS 中性子科学センター（2019年アーカイブ）
X-ORIGINAL-URL:https://archive2019nt.cross.or.jp
X-WR-CALDESC:CROSS 中性子科学センター（2019年アーカイブ） のイベント
BEGIN:VTIMEZONE
TZID:Asia/Tokyo
BEGIN:STANDARD
TZOFFSETFROM:+0900
TZOFFSETTO:+0900
TZNAME:JST
DTSTART:20130101T000000
END:STANDARD
END:VTIMEZONE
BEGIN:VEVENT
DTSTART;TZID=Asia/Tokyo:20130917T130000
DTEND;TZID=Asia/Tokyo:20130917T170000
DTSTAMP:20260426T034930
CREATED:20210303T025041Z
LAST-MODIFIED:20210303T025041Z
UID:16184-1379422800-1379437200@archive2019nt.cross.or.jp
SUMMARY:平成25年度 第1回残留ひずみ・応力解析研究会
DESCRIPTION:開催日時\n2013年9月17日（火） 13:00～17:20 \n場所\n研究社英語センター大会議室〒162-0825 新宿区神楽坂1-2Tel: 03-3269-4331 \nJR中央・総武線飯田橋駅西口徒歩約3分東京メトロ南北線・有楽町線飯田橋駅B2a、B3出口徒歩約7分 \n参加申込み先\n中性子産業利用推進協議会事務局　担当：桐原Email: info@j-neutron.com下記の内容をご記入の上、メールでご連絡ください。——————————————– (1) お名前 (2) ご所属 (3) ご連絡先 （電話番号、メールアドレス） (4) 懇親会に　参加する・参加しない （どちらか消してください）——————————————– \n懇親会\n研究会終了後、神楽坂の「ラ・カシェット」で懇親会を開催します。ぜひご参加ください。参加については、前日までにご連絡をお願い致します。 \n\n\n会費:\n￥2\,000\n\n\n時間:\n17:30～19:30\n\n\n会場:\n神楽坂 ラ・カシェット〒162-0825 東京都新宿区神楽坂1-10 三経第22 ビル3FTel: 03-3513-0823\n\n\nテーマ\n放射光と中性子による材料科学と残留応力評価 \nプログラム\n\n\n13:00 – 13:05\n開会挨拶\n主査 秋庭義明 （横浜国立大学）\n\n\n13:05 – 13:25\nJ-PARCの状況と産業利用\n林眞琴 （茨城県）\n\n\n【基調講演】\n\n\n13:25 – 14:05\n放射光と中性子を利用した材料科学研究\nKlaus-Dieter LISS(JAEA/ANSTO)\n\n\n14:05 – 14:15\n休憩\n\n\n【装置開発の現状】\n\n\n14:15 – 14:55\nTAKUMIの現状と最近の成果\nステファヌスハルヨ（J-PARCセンター）\n\n\n14:55 – 15:35\n放射光の現状と最近の成果\n菖蒲敬久 （JAEA）\n\n\n15:35 – 16:05\n中性子回折法のPseudo-strain問題\n鈴木裕士 （JAEA）\n\n\n16:05 – 16:15\n休憩\n\n\n【ユーザー報告】\n\n\n16:15 – 16:45\n遠心鋳造2相ステンレス鋼の残留応力測定\n王 昀 （日立製作所）\n\n\n16:45 – 17:15\n放射光によるパワーデバイスの内部ひずみ評価\n木村英彦 （豊田中研）\n\n\n17:15 – 17:20\n閉会挨拶\n \n\n\n共催\n中性子産業利用推進協議会茨城県中性子利用促進研究会総合科学研究機構（CROSS）SPring-8 ユーザー協同体 \n協賛\nSPring-8 利用推進協議会J-PARC/MLF 利用者懇談会
URL:https://archive2019nt.cross.or.jp/events/v13018/
LOCATION:研究社英語センター大会議室\, 神楽坂1-2\, 新宿区\, 東京都\, 162-0825\, Japan
ATTACH;FMTTYPE=image/png:https://archive2019nt.cross.or.jp/wp/wp-content/uploads/2018/01/noimg.png
END:VEVENT
END:VCALENDAR