BEGIN:VCALENDAR
VERSION:2.0
PRODID:-//CROSS 中性子科学センター（2019年アーカイブ） - ECPv5.14.1//NONSGML v1.0//EN
CALSCALE:GREGORIAN
METHOD:PUBLISH
X-WR-CALNAME:CROSS 中性子科学センター（2019年アーカイブ）
X-ORIGINAL-URL:https://archive2019nt.cross.or.jp
X-WR-CALDESC:CROSS 中性子科学センター（2019年アーカイブ） のイベント
BEGIN:VTIMEZONE
TZID:Asia/Tokyo
BEGIN:STANDARD
TZOFFSETFROM:+0900
TZOFFSETTO:+0900
TZNAME:JST
DTSTART:20130101T000000
END:STANDARD
END:VTIMEZONE
BEGIN:VEVENT
DTSTART;TZID=Asia/Tokyo:20130906T130000
DTEND;TZID=Asia/Tokyo:20130906T171500
DTSTAMP:20260426T034258
CREATED:20210303T025048Z
LAST-MODIFIED:20210303T025048Z
UID:16187-1378472400-1378487700@archive2019nt.cross.or.jp
SUMMARY:平成25年度 第1回ソフトマター中性子散乱研究会 平成25年度 金属組織研究会
DESCRIPTION:開催日時\n2013年9月6日（金） 13:00～17:15 \n場所\n研究社英語センター 地下2階 大会議室〒162-0825 新宿区神楽坂1-2Tel: 03-3269-4331 \nJR中央・総武線飯田橋駅西口徒歩約3分東京メトロ南北線・有楽町線飯田橋駅B2a、B3出口徒歩約7分 \n参加申込み\n下記の内容をご記入の上、メールでお申し込みください。——————————————– (1) お名前 (2) ご所属 (3) ご連絡先 （電話番号、メールアドレス） (4) 懇親会に  参加する・参加しない （どちらか消してください）＊懇親会への参加を当日キャンセルされた場合、参加費をいただきますのでご了承ください。——————————————– \n【申込み先】中性子産業利用推進協議会事務局担当 桐原由美子Email: info@j-neutron.com \n懇親会\n研究会終了後、神楽坂の「ラ・カシェット」で懇親会を開催します。施設側とユーザーのざっくばらんな意見の交換の場になります。ぜひご参加ください。参加希望者は研究会の参加申し込み時に登録してください。当日も受け付けます。参加費は当日いただきます。 \n\n\n会費:\n￥2\,000\n\n\n時間:\n17:30～19:30\n\n\n会場:\n神楽坂 ラ・カシェット〒162-0825 東京都新宿区神楽坂1-10 三経第22 ビル3FTel: 03-3513-0823\n\n\nテーマ\n難解な散乱像の可視化 \nプログラム\n\n\n13:00 – 13:05\n開会挨拶\n幹事 小泉智 （茨城大学）\n\n\n13:05 – 13:25\nJ-PARCの状況と産業利用J-PARC/MLFの現状および茨城県BLの現状と得られた成果、ならびに2013Aにおける産業利用の課題採択結果などを紹介する。\n林眞琴 （茨城県）\n\n\n【Tutorial】\n\n\n13:25 – 14:05\n回折法と逆モンテカルロ法による非晶質材料の構造可視化ガラスや高分子など非晶質材料の固有の物性（イオン電導、粘性など）の理解には局所構造（配位数や最隣接原子間距離）を超えたオーダーの構造（中距離秩序）の把握が必要である。講演ではそのような中距離秩序の観察法として、パルス中性子・高エネルギーX線回折データから逆モンテカルロ法によって大きな構造モデルを構築し、そのモデルの解析によって中距離秩序を見つけていく方法を紹介する。\n鈴谷賢太郎（J-PARC）\n\n\n14:05 – 14:45\n密度汎関数理論を用いたシミュレーションによるメソ構造の予測密度汎関数法は、ソフトマター系のメソスケールの構造を実空間で計算するのに適した方法であり、散乱実験と相補的に使用することで威力を発揮すると期待される。本講演では、ブロック共重合体のメソフェーズや界面活性剤のミセル系\nなどを密度汎関数法を用いてシミュレーションを行い、構造予測する手法を議論する。\n川勝年洋（東北大学）\n\n\n14:45 – 15:00\n休憩\n\n\n15:00 – 15:40\n中性子散乱とX線散乱の相補的利用X線散乱法と中性子散乱法の特徴について解説すると共に、ゴム充填系における階層構造においてX線散乱法によって明らかにできたことと中性子散乱法によって明らかにできたことを示すことによって、両散乱法をどのように使い分ければ良いのか、またどのように組み合せて使えば良いかについて示す。 \n竹中幹人（京都大学）\n\n\n15:40 – 16:10\niMATERIAにおける小角散乱測定システムの現状\n小泉智 （茨城大学）\n\n\n【産業界のニーズ】\n\n\n16:10 – 16:40\n固体高分子形燃料電池MEAの計測解析技術長い歴史を持つ燃料電池の開発を経て、定置用燃料電池エネファームは販売以来着実に普及台数を伸ばし、また、2015年には世界に先駆けて日本製燃料電池自動車の販売が予定されている。しかしながらこれら商品の本格的普及に向けてはまだまだ多くの課題が残されている。ここでは、課題とその解決に向けての基盤技術研究開発状況を概説する。特に心臓部のMEAに関する最先端のナノ計測・解析技術を紹介する予定としている。\n長谷川弘（技術研究組合FC-Cubic）\n\n\n16:40 – 17:10\n貴金属フリー液体燃料電池\n猪谷秀幸（ダイハツ工業）\n\n\n17:10 – 17:15\n閉会挨拶\n \n\n\n共催\n中性子産業利用推進協議会茨城県中性子利用促進研究会総合科学研究機構 東海事業センター （CROSS東海） \n協賛\nSPring-8利用推進協議会J-PARC/MLF利用者懇談会
URL:https://archive2019nt.cross.or.jp/events/v13021/
LOCATION:研究社英語センタービル 地下2階大会議室\, 神楽坂1-2\, 新宿区\, 東京都\, 1620825\, Japan
ATTACH;FMTTYPE=image/png:https://archive2019nt.cross.or.jp/wp/wp-content/uploads/2018/01/noimg.png
END:VEVENT
END:VCALENDAR