BEGIN:VCALENDAR
VERSION:2.0
PRODID:-//CROSS 中性子科学センター（2019年アーカイブ） - ECPv5.14.1//NONSGML v1.0//EN
CALSCALE:GREGORIAN
METHOD:PUBLISH
X-WR-CALNAME:CROSS 中性子科学センター（2019年アーカイブ）
X-ORIGINAL-URL:https://archive2019nt.cross.or.jp
X-WR-CALDESC:CROSS 中性子科学センター（2019年アーカイブ） のイベント
BEGIN:VTIMEZONE
TZID:Asia/Tokyo
BEGIN:STANDARD
TZOFFSETFROM:+0900
TZOFFSETTO:+0900
TZNAME:JST
DTSTART:20130101T000000
END:STANDARD
END:VTIMEZONE
BEGIN:VEVENT
DTSTART;TZID=Asia/Tokyo:20131015T130000
DTEND;TZID=Asia/Tokyo:20131015T170000
DTSTAMP:20260426T034958
CREATED:20210303T030028Z
LAST-MODIFIED:20210303T114054Z
UID:16191-1381842000-1381856400@archive2019nt.cross.or.jp
SUMMARY:平成25年度茨城県中性子利用促進研究会金属材料の集合組織評価分科会ワークショップ
DESCRIPTION:概要\n飛行時間法（TOF）中性子回折では、広い立体角に配置した多数の中性子検出器を使って得た多くの回折パターンを同時に観測することにより、材料の集合組織を効率的に解析できる。しかしながら、試料周りの高温・引張負荷装置やゴニオメーターのために回折データを収集できない方位が存在する。MAUD（Materials Analysis Using Diffraction）プログラムでは、これらの欠損している回折データを補完して全極点図を解析することが可能である。このワークショップでは、MAUD開発者のL. Lutterotti教授をお迎えして、TOF型中性子回折による集合組織解析について議論する。 \n開催日時\n2013年10月15日（火） 13:00～17:00 \n場所\nいばらき量子ビーム研究センター 1階 大会議室〒319-1106 茨城県那珂郡東海村白方162-1Tel: 029-352-3301 \nJR常磐線東海駅東口よりタクシー約5分常磐自動車道日立南太田ICから車で15分北関東自動車道ひたちなかICから車で15分 \n申込方法\n下記の内容をご記入のうえ、メールでお申し込みください。——————————————– (1) お名前 (2) ご所属 (3) ご連絡先 （電話番号、メールアドレス） (4) 懇親会に  参加する・参加しない （どちらか消してください）——————————————– \n【申込み先】茨城県中性子利用促進研究会事務局 田中志穂Email:  \n申込締切\n10月11日（金） 12:00 \n懇親会\n\n\n会費:\n¥4\,000（予定）\n\n\n時間:\n18:00～20:00\n\n\n会場:\n海鮮料理 宴（うたげ）茨城県那珂郡東海村舟石川駅西1丁目3-3-105Tel: 029-282-4010\n\n\n\nテーマ\nMAUDを使ったTOF型中性子回折による集合組織解析 \nプログラム（案）\n\n\n13:00 – 13:05\nOpening remarkDr. Y. Morii\, Ibaraki Prefectural Government\, Japan.\n\n\nMAUD\n\n\n13:05 – 14:05\nIntroduction of MAUD texture analysis software and its applicationsProf. L. Lutterotti1\,2\, 1-University of Trento\, Italy; 2-University of Caen\, Lower-Normandy\, France.\n\n\n14:05 – 14:45\nProspect for texture analysis using MAUD at iMATERIADr. P.G. Xu\, Quantum Beam Science Directorate (QuBS)\, Japan Atomic Energy Agency (JAEA)\, Japan.\n\n\n14:45 – 15:10\nEngineering materials diffractometer TAKUMI at J-PARC and texture measurementDr. S. Harjo\, J-PARC Center\, JAEA\, Japan.\n\n\nTexture research topics\n\n\n15:20 – 15:45\nTexture analysis and prediction of anisotropic propertiesProf. H. Inoue\, Osaka Prefecture University\, Japan.\n\n\n15:45 – 16:10\nTexture measurements with synchrotron X-rays and why we need neutrons!Dr. K.D. Liss1\,2\, 1-Australian Nuclear Science and Technology Organization; 2-QuBS\, JAEA\, Japan.\n\n\nFree discussion\n\n\n16:10 – 16:55\nAbout MAUD analysis\, measurement reliability and time division anticipationChairman: Prof. H. Inoue\, Osaka Prefecture University\, Japan.\n\n\n16:55 – 17:00\nClosing remarkDr. M. Hayashi\, Ibaraki Prefectural Government\, Japan.\n\n\n主催\n茨城県中性子利用促進研究会 \n協賛\n中性子産業利用推進協議会総合科学研究機構 東海事業センター （CROSS東海）
URL:https://archive2019nt.cross.or.jp/events/v13026/
LOCATION:いばらき量子ビーム研究センター（IQBRC） B101大会議室\, 白方162-1\, 那珂郡東海村\, 茨城県\, 319-1106\, Japan
ATTACH;FMTTYPE=image/png:https://archive2019nt.cross.or.jp/wp/wp-content/uploads/2018/01/noimg.png
END:VEVENT
END:VCALENDAR