BEGIN:VCALENDAR
VERSION:2.0
PRODID:-//CROSS 中性子科学センター（2019年アーカイブ） - ECPv5.14.1//NONSGML v1.0//EN
CALSCALE:GREGORIAN
METHOD:PUBLISH
X-WR-CALNAME:CROSS 中性子科学センター（2019年アーカイブ）
X-ORIGINAL-URL:https://archive2019nt.cross.or.jp
X-WR-CALDESC:CROSS 中性子科学センター（2019年アーカイブ） のイベント
BEGIN:VTIMEZONE
TZID:Asia/Tokyo
BEGIN:STANDARD
TZOFFSETFROM:+0900
TZOFFSETTO:+0900
TZNAME:JST
DTSTART:20140101T000000
END:STANDARD
END:VTIMEZONE
BEGIN:VEVENT
DTSTART;TZID=Asia/Tokyo:20140224T130000
DTEND;TZID=Asia/Tokyo:20140224T172000
DTSTAMP:20260426T034917
CREATED:20210303T042339Z
LAST-MODIFIED:20210304T080547Z
UID:16219-1393246800-1393262400@archive2019nt.cross.or.jp
SUMMARY:放射光と中性子の相補利用による産業応用に関するセミナーin神戸
DESCRIPTION:概要\n現在、放射光（X線）や中性子などの量子ビームの産業利用が推進されており、量子ビームプラットフォームの構築についても進捗しています。量子ビームの活用により、新たな物質特性の解明により、高機能性材料、ひいては画期的な新製品の創成に繋がるものと期待されています。量子ビームの有効活用には、それぞれの特長を活かすことも重要ですが、相補的な利用により、より高度な物質構造解析や構造物の評価が可能です。本セミナーでは放射光と中性子のそれぞれの特性を活かした研究成果と相補的利用による研究成果を紹介します。 \n開催日時\n2014年2月24日（月） 13:00～17:20 \n場所\n兵庫県民会館 けんみんホール〒650-0011 神戸市中央区下山手通4-16-3Tel: 078-321-2131 \n地下鉄山手線「県庁前駅」 東出口1から右へ50mJR神戸線「元町駅」北へ徒歩約7分 \n申込方法\n下記の内容をご記入のうえ、メールでお申し込みください。——————————————– (1) お名前 (2) ご所属 (3) ご連絡先 （電話番号、メールアドレス）——————————————– \n【申込み先】茨城県中性子利用促進研究会事務局 田中志穂Email: tanaka＠ibaraki-neutrons.jp \n申込締切\n2014年2月20日（木） \nプログラム\n\n\n13:00 – 13:15\n開会挨拶兵庫県産業労働部 産業振興局長  赤木正明茨城県企画部理事兼科学技術振興監  増子千勝（公財）高輝度光科学研究センター 理事長  土肥義治\n\n\n13:15 – 13:35\n光科学技術と量子ビーム技術の融合・連携による先導的利用研究について文部科学省科学技術・学術政策局　量子放射線研究推進室長  工藤雄之\n\n\n13:35 – 13:55\nSPring-8の産業利用JASRI産業利用推進室長  廣沢一郎\n\n\n13:55 – 14:15\nJ-PARCにおける中性子産業利用茨城県企画部技監  林眞琴\n\n\n14:15 – 15:00\n放射光と中性子の相補的利用による高分子材料の研究京都大学化学研究所  金谷利治\n\n\n15:00 – 15:15\nCoffee Break\n\n\n15:15 – 15:45\n放射光X線イメージングによる高強度鋼の転動疲労損傷評価新日鐵住金 鉄鋼研究所  牧野泰三\n\n\n15:45 – 16:15\n兵庫県の放射光産業利用（公）兵庫県立大学  篭島靖\n\n\n16:15 – 16:45\n金属材料におけるX線と中性子の複合利用 "1+1=3"北海道大学  大沼正人\n\n\n16:45 – 17:15\n電池材料の構造および特性評価日産アーク  今井英人\n\n\n17:15 –\n閉会挨拶CROSS東海 サイエンス・コーディネーター  福嶋喜章\n\n\n詳細は こちら をご覧ください。 [PDF: 135KB] \n問い合わせ先\n茨城県中性子利用促進研究会事務局 田中志穂Email: tanaka＠ibaraki-neutrons.jpTel: 029-352-3301 （いばらき量子ビーム研究センター） \n主催\n兵庫県茨城県（公財）高輝度光科学研究センター（JASRI）総合科学研究機構 東海事業センター （CROSS東海） \n共催\n（公）兵庫県立大学（公財）ひょうご科学技術協会SPring-8利用推進協議会中性子産業利用推進協議会 \n協賛\n（独）理化学研究所 放射光科学総合研究センターJ-PARCセンター（JAEA/KEK）（独）日本原子力研究開発機構 量子ビーム応用研究部門 \n後援\n文部科学省
URL:https://archive2019nt.cross.or.jp/events/v14002/
LOCATION:兵庫県民会館\, 中央区下山手通4丁目16-3\, 神戸市\, 兵庫県\, 650-0011\, Japan
ATTACH;FMTTYPE=image/png:https://archive2019nt.cross.or.jp/wp/wp-content/uploads/2018/01/noimg.png
END:VEVENT
END:VCALENDAR