BEGIN:VCALENDAR
VERSION:2.0
PRODID:-//CROSS 中性子科学センター（2019年アーカイブ） - ECPv5.14.1//NONSGML v1.0//EN
CALSCALE:GREGORIAN
METHOD:PUBLISH
X-WR-CALNAME:CROSS 中性子科学センター（2019年アーカイブ）
X-ORIGINAL-URL:https://archive2019nt.cross.or.jp
X-WR-CALDESC:CROSS 中性子科学センター（2019年アーカイブ） のイベント
BEGIN:VTIMEZONE
TZID:Asia/Tokyo
BEGIN:STANDARD
TZOFFSETFROM:+0900
TZOFFSETTO:+0900
TZNAME:JST
DTSTART:20140101T000000
END:STANDARD
END:VTIMEZONE
BEGIN:VEVENT
DTSTART;TZID=Asia/Tokyo:20140304T103000
DTEND;TZID=Asia/Tokyo:20140304T173000
DTSTAMP:20260426T034922
CREATED:20210303T042344Z
LAST-MODIFIED:20210303T042344Z
UID:16216-1393929000-1393954200@archive2019nt.cross.or.jp
SUMMARY:第2回ソフトマター中性子散乱研究会 ～散乱法と画像解析～
DESCRIPTION:概要\n目覚ましく進歩する構造評価技術はナノサイエンスの発展を支えています。走査型顕微鏡、原子間力顕微鏡、共焦点レーザー顕微鏡などは今や構造評価に欠かせない手段となっています。また、計算機シミュレーションもナノ構造の解析に欠かせません。これらの実空間観察の手法に対して、小角散乱法は、統計平均・非破壊の構造解析や揺らぎの直接観察が可能な重要な手段であり、散乱と顕微鏡は相補的に活用すべきものです。本研究会では、小角散乱の最前線と、実空間画像観察、計算機シミュレーション等を交えて取り上げ、ソフトマター材料の構造解析の将来を議論していきたいと考えます。 \n開催日時\n2014年3月4日（火） 10:30～17:30 \n場所\nエッサム本社ビル 4階こだまホール〒101-0041 東京都千代田区神田須田町1-26-3 \nJR神田駅 東口 徒歩3分JR秋葉原駅 電気街口 徒歩6分東京メトロ銀座線 神田駅 5出口 徒歩1分東京メトロ丸の内線 淡路町駅 A1出口 徒歩5分都営新宿線 小川町駅 A1出口 徒歩5分 \n申込方法\n下記の内容をご記入のうえ、メールでお申し込みください。——————————————– (1) お名前 (2) ご所属 (3) ご連絡先 （電話番号、メールアドレス） (4) 懇親会に  参加する・参加しない （どちらか消してください）＊懇親会への参加を当日キャンセルされた場合、会費をいただきますのでご了承ください。——————————————– \n【申込み、問い合わせ先】中性子産業利用推進協議会事務局 桐原由美子Email: info＠j-neutron.com \n懇親会\n神田駅近くの「ワインホール130」で懇親会を開催します。施設側とユーザーのざっくばらんな意見の交換の場になります。ぜひご参加ください。参加希望者は研究会の参加申し込み時に登録してください。会費は当日いただきます。 \n\n\n会費:\n¥2\,000\n\n\n時間:\n17:30～20:00\n\n\n会場:\nワインホール130〒101-0047 東京都千代田区内神田3-18-8 ナルミビル4F\n\n\n\n      大きな地図で見る\n      \nプログラム\n\n\n10:30 – 10:45\n開会挨拶\n副主査小泉智 （茨城大学）\n\n\n10:45 – 11:10\nJ-PARCの現状と中性子の産業利用\n林眞琴 （茨城県）\n\n\n【チュートリアル編】\n\n\n11:10 – 12:10\nガウシアンランダム場の方法による構造解析\n川勝年洋（東北大学）\n\n\n12:10 – 13:10\n昼食休憩\n\n\n【応用編】\n\n\n13:10 – 14:00\nSEMの基礎と装置原理\n生瀬義久（日立ハイテク）\n\n\n14:00 – 14:50\nスピンコート成膜過程における高分子材料の構造発展～放射光を利用したその場観察～\n佐々木園（京都工芸繊維大学）\n\n\n14:50 – 15:10\n休憩\n \n\n\n15:10 – 15:40\n高分子管動ゲルを用いた人工筋肉の開発\n中井孝憲 （豊田合成）\n\n\n15:40 – 16:10\nSEM/STEMによるガス雰囲気その場観察\n松本弘昭（日立ハイテク）\n\n\n16:10 – 17:10\n総合討論顕微鏡と小角散乱の併用による構造解析\n小泉智 （茨城大学）\n\n\n共催\n中性子産業利用推進協議会茨城県中性子利用促進研究会J-PARC/MLF利用者懇談会総合科学研究機構 東海事業センター （CROSS東海） \n協賛\nSPring-8利用推進協議会（予定）
URL:https://archive2019nt.cross.or.jp/events/v14004/
LOCATION:エッサム本社ビル　４Fこだまホール\, 神田須田町1-26-3\, 千代田区\, 東京都\, 〒101-0041\, Japan
ATTACH;FMTTYPE=image/png:https://archive2019nt.cross.or.jp/wp/wp-content/uploads/2018/01/noimg.png
END:VEVENT
END:VCALENDAR