BEGIN:VCALENDAR
VERSION:2.0
PRODID:-//CROSS 中性子科学センター（2019年アーカイブ） - ECPv5.14.1//NONSGML v1.0//EN
CALSCALE:GREGORIAN
METHOD:PUBLISH
X-WR-CALNAME:CROSS 中性子科学センター（2019年アーカイブ）
X-ORIGINAL-URL:https://archive2019nt.cross.or.jp
X-WR-CALDESC:CROSS 中性子科学センター（2019年アーカイブ） のイベント
BEGIN:VTIMEZONE
TZID:Asia/Tokyo
BEGIN:STANDARD
TZOFFSETFROM:+0900
TZOFFSETTO:+0900
TZNAME:JST
DTSTART:20140101T000000
END:STANDARD
END:VTIMEZONE
BEGIN:VEVENT
DTSTART;TZID=Asia/Tokyo:20140307T130000
DTEND;TZID=Asia/Tokyo:20140307T171000
DTSTAMP:20260426T034004
CREATED:20210303T042346Z
LAST-MODIFIED:20210303T042346Z
UID:16218-1394197200-1394212200@archive2019nt.cross.or.jp
SUMMARY:平成25年度第2回残留ひずみ・応力解析研究会
DESCRIPTION:概要\n機械構造部材等の大型構造物から、電子部品等の小型部品にいたるまで、実際の産業分野で問題となる残留応力について、ラボX線や放射光、中性子回折法を利用した評価事例について紹介するとともに、これらを利用した新たな展開について紹介する。 \n開催日時\n2014年3月7日（金） 13:00～17:10 \n場所\n研究社英語センター 地下2階 大会議室〒162-0825 新宿区神楽坂1-2Tel: 03-3269-4331 \nJR中央・総武線飯田橋駅西口徒歩約3分東京メトロ南北線・有楽町線飯田橋駅B2a、B3出口徒歩約7分 \n申込方法\n下記の内容をご記入のうえ、メールでお申し込みください。——————————————– (1) お名前 (2) ご所属 (3) ご連絡先 （電話番号、メールアドレス） (4) 懇親会に  参加する・参加しない （どちらか消してください）＊懇親会への参加を当日キャンセルされた場合、会費をいただきますのでご了承ください。——————————————– \n【申込み、問い合わせ先】中性子産業利用推進協議会事務局 桐原由美子Email: info＠j-neutron.com \n懇親会\n神楽坂の「ラ・カシェット」で懇親会を開催します。施設側とユーザーのざっくばらんな意見の交換の場になります。ぜひご参加ください。参加希望者は研究会の参加申し込み時に登録してください。当日も受け付けます。会費は当日いただきます。 \n\n\n会費:\n¥2\,000\n\n\n時間:\n17:40～19:40\n\n\n会場:\n神楽坂 ラ・カシェット〒162-0825 東京都新宿区神楽坂1-10 三経第22 ビル3FTel: 03-3513-0823\n\n\nテーマ\n機械構造物における残留応力とひずみの評価 \nプログラム\n\n\n13:00 – 13:05\n開会挨拶\n主査秋庭義明 （横浜国立大学）\n\n\n13:05 – 13:25\nJ-PARCの状況と中性子の産業利用\n林眞琴 （茨城県）\n\n\n【中性子・放射光利用の新たな展開】\n\n\n13:25 – 13:55\n走査型3DXRD顕微鏡法及び結晶塑性有限要素解析による多結晶金属材料の結晶方位変化の考察\n瀬戸山大吾 （豊田中研）\n\n\n13:55 – 14:25\n異材溶接継手の熱サイクル過程における中性子残留応力測定\n秋田貢一 （JAEA）\n\n\n14:25 – 14:35\n休憩\n\n\n【残留ひずみ・応力の評価事例】\n\n\n14:35 – 15:05\nATR圧力管ロールドジョイント部の中性子による残留応力測定\n林眞琴 （茨城県）\n\n\n15:05 – 15:35\nITER導体内の内部ひずみ測定\nステファヌス ハルヨ（JAEA）\n\n\n15:35 – 16:05\n放射光を用いた硬質材料の応力評価\n山口浩司（住友電気工業（株））\n\n\n16:05 – 16:15\n休憩\n\n\n【基礎講演】\n\n\n16:15 – 17:15\n溶接残留応力の数値解析に関する初歩から応用までと最近のトピックスについて\n望月正人 （大阪大学）\n\n\n17:15 – 17:20\n閉会挨拶\n \n\n\n共催\n中性子産業利用推進協議会茨城県中性子利用促進研究会総合科学研究機構 東海事業センター （CROSS東海）SPring-8 ユーザー協同体 \n協賛\nSPring-8利用推進協議会J-PARC/MLF利用者懇談会
URL:https://archive2019nt.cross.or.jp/events/v14005/
LOCATION:研究社英語センタービル 地下2階大会議室\, 神楽坂1-2\, 新宿区\, 東京都\, 1620825\, Japan
ATTACH;FMTTYPE=image/png:https://archive2019nt.cross.or.jp/wp/wp-content/uploads/2018/01/noimg.png
END:VEVENT
END:VCALENDAR