BEGIN:VCALENDAR
VERSION:2.0
PRODID:-//CROSS 中性子科学センター（2019年アーカイブ） - ECPv5.14.1//NONSGML v1.0//EN
CALSCALE:GREGORIAN
METHOD:PUBLISH
X-WR-CALNAME:CROSS 中性子科学センター（2019年アーカイブ）
X-ORIGINAL-URL:https://archive2019nt.cross.or.jp
X-WR-CALDESC:CROSS 中性子科学センター（2019年アーカイブ） のイベント
BEGIN:VTIMEZONE
TZID:Asia/Tokyo
BEGIN:STANDARD
TZOFFSETFROM:+0900
TZOFFSETTO:+0900
TZNAME:JST
DTSTART:20140101T000000
END:STANDARD
END:VTIMEZONE
BEGIN:VEVENT
DTSTART;TZID=Asia/Tokyo:20140303T100000
DTEND;TZID=Asia/Tokyo:20140303T173000
DTSTAMP:20260426T034850
CREATED:20140303T144813Z
LAST-MODIFIED:20180307T081245Z
UID:5442-1393840800-1393867800@archive2019nt.cross.or.jp
SUMMARY:第5回中性子小角散乱解析法研究会
DESCRIPTION:第5回中性子小角散乱解析法研究会～金属材料への適用に向けた産・学・官の取り組み～\n金属材料の物理的・化学的性質は、含有する元素の種類や量、あるいは加工方法、熱処理方法などにより変化するミクロ組織と密接に関係します。金属材料の性質を理解するためには、ミクロ組織を把握することが重要です。しかし、電子顕微鏡などによる従来の組織観察手法で得られるミクロ組織の情報からマクロな材料特性を理解することは、スケールの違いから非常に困難です。このスケールの溝を埋める方法が、ミクロ組織の平均情報を効果的に測定できる「小角散乱法」です。今回の中性子小角散乱解析法研究会は、学術界と産業界で最先端の金属材料研究を行っている研究者に集っていただき、「金属材料」をテーマに開催します。中性子やX線による小角散乱法を利用して研究されている方や、小角散乱は利用せず、ミクロ組織の立場から研究されている方の双方から話題を提供していただくことにより、小角散乱法によって拓かれる新たな金属材料の研究領域を探索致します。また、若手とベテラン研究者に参加していただき、双方からの活発な討論を通して、知識を継承し、新たな研究の発芽の場としたいとも考えています。\n開催日時\n2014年3月3日（月） 10:00～17:30 \n場所\n研究社英語センター 地下2階 大会議室〒162-0825 新宿区神楽坂1-2Tel: 03-3269-4331 \nJR中央・総武線飯田橋駅西口徒歩約3分東京メトロ南北線・有楽町線飯田橋駅B2a、B3出口徒歩約7分 \n申込方法\n下記の内容をご記入のうえ、メールでお申し込みください。——————————————– (1) お名前 (2) ご所属 (3) ご連絡先 （電話番号、メールアドレス） (4) 懇親会に  参加する・参加しない （どちらか消してください）＊懇親会への参加を当日キャンセルされた場合、会費をいただきますのでご了承ください。——————————————– \n【申込み、問い合わせ先】中性子産業利用推進協議会事務局 桐原由美子Email: info＠j-neutron.com \n懇親会\n神楽坂の「ラ・カシェット」で懇親会を開催します。参加者のざっくばらんな意見の交換の場になります。ぜひご参加ください。参加希望者は研究会の参加申し込み時に登録してください。当日も受け付けます。会費は当日いただきます。 \n\n\n会費:\n¥4\,000\n\n\n時間:\n17:45～19:30\n\n\n会場:\n神楽坂 ラ・カシェット〒162-0825 東京都新宿区神楽坂1-10 三経第22 ビル3FTel: 03-3513-0823\n\n\nプログラム\n\n\n10:00 – 10:05\n開会挨拶\n杉山正明（京都大学原子炉実験所）\n\n\n10:05 – 10:15\n趣旨説明\n諸岡 聡 （首都大学東京）\n\n\n座長: 杉山正明 （京都大学原子炉研究所）\n\n\n10:15 – 10:45\n（未定）\n大沼正人 （北海道大学）\n\n\n10:45 – 11:15\nJ-PARC大強度型中性子小中角散乱装置「大観」の現状\n大石一城 （CROSS東海）\n\n\n11:15 – 11:45\n（未定）\n佐藤眞直（高輝度光科学研究センター）\n\n\n11:45 – 12:15\n（未定）\n山崎悟志 （古河電工）\n\n\n12:15 – 13:15\n昼休み\n\n\n座長: 古坂道弘 （北海道大学）\n\n\n13:15 – 14:15\n（未定）\n奥田浩司 （京都大学）\n\n\n14:15 – 14:45\n中性子小角散乱 – ブラッグエッジ同時解析法による鋼中析出物と母相の同時解析\n大場洋次郎（京都大学原子炉実験所）\n\n\n14:45 – 15:15\n超微細炭化物を用いたフェライト組織の高強度化\n船川義正 （JFEスチール）\n\n\n15:15 – 15:30\n休憩\n\n\n座長: 友田 陽 （茨城大学）\n\n\n15:30 – 16:00\n最近のTEM技法による金属材料組織の観察事例\n波多 聰 （九州大学）\n\n\n16:00 – 16:30\n微細介在物分散による厚鋼板の溶接熱影響部靱性改善と鉄鋼材料への小角散乱適用に関する期待\n新宅祥晃 （新日鐵住金）\n\n\n16:30 – 17:00\n巨大ひずみ加工により作製した高密度格子欠陥金属材料における力学的高機能化メカニズム解明への量子ビーム解析の適用\n戸高義一（豊橋技術科学大学）\n\n\n17:00 – 17:30\n中性子回折/小角散乱法による軟質および硬質粒子を有する析出強化鋼の変形解析\n諸岡 聡 （首都大学東京）\n\n\n主催\n中性子小角散乱解析法研究会京都大学原子炉実験所 \n共催\n中性子産業利用推進協議会茨城県中性子利用促進研究会総合科学研究機構 東海事業センター （CROSS東海）SPRUC小角散乱研究会 \n協賛\nJ-PARC/MLF利用者懇談会
URL:https://archive2019nt.cross.or.jp/events/v14007/
LOCATION:研究社英語センタービル 地下2階大会議室\, 神楽坂1-2\, 新宿区\, 東京都\, 1620825\, Japan
CATEGORIES:研究会
ATTACH;FMTTYPE=image/png:https://archive2019nt.cross.or.jp/wp/wp-content/uploads/2018/01/noimg.png
END:VEVENT
END:VCALENDAR